BEGIN:VCALENDAR
VERSION:2.0
PRODID:-//Col. Paul Cook (Ret.) First District Supervisor - ECPv6.15.14//NONSGML v1.0//EN
CALSCALE:GREGORIAN
METHOD:PUBLISH
X-ORIGINAL-URL:https://bosd1.sbcounty.gov
X-WR-CALDESC:Events for Col. Paul Cook (Ret.) First District Supervisor
REFRESH-INTERVAL;VALUE=DURATION:PT1H
X-Robots-Tag:noindex
X-PUBLISHED-TTL:PT1H
BEGIN:VTIMEZONE
TZID:America/Los_Angeles
BEGIN:DAYLIGHT
TZOFFSETFROM:-0800
TZOFFSETTO:-0700
TZNAME:PDT
DTSTART:20220313T100000
END:DAYLIGHT
BEGIN:STANDARD
TZOFFSETFROM:-0700
TZOFFSETTO:-0800
TZNAME:PST
DTSTART:20221106T090000
END:STANDARD
BEGIN:DAYLIGHT
TZOFFSETFROM:-0800
TZOFFSETTO:-0700
TZNAME:PDT
DTSTART:20230312T100000
END:DAYLIGHT
BEGIN:STANDARD
TZOFFSETFROM:-0700
TZOFFSETTO:-0800
TZNAME:PST
DTSTART:20231105T090000
END:STANDARD
BEGIN:DAYLIGHT
TZOFFSETFROM:-0800
TZOFFSETTO:-0700
TZNAME:PDT
DTSTART:20240310T100000
END:DAYLIGHT
BEGIN:STANDARD
TZOFFSETFROM:-0700
TZOFFSETTO:-0800
TZNAME:PST
DTSTART:20241103T090000
END:STANDARD
END:VTIMEZONE
BEGIN:VEVENT
DTSTART;TZID=America/Los_Angeles:20231202T160000
DTEND;TZID=America/Los_Angeles:20231202T190000
DTSTAMP:20260422T065315
CREATED:20230926T164749Z
LAST-MODIFIED:20230926T164749Z
UID:10004535-1701532800-1701543600@bosd1.sbcounty.gov
SUMMARY:Victorville Festival of Lights & Tree Lighting
DESCRIPTION:Join the City of Victorville for a cup of cocoa\, musical performances\, and a beautiful light display set to music. Take a horse drawn carriage ride and get a picture with Santa Claus. Rumor has it\, they’ll even have ice skating this year!
URL:https://bosd1.sbcounty.gov/event/victorville-festival-of-lights-tree-lighting/
LOCATION:Victorville City Hall\, 14343 Civic Drive\, Victorville\, CA\, 92395\, United States
CATEGORIES:Community Events
ATTACH;FMTTYPE=image/jpeg:https://bosd1.sbcounty.gov/wp-content/uploads/sites/103/2023/09/Victorville-Christmas-Tree-Lighting.jpg
END:VEVENT
BEGIN:VEVENT
DTSTART;TZID=America/Los_Angeles:20231121T180000
DTEND;TZID=America/Los_Angeles:20231121T200000
DTSTAMP:20260422T065315
CREATED:20231109T180839Z
LAST-MODIFIED:20231109T182639Z
UID:10004649-1700589600-1700596800@bosd1.sbcounty.gov
SUMMARY:Victorville City Council Meeting
DESCRIPTION:Victorville City Council Meetings are held the 1st and 3rd Tuesday of each month at 6:00 p.m. in Council Chambers located at City Hall 14343 Civic Drive. The City Council agenda is posted prior to the Council meeting on the City’s website. Meeting Agendas \n\nDates are subject to change\, especially during the holidays.
URL:https://bosd1.sbcounty.gov/event/victorville-city-council-meeting/2023-11-21/
LOCATION:Victorville City Hall\, 14343 Civic Drive\, Victorville\, CA\, 92395\, United States
CATEGORIES:Meetings
ATTACH;FMTTYPE=image/jpeg:https://bosd1.sbcounty.gov/wp-content/uploads/sites/103/2023/11/City-of-Victorville.jpg
END:VEVENT
BEGIN:VEVENT
DTSTART;TZID=America/Los_Angeles:20231027T170000
DTEND;TZID=America/Los_Angeles:20231027T200000
DTSTAMP:20260422T065315
CREATED:20230926T163706Z
LAST-MODIFIED:20230926T163706Z
UID:10004520-1698426000-1698436800@bosd1.sbcounty.gov
SUMMARY:Hallow Boo Drive Thru Trunk or Treat
DESCRIPTION:Join the City of Victorville for this Spooktacular trunk or treat that gets bigger and better every year! Free candy and giveaways will be distributed while supplies last
URL:https://bosd1.sbcounty.gov/event/hallow-boo-drive-thru-trunk-or-treat/
LOCATION:Victorville City Hall\, 14343 Civic Drive\, Victorville\, CA\, 92395\, United States
CATEGORIES:Community Events
ATTACH;FMTTYPE=image/jpeg:https://bosd1.sbcounty.gov/wp-content/uploads/sites/103/2023/09/County-Blog-Photos-3.jpg
END:VEVENT
BEGIN:VEVENT
DTSTART;TZID=America/Los_Angeles:20231021T080000
DTEND;TZID=America/Los_Angeles:20231021T113000
DTSTAMP:20260422T065315
CREATED:20230919T173309Z
LAST-MODIFIED:20230919T174135Z
UID:10004391-1697875200-1697887800@bosd1.sbcounty.gov
SUMMARY:City of Victorville Fall Community Cleanup
DESCRIPTION:The City of Victorville holds two city-wide Community Cleanup Days will hold its next event on Oct. 21. The Victorville Community Cleanup Day is a fun way for families\, friends\, and coworkers to join together to take care of our desert environment\, show community support\, and keep Victorville a clean and beautiful place to live and work. The registration deadline is Oct. 6 at VictorvilleCA.gov/CCU. For sponsorship information\, call 760.955.3306 \nCommunity Cleanup Days are outdoor events and depend on volunteers to be successful. All volunteers must register\, which includes an event liability waiver. Minors can participate\, but must have parent/guardian permission and provide parent/guardian contact information. Volunteers aged 14 and younger must have a parent/guardian accompany them on the service project. High School volunteers (aged 15 through 17) may participate without a parent/guardian present\, but must be part of a school/civic group with adult supervision. Young children are not recommended at this event. \nVolunteers work in teams at multiple locations throughout the City from 8:00 a.m. to 11:30 a.m. to pick up litter from roadsides. Volunteers receive a free event t-shirt (while supplies last) and coupons for a discounted lunch at participating local restaurants. The City also provides volunteers with bottled water\, gloves\, trash bags\, and litter sticks. The City disposes of all the trash/litter collected.
URL:https://bosd1.sbcounty.gov/event/city-of-victorville-fall-community-cleanup/
LOCATION:Victorville City Hall\, 14343 Civic Drive\, Victorville\, CA\, 92395\, United States
CATEGORIES:Community Cleanups
ATTACH;FMTTYPE=image/jpeg:https://bosd1.sbcounty.gov/wp-content/uploads/sites/103/2023/09/Victorville-Community-Cleanup.jpg
END:VEVENT
BEGIN:VEVENT
DTSTART;TZID=America/Los_Angeles:20231007T130000
DTEND;TZID=America/Los_Angeles:20231007T190000
DTSTAMP:20260422T065315
CREATED:20230919T172614Z
LAST-MODIFIED:20240125T235229Z
UID:10004388-1696683600-1696705200@bosd1.sbcounty.gov
SUMMARY:Victorville Fall Festival
DESCRIPTION:The City of Victorville’s Fall Festival is planned for Oct. 7. The event runs from 1 p.m. to 7 p.m. in front of City Hall\, 14343 Civic Dr. This year will feature a lineup of live entertainment\, craft & food vendors\, a Kids Zone\, pet adoption clinic\, beer garden\, and more! All rides and entertainment are FREE!
URL:https://bosd1.sbcounty.gov/event/victorville-fall-festival/
LOCATION:Victorville City Hall\, 14343 Civic Drive\, Victorville\, CA\, 92395\, United States
CATEGORIES:Community Events
ATTACH;FMTTYPE=image/jpeg:https://bosd1.sbcounty.gov/wp-content/uploads/sites/103/2023/09/Victorville-Fall-Festival.jpg
END:VEVENT
END:VCALENDAR