BEGIN:VCALENDAR
VERSION:2.0
PRODID:-//Col. Paul Cook (Ret.) First District Supervisor - ECPv6.15.14//NONSGML v1.0//EN
CALSCALE:GREGORIAN
METHOD:PUBLISH
X-ORIGINAL-URL:https://bosd1.sbcounty.gov
X-WR-CALDESC:Events for Col. Paul Cook (Ret.) First District Supervisor
REFRESH-INTERVAL;VALUE=DURATION:PT1H
X-Robots-Tag:noindex
X-PUBLISHED-TTL:PT1H
BEGIN:VTIMEZONE
TZID:America/Los_Angeles
BEGIN:DAYLIGHT
TZOFFSETFROM:-0800
TZOFFSETTO:-0700
TZNAME:PDT
DTSTART:20230312T100000
END:DAYLIGHT
BEGIN:STANDARD
TZOFFSETFROM:-0700
TZOFFSETTO:-0800
TZNAME:PST
DTSTART:20231105T090000
END:STANDARD
BEGIN:DAYLIGHT
TZOFFSETFROM:-0800
TZOFFSETTO:-0700
TZNAME:PDT
DTSTART:20240310T100000
END:DAYLIGHT
BEGIN:STANDARD
TZOFFSETFROM:-0700
TZOFFSETTO:-0800
TZNAME:PST
DTSTART:20241103T090000
END:STANDARD
BEGIN:DAYLIGHT
TZOFFSETFROM:-0800
TZOFFSETTO:-0700
TZNAME:PDT
DTSTART:20250309T100000
END:DAYLIGHT
BEGIN:STANDARD
TZOFFSETFROM:-0700
TZOFFSETTO:-0800
TZNAME:PST
DTSTART:20251102T090000
END:STANDARD
BEGIN:DAYLIGHT
TZOFFSETFROM:-0800
TZOFFSETTO:-0700
TZNAME:PDT
DTSTART:20260308T100000
END:DAYLIGHT
BEGIN:STANDARD
TZOFFSETFROM:-0700
TZOFFSETTO:-0800
TZNAME:PST
DTSTART:20261101T090000
END:STANDARD
END:VTIMEZONE
BEGIN:VEVENT
DTSTART;TZID=America/Los_Angeles:20250401T180000
DTEND;TZID=America/Los_Angeles:20250401T200000
DTSTAMP:20260421T050025
CREATED:20240309T152252Z
LAST-MODIFIED:20240309T152252Z
UID:10004889-1743530400-1743537600@bosd1.sbcounty.gov
SUMMARY:Victorville City Council Meeting
DESCRIPTION:Victorville City Council Meetings are held the 1st and 3rd Tuesday of each month at 6:00 p.m. in Council Chambers located at City Hall 14343 Civic Drive. The City Council agenda is posted prior to the Council meeting on the City’s website. Meeting Agendas \n\nDates are subject to change\, especially during the holidays.
URL:https://bosd1.sbcounty.gov/event/victorville-city-council-meeting/2025-04-01/
LOCATION:Victorville City Hall\, 14343 Civic Drive\, Victorville\, CA\, 92395\, United States
CATEGORIES:Meetings
ATTACH;FMTTYPE=image/jpeg:https://bosd1.sbcounty.gov/wp-content/uploads/sites/103/2023/11/City-of-Victorville.jpg
END:VEVENT
BEGIN:VEVENT
DTSTART;TZID=America/Los_Angeles:20250318T180000
DTEND;TZID=America/Los_Angeles:20250318T200000
DTSTAMP:20260421T050025
CREATED:20231109T180839Z
LAST-MODIFIED:20231109T182639Z
UID:10004697-1742320800-1742328000@bosd1.sbcounty.gov
SUMMARY:Victorville City Council Meeting
DESCRIPTION:Victorville City Council Meetings are held the 1st and 3rd Tuesday of each month at 6:00 p.m. in Council Chambers located at City Hall 14343 Civic Drive. The City Council agenda is posted prior to the Council meeting on the City’s website. Meeting Agendas \n\nDates are subject to change\, especially during the holidays.
URL:https://bosd1.sbcounty.gov/event/victorville-city-council-meeting/2025-03-18/
LOCATION:Victorville City Hall\, 14343 Civic Drive\, Victorville\, CA\, 92395\, United States
CATEGORIES:Meetings
ATTACH;FMTTYPE=image/jpeg:https://bosd1.sbcounty.gov/wp-content/uploads/sites/103/2023/11/City-of-Victorville.jpg
END:VEVENT
BEGIN:VEVENT
DTSTART;TZID=America/Los_Angeles:20250304T180000
DTEND;TZID=America/Los_Angeles:20250304T200000
DTSTAMP:20260421T050025
CREATED:20240309T152252Z
LAST-MODIFIED:20240309T152252Z
UID:10004886-1741111200-1741118400@bosd1.sbcounty.gov
SUMMARY:Victorville City Council Meeting
DESCRIPTION:Victorville City Council Meetings are held the 1st and 3rd Tuesday of each month at 6:00 p.m. in Council Chambers located at City Hall 14343 Civic Drive. The City Council agenda is posted prior to the Council meeting on the City’s website. Meeting Agendas \n\nDates are subject to change\, especially during the holidays.
URL:https://bosd1.sbcounty.gov/event/victorville-city-council-meeting/2025-03-04/
LOCATION:Victorville City Hall\, 14343 Civic Drive\, Victorville\, CA\, 92395\, United States
CATEGORIES:Meetings
ATTACH;FMTTYPE=image/jpeg:https://bosd1.sbcounty.gov/wp-content/uploads/sites/103/2023/11/City-of-Victorville.jpg
END:VEVENT
BEGIN:VEVENT
DTSTART;TZID=America/Los_Angeles:20250218T180000
DTEND;TZID=America/Los_Angeles:20250218T200000
DTSTAMP:20260421T050025
CREATED:20231109T180839Z
LAST-MODIFIED:20231109T182639Z
UID:10004694-1739901600-1739908800@bosd1.sbcounty.gov
SUMMARY:Victorville City Council Meeting
DESCRIPTION:Victorville City Council Meetings are held the 1st and 3rd Tuesday of each month at 6:00 p.m. in Council Chambers located at City Hall 14343 Civic Drive. The City Council agenda is posted prior to the Council meeting on the City’s website. Meeting Agendas \n\nDates are subject to change\, especially during the holidays.
URL:https://bosd1.sbcounty.gov/event/victorville-city-council-meeting/2025-02-18/
LOCATION:Victorville City Hall\, 14343 Civic Drive\, Victorville\, CA\, 92395\, United States
CATEGORIES:Meetings
ATTACH;FMTTYPE=image/jpeg:https://bosd1.sbcounty.gov/wp-content/uploads/sites/103/2023/11/City-of-Victorville.jpg
END:VEVENT
BEGIN:VEVENT
DTSTART;TZID=America/Los_Angeles:20250204T180000
DTEND;TZID=America/Los_Angeles:20250204T200000
DTSTAMP:20260421T050025
CREATED:20240309T152252Z
LAST-MODIFIED:20240309T152252Z
UID:10004883-1738692000-1738699200@bosd1.sbcounty.gov
SUMMARY:Victorville City Council Meeting
DESCRIPTION:Victorville City Council Meetings are held the 1st and 3rd Tuesday of each month at 6:00 p.m. in Council Chambers located at City Hall 14343 Civic Drive. The City Council agenda is posted prior to the Council meeting on the City’s website. Meeting Agendas \n\nDates are subject to change\, especially during the holidays.
URL:https://bosd1.sbcounty.gov/event/victorville-city-council-meeting/2025-02-04/
LOCATION:Victorville City Hall\, 14343 Civic Drive\, Victorville\, CA\, 92395\, United States
CATEGORIES:Meetings
ATTACH;FMTTYPE=image/jpeg:https://bosd1.sbcounty.gov/wp-content/uploads/sites/103/2023/11/City-of-Victorville.jpg
END:VEVENT
BEGIN:VEVENT
DTSTART;TZID=America/Los_Angeles:20250121T180000
DTEND;TZID=America/Los_Angeles:20250121T200000
DTSTAMP:20260421T050025
CREATED:20231109T180839Z
LAST-MODIFIED:20231109T182639Z
UID:10004691-1737482400-1737489600@bosd1.sbcounty.gov
SUMMARY:Victorville City Council Meeting
DESCRIPTION:Victorville City Council Meetings are held the 1st and 3rd Tuesday of each month at 6:00 p.m. in Council Chambers located at City Hall 14343 Civic Drive. The City Council agenda is posted prior to the Council meeting on the City’s website. Meeting Agendas \n\nDates are subject to change\, especially during the holidays.
URL:https://bosd1.sbcounty.gov/event/victorville-city-council-meeting/2025-01-21/
LOCATION:Victorville City Hall\, 14343 Civic Drive\, Victorville\, CA\, 92395\, United States
CATEGORIES:Meetings
ATTACH;FMTTYPE=image/jpeg:https://bosd1.sbcounty.gov/wp-content/uploads/sites/103/2023/11/City-of-Victorville.jpg
END:VEVENT
BEGIN:VEVENT
DTSTART;TZID=America/Los_Angeles:20250107T180000
DTEND;TZID=America/Los_Angeles:20250107T200000
DTSTAMP:20260421T050025
CREATED:20240309T152252Z
LAST-MODIFIED:20240309T152252Z
UID:10004880-1736272800-1736280000@bosd1.sbcounty.gov
SUMMARY:Victorville City Council Meeting
DESCRIPTION:Victorville City Council Meetings are held the 1st and 3rd Tuesday of each month at 6:00 p.m. in Council Chambers located at City Hall 14343 Civic Drive. The City Council agenda is posted prior to the Council meeting on the City’s website. Meeting Agendas \n\nDates are subject to change\, especially during the holidays.
URL:https://bosd1.sbcounty.gov/event/victorville-city-council-meeting/2025-01-07/
LOCATION:Victorville City Hall\, 14343 Civic Drive\, Victorville\, CA\, 92395\, United States
CATEGORIES:Meetings
ATTACH;FMTTYPE=image/jpeg:https://bosd1.sbcounty.gov/wp-content/uploads/sites/103/2023/11/City-of-Victorville.jpg
END:VEVENT
BEGIN:VEVENT
DTSTART;TZID=America/Los_Angeles:20241217T180000
DTEND;TZID=America/Los_Angeles:20241217T200000
DTSTAMP:20260421T050025
CREATED:20231109T180839Z
LAST-MODIFIED:20231109T182639Z
UID:10004688-1734458400-1734465600@bosd1.sbcounty.gov
SUMMARY:Victorville City Council Meeting
DESCRIPTION:Victorville City Council Meetings are held the 1st and 3rd Tuesday of each month at 6:00 p.m. in Council Chambers located at City Hall 14343 Civic Drive. The City Council agenda is posted prior to the Council meeting on the City’s website. Meeting Agendas \n\nDates are subject to change\, especially during the holidays.
URL:https://bosd1.sbcounty.gov/event/victorville-city-council-meeting/2024-12-17/
LOCATION:Victorville City Hall\, 14343 Civic Drive\, Victorville\, CA\, 92395\, United States
CATEGORIES:Meetings
ATTACH;FMTTYPE=image/jpeg:https://bosd1.sbcounty.gov/wp-content/uploads/sites/103/2023/11/City-of-Victorville.jpg
END:VEVENT
BEGIN:VEVENT
DTSTART;TZID=America/Los_Angeles:20241203T180000
DTEND;TZID=America/Los_Angeles:20241203T200000
DTSTAMP:20260421T050025
CREATED:20240309T152252Z
LAST-MODIFIED:20240309T152252Z
UID:10004877-1733248800-1733256000@bosd1.sbcounty.gov
SUMMARY:Victorville City Council Meeting
DESCRIPTION:Victorville City Council Meetings are held the 1st and 3rd Tuesday of each month at 6:00 p.m. in Council Chambers located at City Hall 14343 Civic Drive. The City Council agenda is posted prior to the Council meeting on the City’s website. Meeting Agendas \n\nDates are subject to change\, especially during the holidays.
URL:https://bosd1.sbcounty.gov/event/victorville-city-council-meeting/2024-12-03/
LOCATION:Victorville City Hall\, 14343 Civic Drive\, Victorville\, CA\, 92395\, United States
CATEGORIES:Meetings
ATTACH;FMTTYPE=image/jpeg:https://bosd1.sbcounty.gov/wp-content/uploads/sites/103/2023/11/City-of-Victorville.jpg
END:VEVENT
BEGIN:VEVENT
DTSTART;TZID=America/Los_Angeles:20241119T180000
DTEND;TZID=America/Los_Angeles:20241119T200000
DTSTAMP:20260421T050025
CREATED:20231109T180839Z
LAST-MODIFIED:20231109T182639Z
UID:10004685-1732039200-1732046400@bosd1.sbcounty.gov
SUMMARY:Victorville City Council Meeting
DESCRIPTION:Victorville City Council Meetings are held the 1st and 3rd Tuesday of each month at 6:00 p.m. in Council Chambers located at City Hall 14343 Civic Drive. The City Council agenda is posted prior to the Council meeting on the City’s website. Meeting Agendas \n\nDates are subject to change\, especially during the holidays.
URL:https://bosd1.sbcounty.gov/event/victorville-city-council-meeting/2024-11-19/
LOCATION:Victorville City Hall\, 14343 Civic Drive\, Victorville\, CA\, 92395\, United States
CATEGORIES:Meetings
ATTACH;FMTTYPE=image/jpeg:https://bosd1.sbcounty.gov/wp-content/uploads/sites/103/2023/11/City-of-Victorville.jpg
END:VEVENT
BEGIN:VEVENT
DTSTART;TZID=America/Los_Angeles:20241105T180000
DTEND;TZID=America/Los_Angeles:20241105T200000
DTSTAMP:20260421T050025
CREATED:20240309T152252Z
LAST-MODIFIED:20240309T152252Z
UID:10004874-1730829600-1730836800@bosd1.sbcounty.gov
SUMMARY:Victorville City Council Meeting
DESCRIPTION:Victorville City Council Meetings are held the 1st and 3rd Tuesday of each month at 6:00 p.m. in Council Chambers located at City Hall 14343 Civic Drive. The City Council agenda is posted prior to the Council meeting on the City’s website. Meeting Agendas \n\nDates are subject to change\, especially during the holidays.
URL:https://bosd1.sbcounty.gov/event/victorville-city-council-meeting/2024-11-05/
LOCATION:Victorville City Hall\, 14343 Civic Drive\, Victorville\, CA\, 92395\, United States
CATEGORIES:Meetings
ATTACH;FMTTYPE=image/jpeg:https://bosd1.sbcounty.gov/wp-content/uploads/sites/103/2023/11/City-of-Victorville.jpg
END:VEVENT
BEGIN:VEVENT
DTSTART;TZID=America/Los_Angeles:20241015T180000
DTEND;TZID=America/Los_Angeles:20241015T200000
DTSTAMP:20260421T050025
CREATED:20231109T180839Z
LAST-MODIFIED:20231109T182639Z
UID:10004682-1729015200-1729022400@bosd1.sbcounty.gov
SUMMARY:Victorville City Council Meeting
DESCRIPTION:Victorville City Council Meetings are held the 1st and 3rd Tuesday of each month at 6:00 p.m. in Council Chambers located at City Hall 14343 Civic Drive. The City Council agenda is posted prior to the Council meeting on the City’s website. Meeting Agendas \n\nDates are subject to change\, especially during the holidays.
URL:https://bosd1.sbcounty.gov/event/victorville-city-council-meeting/2024-10-15/
LOCATION:Victorville City Hall\, 14343 Civic Drive\, Victorville\, CA\, 92395\, United States
CATEGORIES:Meetings
ATTACH;FMTTYPE=image/jpeg:https://bosd1.sbcounty.gov/wp-content/uploads/sites/103/2023/11/City-of-Victorville.jpg
END:VEVENT
BEGIN:VEVENT
DTSTART;TZID=America/Los_Angeles:20241005T130000
DTEND;TZID=America/Los_Angeles:20241005T190000
DTSTAMP:20260421T050025
CREATED:20240827T183537Z
LAST-MODIFIED:20240827T183634Z
UID:10010126-1728133200-1728154800@bosd1.sbcounty.gov
SUMMARY:Victorville Fall Festival
DESCRIPTION:The City of Victorville Fall Festival is planned for Oct. 5! This year we have an amazing lineup of live entertainment\, craft & food vendors\, a Kids Zone\, pet adoption clinic\, beer garden\, and more! \nCome out and join the fun from 1 p.m. to 7 p.m. in front of City Hall\, 14343 Civic Dr. All rides and entertainment are FREE! \nLearn more: VictorvilleCA.gov/SpecialEvents.
URL:https://bosd1.sbcounty.gov/event/victorville-fall-festival-2/
LOCATION:Victorville City Hall\, 14343 Civic Drive\, Victorville\, CA\, 92395\, United States
CATEGORIES:Community Events
ATTACH;FMTTYPE=image/jpeg:https://bosd1.sbcounty.gov/wp-content/uploads/sites/103/2024/08/Fall-fest.jpg
END:VEVENT
BEGIN:VEVENT
DTSTART;TZID=America/Los_Angeles:20241001T180000
DTEND;TZID=America/Los_Angeles:20241001T200000
DTSTAMP:20260421T050025
CREATED:20240309T152252Z
LAST-MODIFIED:20240309T152252Z
UID:10004871-1727805600-1727812800@bosd1.sbcounty.gov
SUMMARY:Victorville City Council Meeting
DESCRIPTION:Victorville City Council Meetings are held the 1st and 3rd Tuesday of each month at 6:00 p.m. in Council Chambers located at City Hall 14343 Civic Drive. The City Council agenda is posted prior to the Council meeting on the City’s website. Meeting Agendas \n\nDates are subject to change\, especially during the holidays.
URL:https://bosd1.sbcounty.gov/event/victorville-city-council-meeting/2024-10-01/
LOCATION:Victorville City Hall\, 14343 Civic Drive\, Victorville\, CA\, 92395\, United States
CATEGORIES:Meetings
ATTACH;FMTTYPE=image/jpeg:https://bosd1.sbcounty.gov/wp-content/uploads/sites/103/2023/11/City-of-Victorville.jpg
END:VEVENT
BEGIN:VEVENT
DTSTART;TZID=America/Los_Angeles:20240917T180000
DTEND;TZID=America/Los_Angeles:20240917T200000
DTSTAMP:20260421T050025
CREATED:20231109T180839Z
LAST-MODIFIED:20231109T182639Z
UID:10004679-1726596000-1726603200@bosd1.sbcounty.gov
SUMMARY:Victorville City Council Meeting
DESCRIPTION:Victorville City Council Meetings are held the 1st and 3rd Tuesday of each month at 6:00 p.m. in Council Chambers located at City Hall 14343 Civic Drive. The City Council agenda is posted prior to the Council meeting on the City’s website. Meeting Agendas \n\nDates are subject to change\, especially during the holidays.
URL:https://bosd1.sbcounty.gov/event/victorville-city-council-meeting/2024-09-17/
LOCATION:Victorville City Hall\, 14343 Civic Drive\, Victorville\, CA\, 92395\, United States
CATEGORIES:Meetings
ATTACH;FMTTYPE=image/jpeg:https://bosd1.sbcounty.gov/wp-content/uploads/sites/103/2023/11/City-of-Victorville.jpg
END:VEVENT
BEGIN:VEVENT
DTSTART;TZID=America/Los_Angeles:20240903T180000
DTEND;TZID=America/Los_Angeles:20240903T200000
DTSTAMP:20260421T050025
CREATED:20240309T152252Z
LAST-MODIFIED:20240309T152252Z
UID:10004868-1725386400-1725393600@bosd1.sbcounty.gov
SUMMARY:Victorville City Council Meeting
DESCRIPTION:Victorville City Council Meetings are held the 1st and 3rd Tuesday of each month at 6:00 p.m. in Council Chambers located at City Hall 14343 Civic Drive. The City Council agenda is posted prior to the Council meeting on the City’s website. Meeting Agendas \n\nDates are subject to change\, especially during the holidays.
URL:https://bosd1.sbcounty.gov/event/victorville-city-council-meeting/2024-09-03/
LOCATION:Victorville City Hall\, 14343 Civic Drive\, Victorville\, CA\, 92395\, United States
CATEGORIES:Meetings
ATTACH;FMTTYPE=image/jpeg:https://bosd1.sbcounty.gov/wp-content/uploads/sites/103/2023/11/City-of-Victorville.jpg
END:VEVENT
BEGIN:VEVENT
DTSTART;TZID=America/Los_Angeles:20240820T180000
DTEND;TZID=America/Los_Angeles:20240820T200000
DTSTAMP:20260421T050025
CREATED:20231109T180839Z
LAST-MODIFIED:20231109T182639Z
UID:10004676-1724176800-1724184000@bosd1.sbcounty.gov
SUMMARY:Victorville City Council Meeting
DESCRIPTION:Victorville City Council Meetings are held the 1st and 3rd Tuesday of each month at 6:00 p.m. in Council Chambers located at City Hall 14343 Civic Drive. The City Council agenda is posted prior to the Council meeting on the City’s website. Meeting Agendas \n\nDates are subject to change\, especially during the holidays.
URL:https://bosd1.sbcounty.gov/event/victorville-city-council-meeting/2024-08-20/
LOCATION:Victorville City Hall\, 14343 Civic Drive\, Victorville\, CA\, 92395\, United States
CATEGORIES:Meetings
ATTACH;FMTTYPE=image/jpeg:https://bosd1.sbcounty.gov/wp-content/uploads/sites/103/2023/11/City-of-Victorville.jpg
END:VEVENT
BEGIN:VEVENT
DTSTART;TZID=America/Los_Angeles:20240806T180000
DTEND;TZID=America/Los_Angeles:20240806T200000
DTSTAMP:20260421T050025
CREATED:20240309T152252Z
LAST-MODIFIED:20240309T152252Z
UID:10004865-1722967200-1722974400@bosd1.sbcounty.gov
SUMMARY:Victorville City Council Meeting
DESCRIPTION:Victorville City Council Meetings are held the 1st and 3rd Tuesday of each month at 6:00 p.m. in Council Chambers located at City Hall 14343 Civic Drive. The City Council agenda is posted prior to the Council meeting on the City’s website. Meeting Agendas \n\nDates are subject to change\, especially during the holidays.
URL:https://bosd1.sbcounty.gov/event/victorville-city-council-meeting/2024-08-06/
LOCATION:Victorville City Hall\, 14343 Civic Drive\, Victorville\, CA\, 92395\, United States
CATEGORIES:Meetings
ATTACH;FMTTYPE=image/jpeg:https://bosd1.sbcounty.gov/wp-content/uploads/sites/103/2023/11/City-of-Victorville.jpg
END:VEVENT
BEGIN:VEVENT
DTSTART;TZID=America/Los_Angeles:20240716T180000
DTEND;TZID=America/Los_Angeles:20240716T200000
DTSTAMP:20260421T050025
CREATED:20231109T180839Z
LAST-MODIFIED:20231109T182639Z
UID:10004673-1721152800-1721160000@bosd1.sbcounty.gov
SUMMARY:Victorville City Council Meeting
DESCRIPTION:Victorville City Council Meetings are held the 1st and 3rd Tuesday of each month at 6:00 p.m. in Council Chambers located at City Hall 14343 Civic Drive. The City Council agenda is posted prior to the Council meeting on the City’s website. Meeting Agendas \n\nDates are subject to change\, especially during the holidays.
URL:https://bosd1.sbcounty.gov/event/victorville-city-council-meeting/2024-07-16/
LOCATION:Victorville City Hall\, 14343 Civic Drive\, Victorville\, CA\, 92395\, United States
CATEGORIES:Meetings
ATTACH;FMTTYPE=image/jpeg:https://bosd1.sbcounty.gov/wp-content/uploads/sites/103/2023/11/City-of-Victorville.jpg
END:VEVENT
BEGIN:VEVENT
DTSTART;TZID=America/Los_Angeles:20240702T180000
DTEND;TZID=America/Los_Angeles:20240702T200000
DTSTAMP:20260421T050025
CREATED:20240309T152252Z
LAST-MODIFIED:20240309T152252Z
UID:10004862-1719943200-1719950400@bosd1.sbcounty.gov
SUMMARY:Victorville City Council Meeting
DESCRIPTION:Victorville City Council Meetings are held the 1st and 3rd Tuesday of each month at 6:00 p.m. in Council Chambers located at City Hall 14343 Civic Drive. The City Council agenda is posted prior to the Council meeting on the City’s website. Meeting Agendas \n\nDates are subject to change\, especially during the holidays.
URL:https://bosd1.sbcounty.gov/event/victorville-city-council-meeting/2024-07-02/
LOCATION:Victorville City Hall\, 14343 Civic Drive\, Victorville\, CA\, 92395\, United States
CATEGORIES:Meetings
ATTACH;FMTTYPE=image/jpeg:https://bosd1.sbcounty.gov/wp-content/uploads/sites/103/2023/11/City-of-Victorville.jpg
END:VEVENT
BEGIN:VEVENT
DTSTART;TZID=America/Los_Angeles:20240618T180000
DTEND;TZID=America/Los_Angeles:20240618T200000
DTSTAMP:20260421T050025
CREATED:20231109T180839Z
LAST-MODIFIED:20231109T182639Z
UID:10004670-1718733600-1718740800@bosd1.sbcounty.gov
SUMMARY:Victorville City Council Meeting
DESCRIPTION:Victorville City Council Meetings are held the 1st and 3rd Tuesday of each month at 6:00 p.m. in Council Chambers located at City Hall 14343 Civic Drive. The City Council agenda is posted prior to the Council meeting on the City’s website. Meeting Agendas \n\nDates are subject to change\, especially during the holidays.
URL:https://bosd1.sbcounty.gov/event/victorville-city-council-meeting/2024-06-18/
LOCATION:Victorville City Hall\, 14343 Civic Drive\, Victorville\, CA\, 92395\, United States
CATEGORIES:Meetings
ATTACH;FMTTYPE=image/jpeg:https://bosd1.sbcounty.gov/wp-content/uploads/sites/103/2023/11/City-of-Victorville.jpg
END:VEVENT
BEGIN:VEVENT
DTSTART;TZID=America/Los_Angeles:20240604T180000
DTEND;TZID=America/Los_Angeles:20240604T200000
DTSTAMP:20260421T050025
CREATED:20240309T152252Z
LAST-MODIFIED:20240309T152252Z
UID:10004859-1717524000-1717531200@bosd1.sbcounty.gov
SUMMARY:Victorville City Council Meeting
DESCRIPTION:Victorville City Council Meetings are held the 1st and 3rd Tuesday of each month at 6:00 p.m. in Council Chambers located at City Hall 14343 Civic Drive. The City Council agenda is posted prior to the Council meeting on the City’s website. Meeting Agendas \n\nDates are subject to change\, especially during the holidays.
URL:https://bosd1.sbcounty.gov/event/victorville-city-council-meeting/2024-06-04/
LOCATION:Victorville City Hall\, 14343 Civic Drive\, Victorville\, CA\, 92395\, United States
CATEGORIES:Meetings
ATTACH;FMTTYPE=image/jpeg:https://bosd1.sbcounty.gov/wp-content/uploads/sites/103/2023/11/City-of-Victorville.jpg
END:VEVENT
BEGIN:VEVENT
DTSTART;TZID=America/Los_Angeles:20240521T180000
DTEND;TZID=America/Los_Angeles:20240521T200000
DTSTAMP:20260421T050025
CREATED:20231109T180839Z
LAST-MODIFIED:20231109T182639Z
UID:10004667-1716314400-1716321600@bosd1.sbcounty.gov
SUMMARY:Victorville City Council Meeting
DESCRIPTION:Victorville City Council Meetings are held the 1st and 3rd Tuesday of each month at 6:00 p.m. in Council Chambers located at City Hall 14343 Civic Drive. The City Council agenda is posted prior to the Council meeting on the City’s website. Meeting Agendas \n\nDates are subject to change\, especially during the holidays.
URL:https://bosd1.sbcounty.gov/event/victorville-city-council-meeting/2024-05-21/
LOCATION:Victorville City Hall\, 14343 Civic Drive\, Victorville\, CA\, 92395\, United States
CATEGORIES:Meetings
ATTACH;FMTTYPE=image/jpeg:https://bosd1.sbcounty.gov/wp-content/uploads/sites/103/2023/11/City-of-Victorville.jpg
END:VEVENT
BEGIN:VEVENT
DTSTART;TZID=America/Los_Angeles:20240507T180000
DTEND;TZID=America/Los_Angeles:20240507T200000
DTSTAMP:20260421T050025
CREATED:20240309T152252Z
LAST-MODIFIED:20240309T152252Z
UID:10004856-1715104800-1715112000@bosd1.sbcounty.gov
SUMMARY:Victorville City Council Meeting
DESCRIPTION:Victorville City Council Meetings are held the 1st and 3rd Tuesday of each month at 6:00 p.m. in Council Chambers located at City Hall 14343 Civic Drive. The City Council agenda is posted prior to the Council meeting on the City’s website. Meeting Agendas \n\nDates are subject to change\, especially during the holidays.
URL:https://bosd1.sbcounty.gov/event/victorville-city-council-meeting/2024-05-07/
LOCATION:Victorville City Hall\, 14343 Civic Drive\, Victorville\, CA\, 92395\, United States
CATEGORIES:Meetings
ATTACH;FMTTYPE=image/jpeg:https://bosd1.sbcounty.gov/wp-content/uploads/sites/103/2023/11/City-of-Victorville.jpg
END:VEVENT
BEGIN:VEVENT
DTSTART;TZID=America/Los_Angeles:20240416T180000
DTEND;TZID=America/Los_Angeles:20240416T200000
DTSTAMP:20260421T050025
CREATED:20231109T180839Z
LAST-MODIFIED:20231109T182639Z
UID:10004664-1713290400-1713297600@bosd1.sbcounty.gov
SUMMARY:Victorville City Council Meeting
DESCRIPTION:Victorville City Council Meetings are held the 1st and 3rd Tuesday of each month at 6:00 p.m. in Council Chambers located at City Hall 14343 Civic Drive. The City Council agenda is posted prior to the Council meeting on the City’s website. Meeting Agendas \n\nDates are subject to change\, especially during the holidays.
URL:https://bosd1.sbcounty.gov/event/victorville-city-council-meeting/2024-04-16/
LOCATION:Victorville City Hall\, 14343 Civic Drive\, Victorville\, CA\, 92395\, United States
CATEGORIES:Meetings
ATTACH;FMTTYPE=image/jpeg:https://bosd1.sbcounty.gov/wp-content/uploads/sites/103/2023/11/City-of-Victorville.jpg
END:VEVENT
BEGIN:VEVENT
DTSTART;TZID=America/Los_Angeles:20240402T180000
DTEND;TZID=America/Los_Angeles:20240402T200000
DTSTAMP:20260421T050025
CREATED:20240309T152252Z
LAST-MODIFIED:20240309T152252Z
UID:10004853-1712080800-1712088000@bosd1.sbcounty.gov
SUMMARY:Victorville City Council Meeting
DESCRIPTION:Victorville City Council Meetings are held the 1st and 3rd Tuesday of each month at 6:00 p.m. in Council Chambers located at City Hall 14343 Civic Drive. The City Council agenda is posted prior to the Council meeting on the City’s website. Meeting Agendas \n\nDates are subject to change\, especially during the holidays.
URL:https://bosd1.sbcounty.gov/event/victorville-city-council-meeting/2024-04-02/
LOCATION:Victorville City Hall\, 14343 Civic Drive\, Victorville\, CA\, 92395\, United States
CATEGORIES:Meetings
ATTACH;FMTTYPE=image/jpeg:https://bosd1.sbcounty.gov/wp-content/uploads/sites/103/2023/11/City-of-Victorville.jpg
END:VEVENT
BEGIN:VEVENT
DTSTART;TZID=America/Los_Angeles:20240319T180000
DTEND;TZID=America/Los_Angeles:20240319T200000
DTSTAMP:20260421T050025
CREATED:20231109T180839Z
LAST-MODIFIED:20231109T182639Z
UID:10004661-1710871200-1710878400@bosd1.sbcounty.gov
SUMMARY:Victorville City Council Meeting
DESCRIPTION:Victorville City Council Meetings are held the 1st and 3rd Tuesday of each month at 6:00 p.m. in Council Chambers located at City Hall 14343 Civic Drive. The City Council agenda is posted prior to the Council meeting on the City’s website. Meeting Agendas \n\nDates are subject to change\, especially during the holidays.
URL:https://bosd1.sbcounty.gov/event/victorville-city-council-meeting/2024-03-19/
LOCATION:Victorville City Hall\, 14343 Civic Drive\, Victorville\, CA\, 92395\, United States
CATEGORIES:Meetings
ATTACH;FMTTYPE=image/jpeg:https://bosd1.sbcounty.gov/wp-content/uploads/sites/103/2023/11/City-of-Victorville.jpg
END:VEVENT
BEGIN:VEVENT
DTSTART;TZID=America/Los_Angeles:20240305T180000
DTEND;TZID=America/Los_Angeles:20240305T200000
DTSTAMP:20260421T050025
CREATED:20240309T152252Z
LAST-MODIFIED:20240309T152252Z
UID:10004850-1709661600-1709668800@bosd1.sbcounty.gov
SUMMARY:Victorville City Council Meeting
DESCRIPTION:Victorville City Council Meetings are held the 1st and 3rd Tuesday of each month at 6:00 p.m. in Council Chambers located at City Hall 14343 Civic Drive. The City Council agenda is posted prior to the Council meeting on the City’s website. Meeting Agendas \n\nDates are subject to change\, especially during the holidays.
URL:https://bosd1.sbcounty.gov/event/victorville-city-council-meeting/2024-03-05/
LOCATION:Victorville City Hall\, 14343 Civic Drive\, Victorville\, CA\, 92395\, United States
CATEGORIES:Meetings
ATTACH;FMTTYPE=image/jpeg:https://bosd1.sbcounty.gov/wp-content/uploads/sites/103/2023/11/City-of-Victorville.jpg
END:VEVENT
BEGIN:VEVENT
DTSTART;TZID=America/Los_Angeles:20240220T180000
DTEND;TZID=America/Los_Angeles:20240220T200000
DTSTAMP:20260421T050025
CREATED:20231109T180839Z
LAST-MODIFIED:20231109T182639Z
UID:10004658-1708452000-1708459200@bosd1.sbcounty.gov
SUMMARY:Victorville City Council Meeting
DESCRIPTION:Victorville City Council Meetings are held the 1st and 3rd Tuesday of each month at 6:00 p.m. in Council Chambers located at City Hall 14343 Civic Drive. The City Council agenda is posted prior to the Council meeting on the City’s website. Meeting Agendas \n\nDates are subject to change\, especially during the holidays.
URL:https://bosd1.sbcounty.gov/event/victorville-city-council-meeting/2024-02-20/
LOCATION:Victorville City Hall\, 14343 Civic Drive\, Victorville\, CA\, 92395\, United States
CATEGORIES:Meetings
ATTACH;FMTTYPE=image/jpeg:https://bosd1.sbcounty.gov/wp-content/uploads/sites/103/2023/11/City-of-Victorville.jpg
END:VEVENT
BEGIN:VEVENT
DTSTART;TZID=America/Los_Angeles:20240206T180000
DTEND;TZID=America/Los_Angeles:20240206T200000
DTSTAMP:20260421T050025
CREATED:20240309T152252Z
LAST-MODIFIED:20240309T152252Z
UID:10004847-1707242400-1707249600@bosd1.sbcounty.gov
SUMMARY:Victorville City Council Meeting
DESCRIPTION:Victorville City Council Meetings are held the 1st and 3rd Tuesday of each month at 6:00 p.m. in Council Chambers located at City Hall 14343 Civic Drive. The City Council agenda is posted prior to the Council meeting on the City’s website. Meeting Agendas \n\nDates are subject to change\, especially during the holidays.
URL:https://bosd1.sbcounty.gov/event/victorville-city-council-meeting/2024-02-06/
LOCATION:Victorville City Hall\, 14343 Civic Drive\, Victorville\, CA\, 92395\, United States
CATEGORIES:Meetings
ATTACH;FMTTYPE=image/jpeg:https://bosd1.sbcounty.gov/wp-content/uploads/sites/103/2023/11/City-of-Victorville.jpg
END:VEVENT
END:VCALENDAR