BEGIN:VCALENDAR
VERSION:2.0
PRODID:-//Col. Paul Cook (Ret.) First District Supervisor - ECPv6.15.14//NONSGML v1.0//EN
CALSCALE:GREGORIAN
METHOD:PUBLISH
X-ORIGINAL-URL:https://bosd1.sbcounty.gov
X-WR-CALDESC:Events for Col. Paul Cook (Ret.) First District Supervisor
REFRESH-INTERVAL;VALUE=DURATION:PT1H
X-Robots-Tag:noindex
X-PUBLISHED-TTL:PT1H
BEGIN:VTIMEZONE
TZID:America/Los_Angeles
BEGIN:DAYLIGHT
TZOFFSETFROM:-0800
TZOFFSETTO:-0700
TZNAME:PDT
DTSTART:20240310T100000
END:DAYLIGHT
BEGIN:STANDARD
TZOFFSETFROM:-0700
TZOFFSETTO:-0800
TZNAME:PST
DTSTART:20241103T090000
END:STANDARD
BEGIN:DAYLIGHT
TZOFFSETFROM:-0800
TZOFFSETTO:-0700
TZNAME:PDT
DTSTART:20250309T100000
END:DAYLIGHT
BEGIN:STANDARD
TZOFFSETFROM:-0700
TZOFFSETTO:-0800
TZNAME:PST
DTSTART:20251102T090000
END:STANDARD
BEGIN:DAYLIGHT
TZOFFSETFROM:-0800
TZOFFSETTO:-0700
TZNAME:PDT
DTSTART:20260308T100000
END:DAYLIGHT
BEGIN:STANDARD
TZOFFSETFROM:-0700
TZOFFSETTO:-0800
TZNAME:PST
DTSTART:20261101T090000
END:STANDARD
BEGIN:DAYLIGHT
TZOFFSETFROM:-0800
TZOFFSETTO:-0700
TZNAME:PDT
DTSTART:20270314T100000
END:DAYLIGHT
BEGIN:STANDARD
TZOFFSETFROM:-0700
TZOFFSETTO:-0800
TZNAME:PST
DTSTART:20271107T090000
END:STANDARD
END:VTIMEZONE
BEGIN:VEVENT
DTSTART;TZID=America/Los_Angeles:20260407T180000
DTEND;TZID=America/Los_Angeles:20260407T200000
DTSTAMP:20260420T223059
CREATED:20240309T152252Z
LAST-MODIFIED:20240309T152252Z
UID:10004925-1775584800-1775592000@bosd1.sbcounty.gov
SUMMARY:Victorville City Council Meeting
DESCRIPTION:Victorville City Council Meetings are held the 1st and 3rd Tuesday of each month at 6:00 p.m. in Council Chambers located at City Hall 14343 Civic Drive. The City Council agenda is posted prior to the Council meeting on the City’s website. Meeting Agendas \n\nDates are subject to change\, especially during the holidays.
URL:https://bosd1.sbcounty.gov/event/victorville-city-council-meeting/2026-04-07/
LOCATION:Victorville City Hall\, 14343 Civic Drive\, Victorville\, CA\, 92395\, United States
CATEGORIES:Meetings
ATTACH;FMTTYPE=image/jpeg:https://bosd1.sbcounty.gov/wp-content/uploads/sites/103/2023/11/City-of-Victorville.jpg
END:VEVENT
BEGIN:VEVENT
DTSTART;TZID=America/Los_Angeles:20260317T180000
DTEND;TZID=America/Los_Angeles:20260317T200000
DTSTAMP:20260420T223059
CREATED:20231109T180839Z
LAST-MODIFIED:20231109T182639Z
UID:10004733-1773770400-1773777600@bosd1.sbcounty.gov
SUMMARY:Victorville City Council Meeting
DESCRIPTION:Victorville City Council Meetings are held the 1st and 3rd Tuesday of each month at 6:00 p.m. in Council Chambers located at City Hall 14343 Civic Drive. The City Council agenda is posted prior to the Council meeting on the City’s website. Meeting Agendas \n\nDates are subject to change\, especially during the holidays.
URL:https://bosd1.sbcounty.gov/event/victorville-city-council-meeting/2026-03-17/
LOCATION:Victorville City Hall\, 14343 Civic Drive\, Victorville\, CA\, 92395\, United States
CATEGORIES:Meetings
ATTACH;FMTTYPE=image/jpeg:https://bosd1.sbcounty.gov/wp-content/uploads/sites/103/2023/11/City-of-Victorville.jpg
END:VEVENT
BEGIN:VEVENT
DTSTART;TZID=America/Los_Angeles:20260303T180000
DTEND;TZID=America/Los_Angeles:20260303T200000
DTSTAMP:20260420T223059
CREATED:20240309T152252Z
LAST-MODIFIED:20240309T152252Z
UID:10004922-1772560800-1772568000@bosd1.sbcounty.gov
SUMMARY:Victorville City Council Meeting
DESCRIPTION:Victorville City Council Meetings are held the 1st and 3rd Tuesday of each month at 6:00 p.m. in Council Chambers located at City Hall 14343 Civic Drive. The City Council agenda is posted prior to the Council meeting on the City’s website. Meeting Agendas \n\nDates are subject to change\, especially during the holidays.
URL:https://bosd1.sbcounty.gov/event/victorville-city-council-meeting/2026-03-03/
LOCATION:Victorville City Hall\, 14343 Civic Drive\, Victorville\, CA\, 92395\, United States
CATEGORIES:Meetings
ATTACH;FMTTYPE=image/jpeg:https://bosd1.sbcounty.gov/wp-content/uploads/sites/103/2023/11/City-of-Victorville.jpg
END:VEVENT
BEGIN:VEVENT
DTSTART;TZID=America/Los_Angeles:20260217T180000
DTEND;TZID=America/Los_Angeles:20260217T200000
DTSTAMP:20260420T223059
CREATED:20231109T180839Z
LAST-MODIFIED:20231109T182639Z
UID:10004730-1771351200-1771358400@bosd1.sbcounty.gov
SUMMARY:Victorville City Council Meeting
DESCRIPTION:Victorville City Council Meetings are held the 1st and 3rd Tuesday of each month at 6:00 p.m. in Council Chambers located at City Hall 14343 Civic Drive. The City Council agenda is posted prior to the Council meeting on the City’s website. Meeting Agendas \n\nDates are subject to change\, especially during the holidays.
URL:https://bosd1.sbcounty.gov/event/victorville-city-council-meeting/2026-02-17/
LOCATION:Victorville City Hall\, 14343 Civic Drive\, Victorville\, CA\, 92395\, United States
CATEGORIES:Meetings
ATTACH;FMTTYPE=image/jpeg:https://bosd1.sbcounty.gov/wp-content/uploads/sites/103/2023/11/City-of-Victorville.jpg
END:VEVENT
BEGIN:VEVENT
DTSTART;TZID=America/Los_Angeles:20260203T180000
DTEND;TZID=America/Los_Angeles:20260203T200000
DTSTAMP:20260420T223059
CREATED:20240309T152252Z
LAST-MODIFIED:20240309T152252Z
UID:10004919-1770141600-1770148800@bosd1.sbcounty.gov
SUMMARY:Victorville City Council Meeting
DESCRIPTION:Victorville City Council Meetings are held the 1st and 3rd Tuesday of each month at 6:00 p.m. in Council Chambers located at City Hall 14343 Civic Drive. The City Council agenda is posted prior to the Council meeting on the City’s website. Meeting Agendas \n\nDates are subject to change\, especially during the holidays.
URL:https://bosd1.sbcounty.gov/event/victorville-city-council-meeting/2026-02-03/
LOCATION:Victorville City Hall\, 14343 Civic Drive\, Victorville\, CA\, 92395\, United States
CATEGORIES:Meetings
ATTACH;FMTTYPE=image/jpeg:https://bosd1.sbcounty.gov/wp-content/uploads/sites/103/2023/11/City-of-Victorville.jpg
END:VEVENT
BEGIN:VEVENT
DTSTART;TZID=America/Los_Angeles:20260120T180000
DTEND;TZID=America/Los_Angeles:20260120T200000
DTSTAMP:20260420T223059
CREATED:20231109T180839Z
LAST-MODIFIED:20231109T182639Z
UID:10004727-1768932000-1768939200@bosd1.sbcounty.gov
SUMMARY:Victorville City Council Meeting
DESCRIPTION:Victorville City Council Meetings are held the 1st and 3rd Tuesday of each month at 6:00 p.m. in Council Chambers located at City Hall 14343 Civic Drive. The City Council agenda is posted prior to the Council meeting on the City’s website. Meeting Agendas \n\nDates are subject to change\, especially during the holidays.
URL:https://bosd1.sbcounty.gov/event/victorville-city-council-meeting/2026-01-20/
LOCATION:Victorville City Hall\, 14343 Civic Drive\, Victorville\, CA\, 92395\, United States
CATEGORIES:Meetings
ATTACH;FMTTYPE=image/jpeg:https://bosd1.sbcounty.gov/wp-content/uploads/sites/103/2023/11/City-of-Victorville.jpg
END:VEVENT
BEGIN:VEVENT
DTSTART;TZID=America/Los_Angeles:20260106T180000
DTEND;TZID=America/Los_Angeles:20260106T200000
DTSTAMP:20260420T223059
CREATED:20240309T152252Z
LAST-MODIFIED:20240309T152252Z
UID:10004916-1767722400-1767729600@bosd1.sbcounty.gov
SUMMARY:Victorville City Council Meeting
DESCRIPTION:Victorville City Council Meetings are held the 1st and 3rd Tuesday of each month at 6:00 p.m. in Council Chambers located at City Hall 14343 Civic Drive. The City Council agenda is posted prior to the Council meeting on the City’s website. Meeting Agendas \n\nDates are subject to change\, especially during the holidays.
URL:https://bosd1.sbcounty.gov/event/victorville-city-council-meeting/2026-01-06/
LOCATION:Victorville City Hall\, 14343 Civic Drive\, Victorville\, CA\, 92395\, United States
CATEGORIES:Meetings
ATTACH;FMTTYPE=image/jpeg:https://bosd1.sbcounty.gov/wp-content/uploads/sites/103/2023/11/City-of-Victorville.jpg
END:VEVENT
BEGIN:VEVENT
DTSTART;TZID=America/Los_Angeles:20251216T180000
DTEND;TZID=America/Los_Angeles:20251216T200000
DTSTAMP:20260420T223059
CREATED:20231109T180839Z
LAST-MODIFIED:20231109T182639Z
UID:10004724-1765908000-1765915200@bosd1.sbcounty.gov
SUMMARY:Victorville City Council Meeting
DESCRIPTION:Victorville City Council Meetings are held the 1st and 3rd Tuesday of each month at 6:00 p.m. in Council Chambers located at City Hall 14343 Civic Drive. The City Council agenda is posted prior to the Council meeting on the City’s website. Meeting Agendas \n\nDates are subject to change\, especially during the holidays.
URL:https://bosd1.sbcounty.gov/event/victorville-city-council-meeting/2025-12-16/
LOCATION:Victorville City Hall\, 14343 Civic Drive\, Victorville\, CA\, 92395\, United States
CATEGORIES:Meetings
ATTACH;FMTTYPE=image/jpeg:https://bosd1.sbcounty.gov/wp-content/uploads/sites/103/2023/11/City-of-Victorville.jpg
END:VEVENT
BEGIN:VEVENT
DTSTART;TZID=America/Los_Angeles:20251202T180000
DTEND;TZID=America/Los_Angeles:20251202T200000
DTSTAMP:20260420T223059
CREATED:20240309T152252Z
LAST-MODIFIED:20240309T152252Z
UID:10004913-1764698400-1764705600@bosd1.sbcounty.gov
SUMMARY:Victorville City Council Meeting
DESCRIPTION:Victorville City Council Meetings are held the 1st and 3rd Tuesday of each month at 6:00 p.m. in Council Chambers located at City Hall 14343 Civic Drive. The City Council agenda is posted prior to the Council meeting on the City’s website. Meeting Agendas \n\nDates are subject to change\, especially during the holidays.
URL:https://bosd1.sbcounty.gov/event/victorville-city-council-meeting/2025-12-02/
LOCATION:Victorville City Hall\, 14343 Civic Drive\, Victorville\, CA\, 92395\, United States
CATEGORIES:Meetings
ATTACH;FMTTYPE=image/jpeg:https://bosd1.sbcounty.gov/wp-content/uploads/sites/103/2023/11/City-of-Victorville.jpg
END:VEVENT
BEGIN:VEVENT
DTSTART;TZID=America/Los_Angeles:20251118T180000
DTEND;TZID=America/Los_Angeles:20251118T200000
DTSTAMP:20260420T223059
CREATED:20231109T180839Z
LAST-MODIFIED:20231109T182639Z
UID:10004721-1763488800-1763496000@bosd1.sbcounty.gov
SUMMARY:Victorville City Council Meeting
DESCRIPTION:Victorville City Council Meetings are held the 1st and 3rd Tuesday of each month at 6:00 p.m. in Council Chambers located at City Hall 14343 Civic Drive. The City Council agenda is posted prior to the Council meeting on the City’s website. Meeting Agendas \n\nDates are subject to change\, especially during the holidays.
URL:https://bosd1.sbcounty.gov/event/victorville-city-council-meeting/2025-11-18/
LOCATION:Victorville City Hall\, 14343 Civic Drive\, Victorville\, CA\, 92395\, United States
CATEGORIES:Meetings
ATTACH;FMTTYPE=image/jpeg:https://bosd1.sbcounty.gov/wp-content/uploads/sites/103/2023/11/City-of-Victorville.jpg
END:VEVENT
BEGIN:VEVENT
DTSTART;TZID=America/Los_Angeles:20251104T180000
DTEND;TZID=America/Los_Angeles:20251104T200000
DTSTAMP:20260420T223059
CREATED:20240309T152252Z
LAST-MODIFIED:20240309T152252Z
UID:10004910-1762279200-1762286400@bosd1.sbcounty.gov
SUMMARY:Victorville City Council Meeting
DESCRIPTION:Victorville City Council Meetings are held the 1st and 3rd Tuesday of each month at 6:00 p.m. in Council Chambers located at City Hall 14343 Civic Drive. The City Council agenda is posted prior to the Council meeting on the City’s website. Meeting Agendas \n\nDates are subject to change\, especially during the holidays.
URL:https://bosd1.sbcounty.gov/event/victorville-city-council-meeting/2025-11-04/
LOCATION:Victorville City Hall\, 14343 Civic Drive\, Victorville\, CA\, 92395\, United States
CATEGORIES:Meetings
ATTACH;FMTTYPE=image/jpeg:https://bosd1.sbcounty.gov/wp-content/uploads/sites/103/2023/11/City-of-Victorville.jpg
END:VEVENT
BEGIN:VEVENT
DTSTART;TZID=America/Los_Angeles:20251021T180000
DTEND;TZID=America/Los_Angeles:20251021T200000
DTSTAMP:20260420T223059
CREATED:20231109T180839Z
LAST-MODIFIED:20231109T182639Z
UID:10004718-1761069600-1761076800@bosd1.sbcounty.gov
SUMMARY:Victorville City Council Meeting
DESCRIPTION:Victorville City Council Meetings are held the 1st and 3rd Tuesday of each month at 6:00 p.m. in Council Chambers located at City Hall 14343 Civic Drive. The City Council agenda is posted prior to the Council meeting on the City’s website. Meeting Agendas \n\nDates are subject to change\, especially during the holidays.
URL:https://bosd1.sbcounty.gov/event/victorville-city-council-meeting/2025-10-21/
LOCATION:Victorville City Hall\, 14343 Civic Drive\, Victorville\, CA\, 92395\, United States
CATEGORIES:Meetings
ATTACH;FMTTYPE=image/jpeg:https://bosd1.sbcounty.gov/wp-content/uploads/sites/103/2023/11/City-of-Victorville.jpg
END:VEVENT
BEGIN:VEVENT
DTSTART;TZID=America/Los_Angeles:20251007T180000
DTEND;TZID=America/Los_Angeles:20251007T200000
DTSTAMP:20260420T223059
CREATED:20240309T152252Z
LAST-MODIFIED:20240309T152252Z
UID:10004907-1759860000-1759867200@bosd1.sbcounty.gov
SUMMARY:Victorville City Council Meeting
DESCRIPTION:Victorville City Council Meetings are held the 1st and 3rd Tuesday of each month at 6:00 p.m. in Council Chambers located at City Hall 14343 Civic Drive. The City Council agenda is posted prior to the Council meeting on the City’s website. Meeting Agendas \n\nDates are subject to change\, especially during the holidays.
URL:https://bosd1.sbcounty.gov/event/victorville-city-council-meeting/2025-10-07/
LOCATION:Victorville City Hall\, 14343 Civic Drive\, Victorville\, CA\, 92395\, United States
CATEGORIES:Meetings
ATTACH;FMTTYPE=image/jpeg:https://bosd1.sbcounty.gov/wp-content/uploads/sites/103/2023/11/City-of-Victorville.jpg
END:VEVENT
BEGIN:VEVENT
DTSTART;TZID=America/Los_Angeles:20250916T180000
DTEND;TZID=America/Los_Angeles:20250916T200000
DTSTAMP:20260420T223059
CREATED:20231109T180839Z
LAST-MODIFIED:20231109T182639Z
UID:10004715-1758045600-1758052800@bosd1.sbcounty.gov
SUMMARY:Victorville City Council Meeting
DESCRIPTION:Victorville City Council Meetings are held the 1st and 3rd Tuesday of each month at 6:00 p.m. in Council Chambers located at City Hall 14343 Civic Drive. The City Council agenda is posted prior to the Council meeting on the City’s website. Meeting Agendas \n\nDates are subject to change\, especially during the holidays.
URL:https://bosd1.sbcounty.gov/event/victorville-city-council-meeting/2025-09-16/
LOCATION:Victorville City Hall\, 14343 Civic Drive\, Victorville\, CA\, 92395\, United States
CATEGORIES:Meetings
ATTACH;FMTTYPE=image/jpeg:https://bosd1.sbcounty.gov/wp-content/uploads/sites/103/2023/11/City-of-Victorville.jpg
END:VEVENT
BEGIN:VEVENT
DTSTART;TZID=America/Los_Angeles:20250902T180000
DTEND;TZID=America/Los_Angeles:20250902T200000
DTSTAMP:20260420T223059
CREATED:20240309T152252Z
LAST-MODIFIED:20240309T152252Z
UID:10004904-1756836000-1756843200@bosd1.sbcounty.gov
SUMMARY:Victorville City Council Meeting
DESCRIPTION:Victorville City Council Meetings are held the 1st and 3rd Tuesday of each month at 6:00 p.m. in Council Chambers located at City Hall 14343 Civic Drive. The City Council agenda is posted prior to the Council meeting on the City’s website. Meeting Agendas \n\nDates are subject to change\, especially during the holidays.
URL:https://bosd1.sbcounty.gov/event/victorville-city-council-meeting/2025-09-02/
LOCATION:Victorville City Hall\, 14343 Civic Drive\, Victorville\, CA\, 92395\, United States
CATEGORIES:Meetings
ATTACH;FMTTYPE=image/jpeg:https://bosd1.sbcounty.gov/wp-content/uploads/sites/103/2023/11/City-of-Victorville.jpg
END:VEVENT
BEGIN:VEVENT
DTSTART;TZID=America/Los_Angeles:20250819T180000
DTEND;TZID=America/Los_Angeles:20250819T200000
DTSTAMP:20260420T223059
CREATED:20231109T180839Z
LAST-MODIFIED:20231109T182639Z
UID:10004712-1755626400-1755633600@bosd1.sbcounty.gov
SUMMARY:Victorville City Council Meeting
DESCRIPTION:Victorville City Council Meetings are held the 1st and 3rd Tuesday of each month at 6:00 p.m. in Council Chambers located at City Hall 14343 Civic Drive. The City Council agenda is posted prior to the Council meeting on the City’s website. Meeting Agendas \n\nDates are subject to change\, especially during the holidays.
URL:https://bosd1.sbcounty.gov/event/victorville-city-council-meeting/2025-08-19/
LOCATION:Victorville City Hall\, 14343 Civic Drive\, Victorville\, CA\, 92395\, United States
CATEGORIES:Meetings
ATTACH;FMTTYPE=image/jpeg:https://bosd1.sbcounty.gov/wp-content/uploads/sites/103/2023/11/City-of-Victorville.jpg
END:VEVENT
BEGIN:VEVENT
DTSTART;TZID=America/Los_Angeles:20250805T180000
DTEND;TZID=America/Los_Angeles:20250805T200000
DTSTAMP:20260420T223059
CREATED:20240309T152252Z
LAST-MODIFIED:20240309T152252Z
UID:10004901-1754416800-1754424000@bosd1.sbcounty.gov
SUMMARY:Victorville City Council Meeting
DESCRIPTION:Victorville City Council Meetings are held the 1st and 3rd Tuesday of each month at 6:00 p.m. in Council Chambers located at City Hall 14343 Civic Drive. The City Council agenda is posted prior to the Council meeting on the City’s website. Meeting Agendas \n\nDates are subject to change\, especially during the holidays.
URL:https://bosd1.sbcounty.gov/event/victorville-city-council-meeting/2025-08-05/
LOCATION:Victorville City Hall\, 14343 Civic Drive\, Victorville\, CA\, 92395\, United States
CATEGORIES:Meetings
ATTACH;FMTTYPE=image/jpeg:https://bosd1.sbcounty.gov/wp-content/uploads/sites/103/2023/11/City-of-Victorville.jpg
END:VEVENT
BEGIN:VEVENT
DTSTART;TZID=America/Los_Angeles:20250715T180000
DTEND;TZID=America/Los_Angeles:20250715T200000
DTSTAMP:20260420T223059
CREATED:20231109T180839Z
LAST-MODIFIED:20231109T182639Z
UID:10004709-1752602400-1752609600@bosd1.sbcounty.gov
SUMMARY:Victorville City Council Meeting
DESCRIPTION:Victorville City Council Meetings are held the 1st and 3rd Tuesday of each month at 6:00 p.m. in Council Chambers located at City Hall 14343 Civic Drive. The City Council agenda is posted prior to the Council meeting on the City’s website. Meeting Agendas \n\nDates are subject to change\, especially during the holidays.
URL:https://bosd1.sbcounty.gov/event/victorville-city-council-meeting/2025-07-15/
LOCATION:Victorville City Hall\, 14343 Civic Drive\, Victorville\, CA\, 92395\, United States
CATEGORIES:Meetings
ATTACH;FMTTYPE=image/jpeg:https://bosd1.sbcounty.gov/wp-content/uploads/sites/103/2023/11/City-of-Victorville.jpg
END:VEVENT
BEGIN:VEVENT
DTSTART;TZID=America/Los_Angeles:20250701T180000
DTEND;TZID=America/Los_Angeles:20250701T200000
DTSTAMP:20260420T223059
CREATED:20240309T152252Z
LAST-MODIFIED:20240309T152252Z
UID:10004898-1751392800-1751400000@bosd1.sbcounty.gov
SUMMARY:Victorville City Council Meeting
DESCRIPTION:Victorville City Council Meetings are held the 1st and 3rd Tuesday of each month at 6:00 p.m. in Council Chambers located at City Hall 14343 Civic Drive. The City Council agenda is posted prior to the Council meeting on the City’s website. Meeting Agendas \n\nDates are subject to change\, especially during the holidays.
URL:https://bosd1.sbcounty.gov/event/victorville-city-council-meeting/2025-07-01/
LOCATION:Victorville City Hall\, 14343 Civic Drive\, Victorville\, CA\, 92395\, United States
CATEGORIES:Meetings
ATTACH;FMTTYPE=image/jpeg:https://bosd1.sbcounty.gov/wp-content/uploads/sites/103/2023/11/City-of-Victorville.jpg
END:VEVENT
BEGIN:VEVENT
DTSTART;TZID=America/Los_Angeles:20250617T180000
DTEND;TZID=America/Los_Angeles:20250617T200000
DTSTAMP:20260420T223059
CREATED:20231109T180839Z
LAST-MODIFIED:20231109T182639Z
UID:10004706-1750183200-1750190400@bosd1.sbcounty.gov
SUMMARY:Victorville City Council Meeting
DESCRIPTION:Victorville City Council Meetings are held the 1st and 3rd Tuesday of each month at 6:00 p.m. in Council Chambers located at City Hall 14343 Civic Drive. The City Council agenda is posted prior to the Council meeting on the City’s website. Meeting Agendas \n\nDates are subject to change\, especially during the holidays.
URL:https://bosd1.sbcounty.gov/event/victorville-city-council-meeting/2025-06-17/
LOCATION:Victorville City Hall\, 14343 Civic Drive\, Victorville\, CA\, 92395\, United States
CATEGORIES:Meetings
ATTACH;FMTTYPE=image/jpeg:https://bosd1.sbcounty.gov/wp-content/uploads/sites/103/2023/11/City-of-Victorville.jpg
END:VEVENT
BEGIN:VEVENT
DTSTART;TZID=America/Los_Angeles:20250603T180000
DTEND;TZID=America/Los_Angeles:20250603T200000
DTSTAMP:20260420T223059
CREATED:20240309T152252Z
LAST-MODIFIED:20240309T152252Z
UID:10004895-1748973600-1748980800@bosd1.sbcounty.gov
SUMMARY:Victorville City Council Meeting
DESCRIPTION:Victorville City Council Meetings are held the 1st and 3rd Tuesday of each month at 6:00 p.m. in Council Chambers located at City Hall 14343 Civic Drive. The City Council agenda is posted prior to the Council meeting on the City’s website. Meeting Agendas \n\nDates are subject to change\, especially during the holidays.
URL:https://bosd1.sbcounty.gov/event/victorville-city-council-meeting/2025-06-03/
LOCATION:Victorville City Hall\, 14343 Civic Drive\, Victorville\, CA\, 92395\, United States
CATEGORIES:Meetings
ATTACH;FMTTYPE=image/jpeg:https://bosd1.sbcounty.gov/wp-content/uploads/sites/103/2023/11/City-of-Victorville.jpg
END:VEVENT
BEGIN:VEVENT
DTSTART;TZID=America/Los_Angeles:20250520T180000
DTEND;TZID=America/Los_Angeles:20250520T200000
DTSTAMP:20260420T223059
CREATED:20231109T180839Z
LAST-MODIFIED:20231109T182639Z
UID:10004703-1747764000-1747771200@bosd1.sbcounty.gov
SUMMARY:Victorville City Council Meeting
DESCRIPTION:Victorville City Council Meetings are held the 1st and 3rd Tuesday of each month at 6:00 p.m. in Council Chambers located at City Hall 14343 Civic Drive. The City Council agenda is posted prior to the Council meeting on the City’s website. Meeting Agendas \n\nDates are subject to change\, especially during the holidays.
URL:https://bosd1.sbcounty.gov/event/victorville-city-council-meeting/2025-05-20/
LOCATION:Victorville City Hall\, 14343 Civic Drive\, Victorville\, CA\, 92395\, United States
CATEGORIES:Meetings
ATTACH;FMTTYPE=image/jpeg:https://bosd1.sbcounty.gov/wp-content/uploads/sites/103/2023/11/City-of-Victorville.jpg
END:VEVENT
BEGIN:VEVENT
DTSTART;TZID=America/Los_Angeles:20250506T180000
DTEND;TZID=America/Los_Angeles:20250506T200000
DTSTAMP:20260420T223059
CREATED:20240309T152252Z
LAST-MODIFIED:20240309T152252Z
UID:10004892-1746554400-1746561600@bosd1.sbcounty.gov
SUMMARY:Victorville City Council Meeting
DESCRIPTION:Victorville City Council Meetings are held the 1st and 3rd Tuesday of each month at 6:00 p.m. in Council Chambers located at City Hall 14343 Civic Drive. The City Council agenda is posted prior to the Council meeting on the City’s website. Meeting Agendas \n\nDates are subject to change\, especially during the holidays.
URL:https://bosd1.sbcounty.gov/event/victorville-city-council-meeting/2025-05-06/
LOCATION:Victorville City Hall\, 14343 Civic Drive\, Victorville\, CA\, 92395\, United States
CATEGORIES:Meetings
ATTACH;FMTTYPE=image/jpeg:https://bosd1.sbcounty.gov/wp-content/uploads/sites/103/2023/11/City-of-Victorville.jpg
END:VEVENT
BEGIN:VEVENT
DTSTART;TZID=America/Los_Angeles:20250415T180000
DTEND;TZID=America/Los_Angeles:20250415T200000
DTSTAMP:20260420T223059
CREATED:20231109T180839Z
LAST-MODIFIED:20231109T182639Z
UID:10004700-1744740000-1744747200@bosd1.sbcounty.gov
SUMMARY:Victorville City Council Meeting
DESCRIPTION:Victorville City Council Meetings are held the 1st and 3rd Tuesday of each month at 6:00 p.m. in Council Chambers located at City Hall 14343 Civic Drive. The City Council agenda is posted prior to the Council meeting on the City’s website. Meeting Agendas \n\nDates are subject to change\, especially during the holidays.
URL:https://bosd1.sbcounty.gov/event/victorville-city-council-meeting/2025-04-15/
LOCATION:Victorville City Hall\, 14343 Civic Drive\, Victorville\, CA\, 92395\, United States
CATEGORIES:Meetings
ATTACH;FMTTYPE=image/jpeg:https://bosd1.sbcounty.gov/wp-content/uploads/sites/103/2023/11/City-of-Victorville.jpg
END:VEVENT
BEGIN:VEVENT
DTSTART;TZID=America/Los_Angeles:20250401T180000
DTEND;TZID=America/Los_Angeles:20250401T200000
DTSTAMP:20260420T223059
CREATED:20240309T152252Z
LAST-MODIFIED:20240309T152252Z
UID:10004889-1743530400-1743537600@bosd1.sbcounty.gov
SUMMARY:Victorville City Council Meeting
DESCRIPTION:Victorville City Council Meetings are held the 1st and 3rd Tuesday of each month at 6:00 p.m. in Council Chambers located at City Hall 14343 Civic Drive. The City Council agenda is posted prior to the Council meeting on the City’s website. Meeting Agendas \n\nDates are subject to change\, especially during the holidays.
URL:https://bosd1.sbcounty.gov/event/victorville-city-council-meeting/2025-04-01/
LOCATION:Victorville City Hall\, 14343 Civic Drive\, Victorville\, CA\, 92395\, United States
CATEGORIES:Meetings
ATTACH;FMTTYPE=image/jpeg:https://bosd1.sbcounty.gov/wp-content/uploads/sites/103/2023/11/City-of-Victorville.jpg
END:VEVENT
BEGIN:VEVENT
DTSTART;TZID=America/Los_Angeles:20250318T180000
DTEND;TZID=America/Los_Angeles:20250318T200000
DTSTAMP:20260420T223059
CREATED:20231109T180839Z
LAST-MODIFIED:20231109T182639Z
UID:10004697-1742320800-1742328000@bosd1.sbcounty.gov
SUMMARY:Victorville City Council Meeting
DESCRIPTION:Victorville City Council Meetings are held the 1st and 3rd Tuesday of each month at 6:00 p.m. in Council Chambers located at City Hall 14343 Civic Drive. The City Council agenda is posted prior to the Council meeting on the City’s website. Meeting Agendas \n\nDates are subject to change\, especially during the holidays.
URL:https://bosd1.sbcounty.gov/event/victorville-city-council-meeting/2025-03-18/
LOCATION:Victorville City Hall\, 14343 Civic Drive\, Victorville\, CA\, 92395\, United States
CATEGORIES:Meetings
ATTACH;FMTTYPE=image/jpeg:https://bosd1.sbcounty.gov/wp-content/uploads/sites/103/2023/11/City-of-Victorville.jpg
END:VEVENT
BEGIN:VEVENT
DTSTART;TZID=America/Los_Angeles:20250304T180000
DTEND;TZID=America/Los_Angeles:20250304T200000
DTSTAMP:20260420T223059
CREATED:20240309T152252Z
LAST-MODIFIED:20240309T152252Z
UID:10004886-1741111200-1741118400@bosd1.sbcounty.gov
SUMMARY:Victorville City Council Meeting
DESCRIPTION:Victorville City Council Meetings are held the 1st and 3rd Tuesday of each month at 6:00 p.m. in Council Chambers located at City Hall 14343 Civic Drive. The City Council agenda is posted prior to the Council meeting on the City’s website. Meeting Agendas \n\nDates are subject to change\, especially during the holidays.
URL:https://bosd1.sbcounty.gov/event/victorville-city-council-meeting/2025-03-04/
LOCATION:Victorville City Hall\, 14343 Civic Drive\, Victorville\, CA\, 92395\, United States
CATEGORIES:Meetings
ATTACH;FMTTYPE=image/jpeg:https://bosd1.sbcounty.gov/wp-content/uploads/sites/103/2023/11/City-of-Victorville.jpg
END:VEVENT
BEGIN:VEVENT
DTSTART;TZID=America/Los_Angeles:20250218T180000
DTEND;TZID=America/Los_Angeles:20250218T200000
DTSTAMP:20260420T223059
CREATED:20231109T180839Z
LAST-MODIFIED:20231109T182639Z
UID:10004694-1739901600-1739908800@bosd1.sbcounty.gov
SUMMARY:Victorville City Council Meeting
DESCRIPTION:Victorville City Council Meetings are held the 1st and 3rd Tuesday of each month at 6:00 p.m. in Council Chambers located at City Hall 14343 Civic Drive. The City Council agenda is posted prior to the Council meeting on the City’s website. Meeting Agendas \n\nDates are subject to change\, especially during the holidays.
URL:https://bosd1.sbcounty.gov/event/victorville-city-council-meeting/2025-02-18/
LOCATION:Victorville City Hall\, 14343 Civic Drive\, Victorville\, CA\, 92395\, United States
CATEGORIES:Meetings
ATTACH;FMTTYPE=image/jpeg:https://bosd1.sbcounty.gov/wp-content/uploads/sites/103/2023/11/City-of-Victorville.jpg
END:VEVENT
BEGIN:VEVENT
DTSTART;TZID=America/Los_Angeles:20250204T180000
DTEND;TZID=America/Los_Angeles:20250204T200000
DTSTAMP:20260420T223059
CREATED:20240309T152252Z
LAST-MODIFIED:20240309T152252Z
UID:10004883-1738692000-1738699200@bosd1.sbcounty.gov
SUMMARY:Victorville City Council Meeting
DESCRIPTION:Victorville City Council Meetings are held the 1st and 3rd Tuesday of each month at 6:00 p.m. in Council Chambers located at City Hall 14343 Civic Drive. The City Council agenda is posted prior to the Council meeting on the City’s website. Meeting Agendas \n\nDates are subject to change\, especially during the holidays.
URL:https://bosd1.sbcounty.gov/event/victorville-city-council-meeting/2025-02-04/
LOCATION:Victorville City Hall\, 14343 Civic Drive\, Victorville\, CA\, 92395\, United States
CATEGORIES:Meetings
ATTACH;FMTTYPE=image/jpeg:https://bosd1.sbcounty.gov/wp-content/uploads/sites/103/2023/11/City-of-Victorville.jpg
END:VEVENT
BEGIN:VEVENT
DTSTART;TZID=America/Los_Angeles:20250121T180000
DTEND;TZID=America/Los_Angeles:20250121T200000
DTSTAMP:20260420T223059
CREATED:20231109T180839Z
LAST-MODIFIED:20231109T182639Z
UID:10004691-1737482400-1737489600@bosd1.sbcounty.gov
SUMMARY:Victorville City Council Meeting
DESCRIPTION:Victorville City Council Meetings are held the 1st and 3rd Tuesday of each month at 6:00 p.m. in Council Chambers located at City Hall 14343 Civic Drive. The City Council agenda is posted prior to the Council meeting on the City’s website. Meeting Agendas \n\nDates are subject to change\, especially during the holidays.
URL:https://bosd1.sbcounty.gov/event/victorville-city-council-meeting/2025-01-21/
LOCATION:Victorville City Hall\, 14343 Civic Drive\, Victorville\, CA\, 92395\, United States
CATEGORIES:Meetings
ATTACH;FMTTYPE=image/jpeg:https://bosd1.sbcounty.gov/wp-content/uploads/sites/103/2023/11/City-of-Victorville.jpg
END:VEVENT
END:VCALENDAR