BEGIN:VCALENDAR
VERSION:2.0
PRODID:-//Col. Paul Cook (Ret.) First District Supervisor - ECPv6.15.14//NONSGML v1.0//EN
CALSCALE:GREGORIAN
METHOD:PUBLISH
X-WR-CALNAME:Col. Paul Cook (Ret.) First District Supervisor
X-ORIGINAL-URL:https://bosd1.sbcounty.gov
X-WR-CALDESC:Events for Col. Paul Cook (Ret.) First District Supervisor
REFRESH-INTERVAL;VALUE=DURATION:PT1H
X-Robots-Tag:noindex
X-PUBLISHED-TTL:PT1H
BEGIN:VTIMEZONE
TZID:America/Los_Angeles
BEGIN:DAYLIGHT
TZOFFSETFROM:-0800
TZOFFSETTO:-0700
TZNAME:PDT
DTSTART:20270314T100000
END:DAYLIGHT
BEGIN:STANDARD
TZOFFSETFROM:-0700
TZOFFSETTO:-0800
TZNAME:PST
DTSTART:20271107T090000
END:STANDARD
BEGIN:DAYLIGHT
TZOFFSETFROM:-0800
TZOFFSETTO:-0700
TZNAME:PDT
DTSTART:20280312T100000
END:DAYLIGHT
BEGIN:STANDARD
TZOFFSETFROM:-0700
TZOFFSETTO:-0800
TZNAME:PST
DTSTART:20281105T090000
END:STANDARD
BEGIN:DAYLIGHT
TZOFFSETFROM:-0800
TZOFFSETTO:-0700
TZNAME:PDT
DTSTART:20290311T100000
END:DAYLIGHT
BEGIN:STANDARD
TZOFFSETFROM:-0700
TZOFFSETTO:-0800
TZNAME:PST
DTSTART:20291104T090000
END:STANDARD
END:VTIMEZONE
BEGIN:VEVENT
DTSTART;TZID=America/Los_Angeles:20280224T080000
DTEND;TZID=America/Los_Angeles:20280224T120000
DTSTAMP:20260422T000933
CREATED:20250612T191049Z
LAST-MODIFIED:20250612T191049Z
UID:10013841-1834992000-1835006400@bosd1.sbcounty.gov
SUMMARY:High Desert Farmer’s Market
DESCRIPTION:Time: Thursday\, 8:00 AM – 12:00 PM \nFish Hatchery Rd\nBetween the Gym & Tennis Courts \n\n\n\nAddress:\n18422 Bear Valley Rd\nVictorville\, CA 92395\n\n\nPhone:\n760.468.3872
URL:https://bosd1.sbcounty.gov/event/high-desert-farmers-market-2/2028-02-24/
LOCATION:Victor Valley College\, 18422 Bear Valley Rd.\, Victorville\, CA\, 92395\, United States
CATEGORIES:Farmers Markets
ATTACH;FMTTYPE=image/jpeg:https://bosd1.sbcounty.gov/wp-content/uploads/sites/103/2023/11/County-Blog-Photos-14.jpg
END:VEVENT
BEGIN:VEVENT
DTSTART;TZID=America/Los_Angeles:20280302T080000
DTEND;TZID=America/Los_Angeles:20280302T120000
DTSTAMP:20260422T000933
CREATED:20250612T191049Z
LAST-MODIFIED:20250612T191049Z
UID:10013844-1835596800-1835611200@bosd1.sbcounty.gov
SUMMARY:High Desert Farmer’s Market
DESCRIPTION:Time: Thursday\, 8:00 AM – 12:00 PM \nFish Hatchery Rd\nBetween the Gym & Tennis Courts \n\n\n\nAddress:\n18422 Bear Valley Rd\nVictorville\, CA 92395\n\n\nPhone:\n760.468.3872
URL:https://bosd1.sbcounty.gov/event/high-desert-farmers-market-2/2028-03-02/
LOCATION:Victor Valley College\, 18422 Bear Valley Rd.\, Victorville\, CA\, 92395\, United States
CATEGORIES:Farmers Markets
ATTACH;FMTTYPE=image/jpeg:https://bosd1.sbcounty.gov/wp-content/uploads/sites/103/2023/11/County-Blog-Photos-14.jpg
END:VEVENT
BEGIN:VEVENT
DTSTART;TZID=America/Los_Angeles:20280309T080000
DTEND;TZID=America/Los_Angeles:20280309T120000
DTSTAMP:20260422T000933
CREATED:20250612T191049Z
LAST-MODIFIED:20250612T191049Z
UID:10013847-1836201600-1836216000@bosd1.sbcounty.gov
SUMMARY:High Desert Farmer’s Market
DESCRIPTION:Time: Thursday\, 8:00 AM – 12:00 PM \nFish Hatchery Rd\nBetween the Gym & Tennis Courts \n\n\n\nAddress:\n18422 Bear Valley Rd\nVictorville\, CA 92395\n\n\nPhone:\n760.468.3872
URL:https://bosd1.sbcounty.gov/event/high-desert-farmers-market-2/2028-03-09/
LOCATION:Victor Valley College\, 18422 Bear Valley Rd.\, Victorville\, CA\, 92395\, United States
CATEGORIES:Farmers Markets
ATTACH;FMTTYPE=image/jpeg:https://bosd1.sbcounty.gov/wp-content/uploads/sites/103/2023/11/County-Blog-Photos-14.jpg
END:VEVENT
BEGIN:VEVENT
DTSTART;TZID=America/Los_Angeles:20280316T080000
DTEND;TZID=America/Los_Angeles:20280316T120000
DTSTAMP:20260422T000933
CREATED:20250612T191049Z
LAST-MODIFIED:20250612T191049Z
UID:10013850-1836806400-1836820800@bosd1.sbcounty.gov
SUMMARY:High Desert Farmer’s Market
DESCRIPTION:Time: Thursday\, 8:00 AM – 12:00 PM \nFish Hatchery Rd\nBetween the Gym & Tennis Courts \n\n\n\nAddress:\n18422 Bear Valley Rd\nVictorville\, CA 92395\n\n\nPhone:\n760.468.3872
URL:https://bosd1.sbcounty.gov/event/high-desert-farmers-market-2/2028-03-16/
LOCATION:Victor Valley College\, 18422 Bear Valley Rd.\, Victorville\, CA\, 92395\, United States
CATEGORIES:Farmers Markets
ATTACH;FMTTYPE=image/jpeg:https://bosd1.sbcounty.gov/wp-content/uploads/sites/103/2023/11/County-Blog-Photos-14.jpg
END:VEVENT
BEGIN:VEVENT
DTSTART;TZID=America/Los_Angeles:20280323T080000
DTEND;TZID=America/Los_Angeles:20280323T120000
DTSTAMP:20260422T000933
CREATED:20250612T191049Z
LAST-MODIFIED:20250612T191049Z
UID:10013853-1837411200-1837425600@bosd1.sbcounty.gov
SUMMARY:High Desert Farmer’s Market
DESCRIPTION:Time: Thursday\, 8:00 AM – 12:00 PM \nFish Hatchery Rd\nBetween the Gym & Tennis Courts \n\n\n\nAddress:\n18422 Bear Valley Rd\nVictorville\, CA 92395\n\n\nPhone:\n760.468.3872
URL:https://bosd1.sbcounty.gov/event/high-desert-farmers-market-2/2028-03-23/
LOCATION:Victor Valley College\, 18422 Bear Valley Rd.\, Victorville\, CA\, 92395\, United States
CATEGORIES:Farmers Markets
ATTACH;FMTTYPE=image/jpeg:https://bosd1.sbcounty.gov/wp-content/uploads/sites/103/2023/11/County-Blog-Photos-14.jpg
END:VEVENT
BEGIN:VEVENT
DTSTART;TZID=America/Los_Angeles:20280330T080000
DTEND;TZID=America/Los_Angeles:20280330T120000
DTSTAMP:20260422T000933
CREATED:20250612T191049Z
LAST-MODIFIED:20250612T191049Z
UID:10013856-1838016000-1838030400@bosd1.sbcounty.gov
SUMMARY:High Desert Farmer’s Market
DESCRIPTION:Time: Thursday\, 8:00 AM – 12:00 PM \nFish Hatchery Rd\nBetween the Gym & Tennis Courts \n\n\n\nAddress:\n18422 Bear Valley Rd\nVictorville\, CA 92395\n\n\nPhone:\n760.468.3872
URL:https://bosd1.sbcounty.gov/event/high-desert-farmers-market-2/2028-03-30/
LOCATION:Victor Valley College\, 18422 Bear Valley Rd.\, Victorville\, CA\, 92395\, United States
CATEGORIES:Farmers Markets
ATTACH;FMTTYPE=image/jpeg:https://bosd1.sbcounty.gov/wp-content/uploads/sites/103/2023/11/County-Blog-Photos-14.jpg
END:VEVENT
BEGIN:VEVENT
DTSTART;TZID=America/Los_Angeles:20280406T080000
DTEND;TZID=America/Los_Angeles:20280406T120000
DTSTAMP:20260422T000933
CREATED:20250612T191049Z
LAST-MODIFIED:20250612T191049Z
UID:10013859-1838620800-1838635200@bosd1.sbcounty.gov
SUMMARY:High Desert Farmer’s Market
DESCRIPTION:Time: Thursday\, 8:00 AM – 12:00 PM \nFish Hatchery Rd\nBetween the Gym & Tennis Courts \n\n\n\nAddress:\n18422 Bear Valley Rd\nVictorville\, CA 92395\n\n\nPhone:\n760.468.3872
URL:https://bosd1.sbcounty.gov/event/high-desert-farmers-market-2/2028-04-06/
LOCATION:Victor Valley College\, 18422 Bear Valley Rd.\, Victorville\, CA\, 92395\, United States
CATEGORIES:Farmers Markets
ATTACH;FMTTYPE=image/jpeg:https://bosd1.sbcounty.gov/wp-content/uploads/sites/103/2023/11/County-Blog-Photos-14.jpg
END:VEVENT
BEGIN:VEVENT
DTSTART;TZID=America/Los_Angeles:20280413T080000
DTEND;TZID=America/Los_Angeles:20280413T120000
DTSTAMP:20260422T000933
CREATED:20250612T191049Z
LAST-MODIFIED:20250612T191049Z
UID:10013862-1839225600-1839240000@bosd1.sbcounty.gov
SUMMARY:High Desert Farmer’s Market
DESCRIPTION:Time: Thursday\, 8:00 AM – 12:00 PM \nFish Hatchery Rd\nBetween the Gym & Tennis Courts \n\n\n\nAddress:\n18422 Bear Valley Rd\nVictorville\, CA 92395\n\n\nPhone:\n760.468.3872
URL:https://bosd1.sbcounty.gov/event/high-desert-farmers-market-2/2028-04-13/
LOCATION:Victor Valley College\, 18422 Bear Valley Rd.\, Victorville\, CA\, 92395\, United States
CATEGORIES:Farmers Markets
ATTACH;FMTTYPE=image/jpeg:https://bosd1.sbcounty.gov/wp-content/uploads/sites/103/2023/11/County-Blog-Photos-14.jpg
END:VEVENT
BEGIN:VEVENT
DTSTART;TZID=America/Los_Angeles:20280420T080000
DTEND;TZID=America/Los_Angeles:20280420T120000
DTSTAMP:20260422T000933
CREATED:20250612T191049Z
LAST-MODIFIED:20250612T191049Z
UID:10013865-1839830400-1839844800@bosd1.sbcounty.gov
SUMMARY:High Desert Farmer’s Market
DESCRIPTION:Time: Thursday\, 8:00 AM – 12:00 PM \nFish Hatchery Rd\nBetween the Gym & Tennis Courts \n\n\n\nAddress:\n18422 Bear Valley Rd\nVictorville\, CA 92395\n\n\nPhone:\n760.468.3872
URL:https://bosd1.sbcounty.gov/event/high-desert-farmers-market-2/2028-04-20/
LOCATION:Victor Valley College\, 18422 Bear Valley Rd.\, Victorville\, CA\, 92395\, United States
CATEGORIES:Farmers Markets
ATTACH;FMTTYPE=image/jpeg:https://bosd1.sbcounty.gov/wp-content/uploads/sites/103/2023/11/County-Blog-Photos-14.jpg
END:VEVENT
BEGIN:VEVENT
DTSTART;TZID=America/Los_Angeles:20280427T080000
DTEND;TZID=America/Los_Angeles:20280427T120000
DTSTAMP:20260422T000933
CREATED:20250612T191049Z
LAST-MODIFIED:20250612T191049Z
UID:10013868-1840435200-1840449600@bosd1.sbcounty.gov
SUMMARY:High Desert Farmer’s Market
DESCRIPTION:Time: Thursday\, 8:00 AM – 12:00 PM \nFish Hatchery Rd\nBetween the Gym & Tennis Courts \n\n\n\nAddress:\n18422 Bear Valley Rd\nVictorville\, CA 92395\n\n\nPhone:\n760.468.3872
URL:https://bosd1.sbcounty.gov/event/high-desert-farmers-market-2/2028-04-27/
LOCATION:Victor Valley College\, 18422 Bear Valley Rd.\, Victorville\, CA\, 92395\, United States
CATEGORIES:Farmers Markets
ATTACH;FMTTYPE=image/jpeg:https://bosd1.sbcounty.gov/wp-content/uploads/sites/103/2023/11/County-Blog-Photos-14.jpg
END:VEVENT
BEGIN:VEVENT
DTSTART;TZID=America/Los_Angeles:20280504T080000
DTEND;TZID=America/Los_Angeles:20280504T120000
DTSTAMP:20260422T000933
CREATED:20250612T191049Z
LAST-MODIFIED:20250612T191049Z
UID:10013871-1841040000-1841054400@bosd1.sbcounty.gov
SUMMARY:High Desert Farmer’s Market
DESCRIPTION:Time: Thursday\, 8:00 AM – 12:00 PM \nFish Hatchery Rd\nBetween the Gym & Tennis Courts \n\n\n\nAddress:\n18422 Bear Valley Rd\nVictorville\, CA 92395\n\n\nPhone:\n760.468.3872
URL:https://bosd1.sbcounty.gov/event/high-desert-farmers-market-2/2028-05-04/
LOCATION:Victor Valley College\, 18422 Bear Valley Rd.\, Victorville\, CA\, 92395\, United States
CATEGORIES:Farmers Markets
ATTACH;FMTTYPE=image/jpeg:https://bosd1.sbcounty.gov/wp-content/uploads/sites/103/2023/11/County-Blog-Photos-14.jpg
END:VEVENT
BEGIN:VEVENT
DTSTART;TZID=America/Los_Angeles:20280511T080000
DTEND;TZID=America/Los_Angeles:20280511T120000
DTSTAMP:20260422T000933
CREATED:20250612T191049Z
LAST-MODIFIED:20250612T191049Z
UID:10013874-1841644800-1841659200@bosd1.sbcounty.gov
SUMMARY:High Desert Farmer’s Market
DESCRIPTION:Time: Thursday\, 8:00 AM – 12:00 PM \nFish Hatchery Rd\nBetween the Gym & Tennis Courts \n\n\n\nAddress:\n18422 Bear Valley Rd\nVictorville\, CA 92395\n\n\nPhone:\n760.468.3872
URL:https://bosd1.sbcounty.gov/event/high-desert-farmers-market-2/2028-05-11/
LOCATION:Victor Valley College\, 18422 Bear Valley Rd.\, Victorville\, CA\, 92395\, United States
CATEGORIES:Farmers Markets
ATTACH;FMTTYPE=image/jpeg:https://bosd1.sbcounty.gov/wp-content/uploads/sites/103/2023/11/County-Blog-Photos-14.jpg
END:VEVENT
BEGIN:VEVENT
DTSTART;TZID=America/Los_Angeles:20280518T080000
DTEND;TZID=America/Los_Angeles:20280518T120000
DTSTAMP:20260422T000933
CREATED:20250612T191049Z
LAST-MODIFIED:20250612T191049Z
UID:10013877-1842249600-1842264000@bosd1.sbcounty.gov
SUMMARY:High Desert Farmer’s Market
DESCRIPTION:Time: Thursday\, 8:00 AM – 12:00 PM \nFish Hatchery Rd\nBetween the Gym & Tennis Courts \n\n\n\nAddress:\n18422 Bear Valley Rd\nVictorville\, CA 92395\n\n\nPhone:\n760.468.3872
URL:https://bosd1.sbcounty.gov/event/high-desert-farmers-market-2/2028-05-18/
LOCATION:Victor Valley College\, 18422 Bear Valley Rd.\, Victorville\, CA\, 92395\, United States
CATEGORIES:Farmers Markets
ATTACH;FMTTYPE=image/jpeg:https://bosd1.sbcounty.gov/wp-content/uploads/sites/103/2023/11/County-Blog-Photos-14.jpg
END:VEVENT
BEGIN:VEVENT
DTSTART;TZID=America/Los_Angeles:20280525T080000
DTEND;TZID=America/Los_Angeles:20280525T120000
DTSTAMP:20260422T000933
CREATED:20250612T191049Z
LAST-MODIFIED:20250612T191049Z
UID:10013880-1842854400-1842868800@bosd1.sbcounty.gov
SUMMARY:High Desert Farmer’s Market
DESCRIPTION:Time: Thursday\, 8:00 AM – 12:00 PM \nFish Hatchery Rd\nBetween the Gym & Tennis Courts \n\n\n\nAddress:\n18422 Bear Valley Rd\nVictorville\, CA 92395\n\n\nPhone:\n760.468.3872
URL:https://bosd1.sbcounty.gov/event/high-desert-farmers-market-2/2028-05-25/
LOCATION:Victor Valley College\, 18422 Bear Valley Rd.\, Victorville\, CA\, 92395\, United States
CATEGORIES:Farmers Markets
ATTACH;FMTTYPE=image/jpeg:https://bosd1.sbcounty.gov/wp-content/uploads/sites/103/2023/11/County-Blog-Photos-14.jpg
END:VEVENT
BEGIN:VEVENT
DTSTART;TZID=America/Los_Angeles:20280601T080000
DTEND;TZID=America/Los_Angeles:20280601T120000
DTSTAMP:20260422T000933
CREATED:20250612T191049Z
LAST-MODIFIED:20250612T191049Z
UID:10013883-1843459200-1843473600@bosd1.sbcounty.gov
SUMMARY:High Desert Farmer’s Market
DESCRIPTION:Time: Thursday\, 8:00 AM – 12:00 PM \nFish Hatchery Rd\nBetween the Gym & Tennis Courts \n\n\n\nAddress:\n18422 Bear Valley Rd\nVictorville\, CA 92395\n\n\nPhone:\n760.468.3872
URL:https://bosd1.sbcounty.gov/event/high-desert-farmers-market-2/2028-06-01/
LOCATION:Victor Valley College\, 18422 Bear Valley Rd.\, Victorville\, CA\, 92395\, United States
CATEGORIES:Farmers Markets
ATTACH;FMTTYPE=image/jpeg:https://bosd1.sbcounty.gov/wp-content/uploads/sites/103/2023/11/County-Blog-Photos-14.jpg
END:VEVENT
BEGIN:VEVENT
DTSTART;TZID=America/Los_Angeles:20280608T080000
DTEND;TZID=America/Los_Angeles:20280608T120000
DTSTAMP:20260422T000933
CREATED:20250612T191049Z
LAST-MODIFIED:20250612T191049Z
UID:10013886-1844064000-1844078400@bosd1.sbcounty.gov
SUMMARY:High Desert Farmer’s Market
DESCRIPTION:Time: Thursday\, 8:00 AM – 12:00 PM \nFish Hatchery Rd\nBetween the Gym & Tennis Courts \n\n\n\nAddress:\n18422 Bear Valley Rd\nVictorville\, CA 92395\n\n\nPhone:\n760.468.3872
URL:https://bosd1.sbcounty.gov/event/high-desert-farmers-market-2/2028-06-08/
LOCATION:Victor Valley College\, 18422 Bear Valley Rd.\, Victorville\, CA\, 92395\, United States
CATEGORIES:Farmers Markets
ATTACH;FMTTYPE=image/jpeg:https://bosd1.sbcounty.gov/wp-content/uploads/sites/103/2023/11/County-Blog-Photos-14.jpg
END:VEVENT
BEGIN:VEVENT
DTSTART;TZID=America/Los_Angeles:20280615T080000
DTEND;TZID=America/Los_Angeles:20280615T120000
DTSTAMP:20260422T000933
CREATED:20250612T191049Z
LAST-MODIFIED:20250612T191049Z
UID:10013889-1844668800-1844683200@bosd1.sbcounty.gov
SUMMARY:High Desert Farmer’s Market
DESCRIPTION:Time: Thursday\, 8:00 AM – 12:00 PM \nFish Hatchery Rd\nBetween the Gym & Tennis Courts \n\n\n\nAddress:\n18422 Bear Valley Rd\nVictorville\, CA 92395\n\n\nPhone:\n760.468.3872
URL:https://bosd1.sbcounty.gov/event/high-desert-farmers-market-2/2028-06-15/
LOCATION:Victor Valley College\, 18422 Bear Valley Rd.\, Victorville\, CA\, 92395\, United States
CATEGORIES:Farmers Markets
ATTACH;FMTTYPE=image/jpeg:https://bosd1.sbcounty.gov/wp-content/uploads/sites/103/2023/11/County-Blog-Photos-14.jpg
END:VEVENT
BEGIN:VEVENT
DTSTART;TZID=America/Los_Angeles:20280622T080000
DTEND;TZID=America/Los_Angeles:20280622T120000
DTSTAMP:20260422T000933
CREATED:20250612T191049Z
LAST-MODIFIED:20250612T191049Z
UID:10013892-1845273600-1845288000@bosd1.sbcounty.gov
SUMMARY:High Desert Farmer’s Market
DESCRIPTION:Time: Thursday\, 8:00 AM – 12:00 PM \nFish Hatchery Rd\nBetween the Gym & Tennis Courts \n\n\n\nAddress:\n18422 Bear Valley Rd\nVictorville\, CA 92395\n\n\nPhone:\n760.468.3872
URL:https://bosd1.sbcounty.gov/event/high-desert-farmers-market-2/2028-06-22/
LOCATION:Victor Valley College\, 18422 Bear Valley Rd.\, Victorville\, CA\, 92395\, United States
CATEGORIES:Farmers Markets
ATTACH;FMTTYPE=image/jpeg:https://bosd1.sbcounty.gov/wp-content/uploads/sites/103/2023/11/County-Blog-Photos-14.jpg
END:VEVENT
BEGIN:VEVENT
DTSTART;TZID=America/Los_Angeles:20280629T080000
DTEND;TZID=America/Los_Angeles:20280629T120000
DTSTAMP:20260422T000933
CREATED:20250612T191049Z
LAST-MODIFIED:20250612T191049Z
UID:10013895-1845878400-1845892800@bosd1.sbcounty.gov
SUMMARY:High Desert Farmer’s Market
DESCRIPTION:Time: Thursday\, 8:00 AM – 12:00 PM \nFish Hatchery Rd\nBetween the Gym & Tennis Courts \n\n\n\nAddress:\n18422 Bear Valley Rd\nVictorville\, CA 92395\n\n\nPhone:\n760.468.3872
URL:https://bosd1.sbcounty.gov/event/high-desert-farmers-market-2/2028-06-29/
LOCATION:Victor Valley College\, 18422 Bear Valley Rd.\, Victorville\, CA\, 92395\, United States
CATEGORIES:Farmers Markets
ATTACH;FMTTYPE=image/jpeg:https://bosd1.sbcounty.gov/wp-content/uploads/sites/103/2023/11/County-Blog-Photos-14.jpg
END:VEVENT
BEGIN:VEVENT
DTSTART;TZID=America/Los_Angeles:20280706T080000
DTEND;TZID=America/Los_Angeles:20280706T120000
DTSTAMP:20260422T000933
CREATED:20250612T191049Z
LAST-MODIFIED:20250612T191049Z
UID:10013898-1846483200-1846497600@bosd1.sbcounty.gov
SUMMARY:High Desert Farmer’s Market
DESCRIPTION:Time: Thursday\, 8:00 AM – 12:00 PM \nFish Hatchery Rd\nBetween the Gym & Tennis Courts \n\n\n\nAddress:\n18422 Bear Valley Rd\nVictorville\, CA 92395\n\n\nPhone:\n760.468.3872
URL:https://bosd1.sbcounty.gov/event/high-desert-farmers-market-2/2028-07-06/
LOCATION:Victor Valley College\, 18422 Bear Valley Rd.\, Victorville\, CA\, 92395\, United States
CATEGORIES:Farmers Markets
ATTACH;FMTTYPE=image/jpeg:https://bosd1.sbcounty.gov/wp-content/uploads/sites/103/2023/11/County-Blog-Photos-14.jpg
END:VEVENT
BEGIN:VEVENT
DTSTART;TZID=America/Los_Angeles:20280713T080000
DTEND;TZID=America/Los_Angeles:20280713T120000
DTSTAMP:20260422T000933
CREATED:20250612T191049Z
LAST-MODIFIED:20250612T191049Z
UID:10013901-1847088000-1847102400@bosd1.sbcounty.gov
SUMMARY:High Desert Farmer’s Market
DESCRIPTION:Time: Thursday\, 8:00 AM – 12:00 PM \nFish Hatchery Rd\nBetween the Gym & Tennis Courts \n\n\n\nAddress:\n18422 Bear Valley Rd\nVictorville\, CA 92395\n\n\nPhone:\n760.468.3872
URL:https://bosd1.sbcounty.gov/event/high-desert-farmers-market-2/2028-07-13/
LOCATION:Victor Valley College\, 18422 Bear Valley Rd.\, Victorville\, CA\, 92395\, United States
CATEGORIES:Farmers Markets
ATTACH;FMTTYPE=image/jpeg:https://bosd1.sbcounty.gov/wp-content/uploads/sites/103/2023/11/County-Blog-Photos-14.jpg
END:VEVENT
BEGIN:VEVENT
DTSTART;TZID=America/Los_Angeles:20280720T080000
DTEND;TZID=America/Los_Angeles:20280720T120000
DTSTAMP:20260422T000933
CREATED:20250612T191049Z
LAST-MODIFIED:20250612T191049Z
UID:10013904-1847692800-1847707200@bosd1.sbcounty.gov
SUMMARY:High Desert Farmer’s Market
DESCRIPTION:Time: Thursday\, 8:00 AM – 12:00 PM \nFish Hatchery Rd\nBetween the Gym & Tennis Courts \n\n\n\nAddress:\n18422 Bear Valley Rd\nVictorville\, CA 92395\n\n\nPhone:\n760.468.3872
URL:https://bosd1.sbcounty.gov/event/high-desert-farmers-market-2/2028-07-20/
LOCATION:Victor Valley College\, 18422 Bear Valley Rd.\, Victorville\, CA\, 92395\, United States
CATEGORIES:Farmers Markets
ATTACH;FMTTYPE=image/jpeg:https://bosd1.sbcounty.gov/wp-content/uploads/sites/103/2023/11/County-Blog-Photos-14.jpg
END:VEVENT
BEGIN:VEVENT
DTSTART;TZID=America/Los_Angeles:20280727T080000
DTEND;TZID=America/Los_Angeles:20280727T120000
DTSTAMP:20260422T000933
CREATED:20250612T191049Z
LAST-MODIFIED:20250612T191049Z
UID:10013907-1848297600-1848312000@bosd1.sbcounty.gov
SUMMARY:High Desert Farmer’s Market
DESCRIPTION:Time: Thursday\, 8:00 AM – 12:00 PM \nFish Hatchery Rd\nBetween the Gym & Tennis Courts \n\n\n\nAddress:\n18422 Bear Valley Rd\nVictorville\, CA 92395\n\n\nPhone:\n760.468.3872
URL:https://bosd1.sbcounty.gov/event/high-desert-farmers-market-2/2028-07-27/
LOCATION:Victor Valley College\, 18422 Bear Valley Rd.\, Victorville\, CA\, 92395\, United States
CATEGORIES:Farmers Markets
ATTACH;FMTTYPE=image/jpeg:https://bosd1.sbcounty.gov/wp-content/uploads/sites/103/2023/11/County-Blog-Photos-14.jpg
END:VEVENT
BEGIN:VEVENT
DTSTART;TZID=America/Los_Angeles:20280803T080000
DTEND;TZID=America/Los_Angeles:20280803T120000
DTSTAMP:20260422T000933
CREATED:20250612T191049Z
LAST-MODIFIED:20250612T191049Z
UID:10013910-1848902400-1848916800@bosd1.sbcounty.gov
SUMMARY:High Desert Farmer’s Market
DESCRIPTION:Time: Thursday\, 8:00 AM – 12:00 PM \nFish Hatchery Rd\nBetween the Gym & Tennis Courts \n\n\n\nAddress:\n18422 Bear Valley Rd\nVictorville\, CA 92395\n\n\nPhone:\n760.468.3872
URL:https://bosd1.sbcounty.gov/event/high-desert-farmers-market-2/2028-08-03/
LOCATION:Victor Valley College\, 18422 Bear Valley Rd.\, Victorville\, CA\, 92395\, United States
CATEGORIES:Farmers Markets
ATTACH;FMTTYPE=image/jpeg:https://bosd1.sbcounty.gov/wp-content/uploads/sites/103/2023/11/County-Blog-Photos-14.jpg
END:VEVENT
BEGIN:VEVENT
DTSTART;TZID=America/Los_Angeles:20280810T080000
DTEND;TZID=America/Los_Angeles:20280810T120000
DTSTAMP:20260422T000933
CREATED:20250612T191049Z
LAST-MODIFIED:20250612T191049Z
UID:10013913-1849507200-1849521600@bosd1.sbcounty.gov
SUMMARY:High Desert Farmer’s Market
DESCRIPTION:Time: Thursday\, 8:00 AM – 12:00 PM \nFish Hatchery Rd\nBetween the Gym & Tennis Courts \n\n\n\nAddress:\n18422 Bear Valley Rd\nVictorville\, CA 92395\n\n\nPhone:\n760.468.3872
URL:https://bosd1.sbcounty.gov/event/high-desert-farmers-market-2/2028-08-10/
LOCATION:Victor Valley College\, 18422 Bear Valley Rd.\, Victorville\, CA\, 92395\, United States
CATEGORIES:Farmers Markets
ATTACH;FMTTYPE=image/jpeg:https://bosd1.sbcounty.gov/wp-content/uploads/sites/103/2023/11/County-Blog-Photos-14.jpg
END:VEVENT
BEGIN:VEVENT
DTSTART;TZID=America/Los_Angeles:20280817T080000
DTEND;TZID=America/Los_Angeles:20280817T120000
DTSTAMP:20260422T000933
CREATED:20250612T191049Z
LAST-MODIFIED:20250612T191049Z
UID:10013916-1850112000-1850126400@bosd1.sbcounty.gov
SUMMARY:High Desert Farmer’s Market
DESCRIPTION:Time: Thursday\, 8:00 AM – 12:00 PM \nFish Hatchery Rd\nBetween the Gym & Tennis Courts \n\n\n\nAddress:\n18422 Bear Valley Rd\nVictorville\, CA 92395\n\n\nPhone:\n760.468.3872
URL:https://bosd1.sbcounty.gov/event/high-desert-farmers-market-2/2028-08-17/
LOCATION:Victor Valley College\, 18422 Bear Valley Rd.\, Victorville\, CA\, 92395\, United States
CATEGORIES:Farmers Markets
ATTACH;FMTTYPE=image/jpeg:https://bosd1.sbcounty.gov/wp-content/uploads/sites/103/2023/11/County-Blog-Photos-14.jpg
END:VEVENT
BEGIN:VEVENT
DTSTART;TZID=America/Los_Angeles:20280824T080000
DTEND;TZID=America/Los_Angeles:20280824T120000
DTSTAMP:20260422T000933
CREATED:20250612T191049Z
LAST-MODIFIED:20250612T191049Z
UID:10013919-1850716800-1850731200@bosd1.sbcounty.gov
SUMMARY:High Desert Farmer’s Market
DESCRIPTION:Time: Thursday\, 8:00 AM – 12:00 PM \nFish Hatchery Rd\nBetween the Gym & Tennis Courts \n\n\n\nAddress:\n18422 Bear Valley Rd\nVictorville\, CA 92395\n\n\nPhone:\n760.468.3872
URL:https://bosd1.sbcounty.gov/event/high-desert-farmers-market-2/2028-08-24/
LOCATION:Victor Valley College\, 18422 Bear Valley Rd.\, Victorville\, CA\, 92395\, United States
CATEGORIES:Farmers Markets
ATTACH;FMTTYPE=image/jpeg:https://bosd1.sbcounty.gov/wp-content/uploads/sites/103/2023/11/County-Blog-Photos-14.jpg
END:VEVENT
BEGIN:VEVENT
DTSTART;TZID=America/Los_Angeles:20280831T080000
DTEND;TZID=America/Los_Angeles:20280831T120000
DTSTAMP:20260422T000933
CREATED:20250612T191049Z
LAST-MODIFIED:20250612T191049Z
UID:10013922-1851321600-1851336000@bosd1.sbcounty.gov
SUMMARY:High Desert Farmer’s Market
DESCRIPTION:Time: Thursday\, 8:00 AM – 12:00 PM \nFish Hatchery Rd\nBetween the Gym & Tennis Courts \n\n\n\nAddress:\n18422 Bear Valley Rd\nVictorville\, CA 92395\n\n\nPhone:\n760.468.3872
URL:https://bosd1.sbcounty.gov/event/high-desert-farmers-market-2/2028-08-31/
LOCATION:Victor Valley College\, 18422 Bear Valley Rd.\, Victorville\, CA\, 92395\, United States
CATEGORIES:Farmers Markets
ATTACH;FMTTYPE=image/jpeg:https://bosd1.sbcounty.gov/wp-content/uploads/sites/103/2023/11/County-Blog-Photos-14.jpg
END:VEVENT
BEGIN:VEVENT
DTSTART;TZID=America/Los_Angeles:20280907T080000
DTEND;TZID=America/Los_Angeles:20280907T120000
DTSTAMP:20260422T000933
CREATED:20250612T191049Z
LAST-MODIFIED:20250612T191049Z
UID:10013925-1851926400-1851940800@bosd1.sbcounty.gov
SUMMARY:High Desert Farmer’s Market
DESCRIPTION:Time: Thursday\, 8:00 AM – 12:00 PM \nFish Hatchery Rd\nBetween the Gym & Tennis Courts \n\n\n\nAddress:\n18422 Bear Valley Rd\nVictorville\, CA 92395\n\n\nPhone:\n760.468.3872
URL:https://bosd1.sbcounty.gov/event/high-desert-farmers-market-2/2028-09-07/
LOCATION:Victor Valley College\, 18422 Bear Valley Rd.\, Victorville\, CA\, 92395\, United States
CATEGORIES:Farmers Markets
ATTACH;FMTTYPE=image/jpeg:https://bosd1.sbcounty.gov/wp-content/uploads/sites/103/2023/11/County-Blog-Photos-14.jpg
END:VEVENT
BEGIN:VEVENT
DTSTART;TZID=America/Los_Angeles:20280914T080000
DTEND;TZID=America/Los_Angeles:20280914T120000
DTSTAMP:20260422T000933
CREATED:20250612T191049Z
LAST-MODIFIED:20250612T191049Z
UID:10013928-1852531200-1852545600@bosd1.sbcounty.gov
SUMMARY:High Desert Farmer’s Market
DESCRIPTION:Time: Thursday\, 8:00 AM – 12:00 PM \nFish Hatchery Rd\nBetween the Gym & Tennis Courts \n\n\n\nAddress:\n18422 Bear Valley Rd\nVictorville\, CA 92395\n\n\nPhone:\n760.468.3872
URL:https://bosd1.sbcounty.gov/event/high-desert-farmers-market-2/2028-09-14/
LOCATION:Victor Valley College\, 18422 Bear Valley Rd.\, Victorville\, CA\, 92395\, United States
CATEGORIES:Farmers Markets
ATTACH;FMTTYPE=image/jpeg:https://bosd1.sbcounty.gov/wp-content/uploads/sites/103/2023/11/County-Blog-Photos-14.jpg
END:VEVENT
END:VCALENDAR