BEGIN:VCALENDAR
VERSION:2.0
PRODID:-//Col. Paul Cook (Ret.) First District Supervisor - ECPv6.15.14//NONSGML v1.0//EN
CALSCALE:GREGORIAN
METHOD:PUBLISH
X-WR-CALNAME:Col. Paul Cook (Ret.) First District Supervisor
X-ORIGINAL-URL:https://bosd1.sbcounty.gov
X-WR-CALDESC:Events for Col. Paul Cook (Ret.) First District Supervisor
REFRESH-INTERVAL;VALUE=DURATION:PT1H
X-Robots-Tag:noindex
X-PUBLISHED-TTL:PT1H
BEGIN:VTIMEZONE
TZID:America/Los_Angeles
BEGIN:DAYLIGHT
TZOFFSETFROM:-0800
TZOFFSETTO:-0700
TZNAME:PDT
DTSTART:20250309T100000
END:DAYLIGHT
BEGIN:STANDARD
TZOFFSETFROM:-0700
TZOFFSETTO:-0800
TZNAME:PST
DTSTART:20251102T090000
END:STANDARD
BEGIN:DAYLIGHT
TZOFFSETFROM:-0800
TZOFFSETTO:-0700
TZNAME:PDT
DTSTART:20260308T100000
END:DAYLIGHT
BEGIN:STANDARD
TZOFFSETFROM:-0700
TZOFFSETTO:-0800
TZNAME:PST
DTSTART:20261101T090000
END:STANDARD
BEGIN:DAYLIGHT
TZOFFSETFROM:-0800
TZOFFSETTO:-0700
TZNAME:PDT
DTSTART:20270314T100000
END:DAYLIGHT
BEGIN:STANDARD
TZOFFSETFROM:-0700
TZOFFSETTO:-0800
TZNAME:PST
DTSTART:20271107T090000
END:STANDARD
BEGIN:DAYLIGHT
TZOFFSETFROM:-0800
TZOFFSETTO:-0700
TZNAME:PDT
DTSTART:20280312T100000
END:DAYLIGHT
BEGIN:STANDARD
TZOFFSETFROM:-0700
TZOFFSETTO:-0800
TZNAME:PST
DTSTART:20281105T090000
END:STANDARD
END:VTIMEZONE
BEGIN:VEVENT
DTSTART;TZID=America/Los_Angeles:20261231T080000
DTEND;TZID=America/Los_Angeles:20261231T120000
DTSTAMP:20260421T032757
CREATED:20250612T191049Z
LAST-MODIFIED:20250612T191049Z
UID:10013661-1798704000-1798718400@bosd1.sbcounty.gov
SUMMARY:High Desert Farmer’s Market
DESCRIPTION:Time: Thursday\, 8:00 AM – 12:00 PM \nFish Hatchery Rd\nBetween the Gym & Tennis Courts \n\n\n\nAddress:\n18422 Bear Valley Rd\nVictorville\, CA 92395\n\n\nPhone:\n760.468.3872
URL:https://bosd1.sbcounty.gov/event/high-desert-farmers-market-2/2026-12-31/
LOCATION:Victor Valley College\, 18422 Bear Valley Rd.\, Victorville\, CA\, 92395\, United States
CATEGORIES:Farmers Markets
ATTACH;FMTTYPE=image/jpeg:https://bosd1.sbcounty.gov/wp-content/uploads/sites/103/2023/11/County-Blog-Photos-14.jpg
END:VEVENT
BEGIN:VEVENT
DTSTART;TZID=America/Los_Angeles:20270107T080000
DTEND;TZID=America/Los_Angeles:20270107T120000
DTSTAMP:20260421T032757
CREATED:20250612T191049Z
LAST-MODIFIED:20250612T191049Z
UID:10013664-1799308800-1799323200@bosd1.sbcounty.gov
SUMMARY:High Desert Farmer’s Market
DESCRIPTION:Time: Thursday\, 8:00 AM – 12:00 PM \nFish Hatchery Rd\nBetween the Gym & Tennis Courts \n\n\n\nAddress:\n18422 Bear Valley Rd\nVictorville\, CA 92395\n\n\nPhone:\n760.468.3872
URL:https://bosd1.sbcounty.gov/event/high-desert-farmers-market-2/2027-01-07/
LOCATION:Victor Valley College\, 18422 Bear Valley Rd.\, Victorville\, CA\, 92395\, United States
CATEGORIES:Farmers Markets
ATTACH;FMTTYPE=image/jpeg:https://bosd1.sbcounty.gov/wp-content/uploads/sites/103/2023/11/County-Blog-Photos-14.jpg
END:VEVENT
BEGIN:VEVENT
DTSTART;TZID=America/Los_Angeles:20270114T080000
DTEND;TZID=America/Los_Angeles:20270114T120000
DTSTAMP:20260421T032757
CREATED:20250612T191049Z
LAST-MODIFIED:20250612T191049Z
UID:10013667-1799913600-1799928000@bosd1.sbcounty.gov
SUMMARY:High Desert Farmer’s Market
DESCRIPTION:Time: Thursday\, 8:00 AM – 12:00 PM \nFish Hatchery Rd\nBetween the Gym & Tennis Courts \n\n\n\nAddress:\n18422 Bear Valley Rd\nVictorville\, CA 92395\n\n\nPhone:\n760.468.3872
URL:https://bosd1.sbcounty.gov/event/high-desert-farmers-market-2/2027-01-14/
LOCATION:Victor Valley College\, 18422 Bear Valley Rd.\, Victorville\, CA\, 92395\, United States
CATEGORIES:Farmers Markets
ATTACH;FMTTYPE=image/jpeg:https://bosd1.sbcounty.gov/wp-content/uploads/sites/103/2023/11/County-Blog-Photos-14.jpg
END:VEVENT
BEGIN:VEVENT
DTSTART;TZID=America/Los_Angeles:20270121T080000
DTEND;TZID=America/Los_Angeles:20270121T120000
DTSTAMP:20260421T032757
CREATED:20250612T191049Z
LAST-MODIFIED:20250612T191049Z
UID:10013670-1800518400-1800532800@bosd1.sbcounty.gov
SUMMARY:High Desert Farmer’s Market
DESCRIPTION:Time: Thursday\, 8:00 AM – 12:00 PM \nFish Hatchery Rd\nBetween the Gym & Tennis Courts \n\n\n\nAddress:\n18422 Bear Valley Rd\nVictorville\, CA 92395\n\n\nPhone:\n760.468.3872
URL:https://bosd1.sbcounty.gov/event/high-desert-farmers-market-2/2027-01-21/
LOCATION:Victor Valley College\, 18422 Bear Valley Rd.\, Victorville\, CA\, 92395\, United States
CATEGORIES:Farmers Markets
ATTACH;FMTTYPE=image/jpeg:https://bosd1.sbcounty.gov/wp-content/uploads/sites/103/2023/11/County-Blog-Photos-14.jpg
END:VEVENT
BEGIN:VEVENT
DTSTART;TZID=America/Los_Angeles:20270128T080000
DTEND;TZID=America/Los_Angeles:20270128T120000
DTSTAMP:20260421T032757
CREATED:20250612T191049Z
LAST-MODIFIED:20250612T191049Z
UID:10013673-1801123200-1801137600@bosd1.sbcounty.gov
SUMMARY:High Desert Farmer’s Market
DESCRIPTION:Time: Thursday\, 8:00 AM – 12:00 PM \nFish Hatchery Rd\nBetween the Gym & Tennis Courts \n\n\n\nAddress:\n18422 Bear Valley Rd\nVictorville\, CA 92395\n\n\nPhone:\n760.468.3872
URL:https://bosd1.sbcounty.gov/event/high-desert-farmers-market-2/2027-01-28/
LOCATION:Victor Valley College\, 18422 Bear Valley Rd.\, Victorville\, CA\, 92395\, United States
CATEGORIES:Farmers Markets
ATTACH;FMTTYPE=image/jpeg:https://bosd1.sbcounty.gov/wp-content/uploads/sites/103/2023/11/County-Blog-Photos-14.jpg
END:VEVENT
BEGIN:VEVENT
DTSTART;TZID=America/Los_Angeles:20270204T080000
DTEND;TZID=America/Los_Angeles:20270204T120000
DTSTAMP:20260421T032757
CREATED:20250612T191049Z
LAST-MODIFIED:20250612T191049Z
UID:10013676-1801728000-1801742400@bosd1.sbcounty.gov
SUMMARY:High Desert Farmer’s Market
DESCRIPTION:Time: Thursday\, 8:00 AM – 12:00 PM \nFish Hatchery Rd\nBetween the Gym & Tennis Courts \n\n\n\nAddress:\n18422 Bear Valley Rd\nVictorville\, CA 92395\n\n\nPhone:\n760.468.3872
URL:https://bosd1.sbcounty.gov/event/high-desert-farmers-market-2/2027-02-04/
LOCATION:Victor Valley College\, 18422 Bear Valley Rd.\, Victorville\, CA\, 92395\, United States
CATEGORIES:Farmers Markets
ATTACH;FMTTYPE=image/jpeg:https://bosd1.sbcounty.gov/wp-content/uploads/sites/103/2023/11/County-Blog-Photos-14.jpg
END:VEVENT
BEGIN:VEVENT
DTSTART;TZID=America/Los_Angeles:20270211T080000
DTEND;TZID=America/Los_Angeles:20270211T120000
DTSTAMP:20260421T032757
CREATED:20250612T191049Z
LAST-MODIFIED:20250612T191049Z
UID:10013679-1802332800-1802347200@bosd1.sbcounty.gov
SUMMARY:High Desert Farmer’s Market
DESCRIPTION:Time: Thursday\, 8:00 AM – 12:00 PM \nFish Hatchery Rd\nBetween the Gym & Tennis Courts \n\n\n\nAddress:\n18422 Bear Valley Rd\nVictorville\, CA 92395\n\n\nPhone:\n760.468.3872
URL:https://bosd1.sbcounty.gov/event/high-desert-farmers-market-2/2027-02-11/
LOCATION:Victor Valley College\, 18422 Bear Valley Rd.\, Victorville\, CA\, 92395\, United States
CATEGORIES:Farmers Markets
ATTACH;FMTTYPE=image/jpeg:https://bosd1.sbcounty.gov/wp-content/uploads/sites/103/2023/11/County-Blog-Photos-14.jpg
END:VEVENT
BEGIN:VEVENT
DTSTART;TZID=America/Los_Angeles:20270218T080000
DTEND;TZID=America/Los_Angeles:20270218T120000
DTSTAMP:20260421T032757
CREATED:20250612T191049Z
LAST-MODIFIED:20250612T191049Z
UID:10013682-1802937600-1802952000@bosd1.sbcounty.gov
SUMMARY:High Desert Farmer’s Market
DESCRIPTION:Time: Thursday\, 8:00 AM – 12:00 PM \nFish Hatchery Rd\nBetween the Gym & Tennis Courts \n\n\n\nAddress:\n18422 Bear Valley Rd\nVictorville\, CA 92395\n\n\nPhone:\n760.468.3872
URL:https://bosd1.sbcounty.gov/event/high-desert-farmers-market-2/2027-02-18/
LOCATION:Victor Valley College\, 18422 Bear Valley Rd.\, Victorville\, CA\, 92395\, United States
CATEGORIES:Farmers Markets
ATTACH;FMTTYPE=image/jpeg:https://bosd1.sbcounty.gov/wp-content/uploads/sites/103/2023/11/County-Blog-Photos-14.jpg
END:VEVENT
BEGIN:VEVENT
DTSTART;TZID=America/Los_Angeles:20270225T080000
DTEND;TZID=America/Los_Angeles:20270225T120000
DTSTAMP:20260421T032757
CREATED:20250612T191049Z
LAST-MODIFIED:20250612T191049Z
UID:10013685-1803542400-1803556800@bosd1.sbcounty.gov
SUMMARY:High Desert Farmer’s Market
DESCRIPTION:Time: Thursday\, 8:00 AM – 12:00 PM \nFish Hatchery Rd\nBetween the Gym & Tennis Courts \n\n\n\nAddress:\n18422 Bear Valley Rd\nVictorville\, CA 92395\n\n\nPhone:\n760.468.3872
URL:https://bosd1.sbcounty.gov/event/high-desert-farmers-market-2/2027-02-25/
LOCATION:Victor Valley College\, 18422 Bear Valley Rd.\, Victorville\, CA\, 92395\, United States
CATEGORIES:Farmers Markets
ATTACH;FMTTYPE=image/jpeg:https://bosd1.sbcounty.gov/wp-content/uploads/sites/103/2023/11/County-Blog-Photos-14.jpg
END:VEVENT
BEGIN:VEVENT
DTSTART;TZID=America/Los_Angeles:20270304T080000
DTEND;TZID=America/Los_Angeles:20270304T120000
DTSTAMP:20260421T032757
CREATED:20250612T191049Z
LAST-MODIFIED:20250612T191049Z
UID:10013688-1804147200-1804161600@bosd1.sbcounty.gov
SUMMARY:High Desert Farmer’s Market
DESCRIPTION:Time: Thursday\, 8:00 AM – 12:00 PM \nFish Hatchery Rd\nBetween the Gym & Tennis Courts \n\n\n\nAddress:\n18422 Bear Valley Rd\nVictorville\, CA 92395\n\n\nPhone:\n760.468.3872
URL:https://bosd1.sbcounty.gov/event/high-desert-farmers-market-2/2027-03-04/
LOCATION:Victor Valley College\, 18422 Bear Valley Rd.\, Victorville\, CA\, 92395\, United States
CATEGORIES:Farmers Markets
ATTACH;FMTTYPE=image/jpeg:https://bosd1.sbcounty.gov/wp-content/uploads/sites/103/2023/11/County-Blog-Photos-14.jpg
END:VEVENT
BEGIN:VEVENT
DTSTART;TZID=America/Los_Angeles:20270311T080000
DTEND;TZID=America/Los_Angeles:20270311T120000
DTSTAMP:20260421T032757
CREATED:20250612T191049Z
LAST-MODIFIED:20250612T191049Z
UID:10013691-1804752000-1804766400@bosd1.sbcounty.gov
SUMMARY:High Desert Farmer’s Market
DESCRIPTION:Time: Thursday\, 8:00 AM – 12:00 PM \nFish Hatchery Rd\nBetween the Gym & Tennis Courts \n\n\n\nAddress:\n18422 Bear Valley Rd\nVictorville\, CA 92395\n\n\nPhone:\n760.468.3872
URL:https://bosd1.sbcounty.gov/event/high-desert-farmers-market-2/2027-03-11/
LOCATION:Victor Valley College\, 18422 Bear Valley Rd.\, Victorville\, CA\, 92395\, United States
CATEGORIES:Farmers Markets
ATTACH;FMTTYPE=image/jpeg:https://bosd1.sbcounty.gov/wp-content/uploads/sites/103/2023/11/County-Blog-Photos-14.jpg
END:VEVENT
BEGIN:VEVENT
DTSTART;TZID=America/Los_Angeles:20270318T080000
DTEND;TZID=America/Los_Angeles:20270318T120000
DTSTAMP:20260421T032757
CREATED:20250612T191049Z
LAST-MODIFIED:20250612T191049Z
UID:10013694-1805356800-1805371200@bosd1.sbcounty.gov
SUMMARY:High Desert Farmer’s Market
DESCRIPTION:Time: Thursday\, 8:00 AM – 12:00 PM \nFish Hatchery Rd\nBetween the Gym & Tennis Courts \n\n\n\nAddress:\n18422 Bear Valley Rd\nVictorville\, CA 92395\n\n\nPhone:\n760.468.3872
URL:https://bosd1.sbcounty.gov/event/high-desert-farmers-market-2/2027-03-18/
LOCATION:Victor Valley College\, 18422 Bear Valley Rd.\, Victorville\, CA\, 92395\, United States
CATEGORIES:Farmers Markets
ATTACH;FMTTYPE=image/jpeg:https://bosd1.sbcounty.gov/wp-content/uploads/sites/103/2023/11/County-Blog-Photos-14.jpg
END:VEVENT
BEGIN:VEVENT
DTSTART;TZID=America/Los_Angeles:20270325T080000
DTEND;TZID=America/Los_Angeles:20270325T120000
DTSTAMP:20260421T032757
CREATED:20250612T191049Z
LAST-MODIFIED:20250612T191049Z
UID:10013697-1805961600-1805976000@bosd1.sbcounty.gov
SUMMARY:High Desert Farmer’s Market
DESCRIPTION:Time: Thursday\, 8:00 AM – 12:00 PM \nFish Hatchery Rd\nBetween the Gym & Tennis Courts \n\n\n\nAddress:\n18422 Bear Valley Rd\nVictorville\, CA 92395\n\n\nPhone:\n760.468.3872
URL:https://bosd1.sbcounty.gov/event/high-desert-farmers-market-2/2027-03-25/
LOCATION:Victor Valley College\, 18422 Bear Valley Rd.\, Victorville\, CA\, 92395\, United States
CATEGORIES:Farmers Markets
ATTACH;FMTTYPE=image/jpeg:https://bosd1.sbcounty.gov/wp-content/uploads/sites/103/2023/11/County-Blog-Photos-14.jpg
END:VEVENT
BEGIN:VEVENT
DTSTART;TZID=America/Los_Angeles:20270401T080000
DTEND;TZID=America/Los_Angeles:20270401T120000
DTSTAMP:20260421T032757
CREATED:20250612T191049Z
LAST-MODIFIED:20250612T191049Z
UID:10013700-1806566400-1806580800@bosd1.sbcounty.gov
SUMMARY:High Desert Farmer’s Market
DESCRIPTION:Time: Thursday\, 8:00 AM – 12:00 PM \nFish Hatchery Rd\nBetween the Gym & Tennis Courts \n\n\n\nAddress:\n18422 Bear Valley Rd\nVictorville\, CA 92395\n\n\nPhone:\n760.468.3872
URL:https://bosd1.sbcounty.gov/event/high-desert-farmers-market-2/2027-04-01/
LOCATION:Victor Valley College\, 18422 Bear Valley Rd.\, Victorville\, CA\, 92395\, United States
CATEGORIES:Farmers Markets
ATTACH;FMTTYPE=image/jpeg:https://bosd1.sbcounty.gov/wp-content/uploads/sites/103/2023/11/County-Blog-Photos-14.jpg
END:VEVENT
BEGIN:VEVENT
DTSTART;TZID=America/Los_Angeles:20270408T080000
DTEND;TZID=America/Los_Angeles:20270408T120000
DTSTAMP:20260421T032757
CREATED:20250612T191049Z
LAST-MODIFIED:20250612T191049Z
UID:10013703-1807171200-1807185600@bosd1.sbcounty.gov
SUMMARY:High Desert Farmer’s Market
DESCRIPTION:Time: Thursday\, 8:00 AM – 12:00 PM \nFish Hatchery Rd\nBetween the Gym & Tennis Courts \n\n\n\nAddress:\n18422 Bear Valley Rd\nVictorville\, CA 92395\n\n\nPhone:\n760.468.3872
URL:https://bosd1.sbcounty.gov/event/high-desert-farmers-market-2/2027-04-08/
LOCATION:Victor Valley College\, 18422 Bear Valley Rd.\, Victorville\, CA\, 92395\, United States
CATEGORIES:Farmers Markets
ATTACH;FMTTYPE=image/jpeg:https://bosd1.sbcounty.gov/wp-content/uploads/sites/103/2023/11/County-Blog-Photos-14.jpg
END:VEVENT
BEGIN:VEVENT
DTSTART;TZID=America/Los_Angeles:20270415T080000
DTEND;TZID=America/Los_Angeles:20270415T120000
DTSTAMP:20260421T032757
CREATED:20250612T191049Z
LAST-MODIFIED:20250612T191049Z
UID:10013706-1807776000-1807790400@bosd1.sbcounty.gov
SUMMARY:High Desert Farmer’s Market
DESCRIPTION:Time: Thursday\, 8:00 AM – 12:00 PM \nFish Hatchery Rd\nBetween the Gym & Tennis Courts \n\n\n\nAddress:\n18422 Bear Valley Rd\nVictorville\, CA 92395\n\n\nPhone:\n760.468.3872
URL:https://bosd1.sbcounty.gov/event/high-desert-farmers-market-2/2027-04-15/
LOCATION:Victor Valley College\, 18422 Bear Valley Rd.\, Victorville\, CA\, 92395\, United States
CATEGORIES:Farmers Markets
ATTACH;FMTTYPE=image/jpeg:https://bosd1.sbcounty.gov/wp-content/uploads/sites/103/2023/11/County-Blog-Photos-14.jpg
END:VEVENT
BEGIN:VEVENT
DTSTART;TZID=America/Los_Angeles:20270422T080000
DTEND;TZID=America/Los_Angeles:20270422T120000
DTSTAMP:20260421T032757
CREATED:20250612T191049Z
LAST-MODIFIED:20250612T191049Z
UID:10013709-1808380800-1808395200@bosd1.sbcounty.gov
SUMMARY:High Desert Farmer’s Market
DESCRIPTION:Time: Thursday\, 8:00 AM – 12:00 PM \nFish Hatchery Rd\nBetween the Gym & Tennis Courts \n\n\n\nAddress:\n18422 Bear Valley Rd\nVictorville\, CA 92395\n\n\nPhone:\n760.468.3872
URL:https://bosd1.sbcounty.gov/event/high-desert-farmers-market-2/2027-04-22/
LOCATION:Victor Valley College\, 18422 Bear Valley Rd.\, Victorville\, CA\, 92395\, United States
CATEGORIES:Farmers Markets
ATTACH;FMTTYPE=image/jpeg:https://bosd1.sbcounty.gov/wp-content/uploads/sites/103/2023/11/County-Blog-Photos-14.jpg
END:VEVENT
BEGIN:VEVENT
DTSTART;TZID=America/Los_Angeles:20270429T080000
DTEND;TZID=America/Los_Angeles:20270429T120000
DTSTAMP:20260421T032757
CREATED:20250612T191049Z
LAST-MODIFIED:20250612T191049Z
UID:10013712-1808985600-1809000000@bosd1.sbcounty.gov
SUMMARY:High Desert Farmer’s Market
DESCRIPTION:Time: Thursday\, 8:00 AM – 12:00 PM \nFish Hatchery Rd\nBetween the Gym & Tennis Courts \n\n\n\nAddress:\n18422 Bear Valley Rd\nVictorville\, CA 92395\n\n\nPhone:\n760.468.3872
URL:https://bosd1.sbcounty.gov/event/high-desert-farmers-market-2/2027-04-29/
LOCATION:Victor Valley College\, 18422 Bear Valley Rd.\, Victorville\, CA\, 92395\, United States
CATEGORIES:Farmers Markets
ATTACH;FMTTYPE=image/jpeg:https://bosd1.sbcounty.gov/wp-content/uploads/sites/103/2023/11/County-Blog-Photos-14.jpg
END:VEVENT
BEGIN:VEVENT
DTSTART;TZID=America/Los_Angeles:20270506T080000
DTEND;TZID=America/Los_Angeles:20270506T120000
DTSTAMP:20260421T032757
CREATED:20250612T191049Z
LAST-MODIFIED:20250612T191049Z
UID:10013715-1809590400-1809604800@bosd1.sbcounty.gov
SUMMARY:High Desert Farmer’s Market
DESCRIPTION:Time: Thursday\, 8:00 AM – 12:00 PM \nFish Hatchery Rd\nBetween the Gym & Tennis Courts \n\n\n\nAddress:\n18422 Bear Valley Rd\nVictorville\, CA 92395\n\n\nPhone:\n760.468.3872
URL:https://bosd1.sbcounty.gov/event/high-desert-farmers-market-2/2027-05-06/
LOCATION:Victor Valley College\, 18422 Bear Valley Rd.\, Victorville\, CA\, 92395\, United States
CATEGORIES:Farmers Markets
ATTACH;FMTTYPE=image/jpeg:https://bosd1.sbcounty.gov/wp-content/uploads/sites/103/2023/11/County-Blog-Photos-14.jpg
END:VEVENT
BEGIN:VEVENT
DTSTART;TZID=America/Los_Angeles:20270513T080000
DTEND;TZID=America/Los_Angeles:20270513T120000
DTSTAMP:20260421T032757
CREATED:20250612T191049Z
LAST-MODIFIED:20250612T191049Z
UID:10013718-1810195200-1810209600@bosd1.sbcounty.gov
SUMMARY:High Desert Farmer’s Market
DESCRIPTION:Time: Thursday\, 8:00 AM – 12:00 PM \nFish Hatchery Rd\nBetween the Gym & Tennis Courts \n\n\n\nAddress:\n18422 Bear Valley Rd\nVictorville\, CA 92395\n\n\nPhone:\n760.468.3872
URL:https://bosd1.sbcounty.gov/event/high-desert-farmers-market-2/2027-05-13/
LOCATION:Victor Valley College\, 18422 Bear Valley Rd.\, Victorville\, CA\, 92395\, United States
CATEGORIES:Farmers Markets
ATTACH;FMTTYPE=image/jpeg:https://bosd1.sbcounty.gov/wp-content/uploads/sites/103/2023/11/County-Blog-Photos-14.jpg
END:VEVENT
BEGIN:VEVENT
DTSTART;TZID=America/Los_Angeles:20270520T080000
DTEND;TZID=America/Los_Angeles:20270520T120000
DTSTAMP:20260421T032757
CREATED:20250612T191049Z
LAST-MODIFIED:20250612T191049Z
UID:10013721-1810800000-1810814400@bosd1.sbcounty.gov
SUMMARY:High Desert Farmer’s Market
DESCRIPTION:Time: Thursday\, 8:00 AM – 12:00 PM \nFish Hatchery Rd\nBetween the Gym & Tennis Courts \n\n\n\nAddress:\n18422 Bear Valley Rd\nVictorville\, CA 92395\n\n\nPhone:\n760.468.3872
URL:https://bosd1.sbcounty.gov/event/high-desert-farmers-market-2/2027-05-20/
LOCATION:Victor Valley College\, 18422 Bear Valley Rd.\, Victorville\, CA\, 92395\, United States
CATEGORIES:Farmers Markets
ATTACH;FMTTYPE=image/jpeg:https://bosd1.sbcounty.gov/wp-content/uploads/sites/103/2023/11/County-Blog-Photos-14.jpg
END:VEVENT
BEGIN:VEVENT
DTSTART;TZID=America/Los_Angeles:20270527T080000
DTEND;TZID=America/Los_Angeles:20270527T120000
DTSTAMP:20260421T032757
CREATED:20250612T191049Z
LAST-MODIFIED:20250612T191049Z
UID:10013724-1811404800-1811419200@bosd1.sbcounty.gov
SUMMARY:High Desert Farmer’s Market
DESCRIPTION:Time: Thursday\, 8:00 AM – 12:00 PM \nFish Hatchery Rd\nBetween the Gym & Tennis Courts \n\n\n\nAddress:\n18422 Bear Valley Rd\nVictorville\, CA 92395\n\n\nPhone:\n760.468.3872
URL:https://bosd1.sbcounty.gov/event/high-desert-farmers-market-2/2027-05-27/
LOCATION:Victor Valley College\, 18422 Bear Valley Rd.\, Victorville\, CA\, 92395\, United States
CATEGORIES:Farmers Markets
ATTACH;FMTTYPE=image/jpeg:https://bosd1.sbcounty.gov/wp-content/uploads/sites/103/2023/11/County-Blog-Photos-14.jpg
END:VEVENT
BEGIN:VEVENT
DTSTART;TZID=America/Los_Angeles:20270603T080000
DTEND;TZID=America/Los_Angeles:20270603T120000
DTSTAMP:20260421T032757
CREATED:20250612T191049Z
LAST-MODIFIED:20250612T191049Z
UID:10013727-1812009600-1812024000@bosd1.sbcounty.gov
SUMMARY:High Desert Farmer’s Market
DESCRIPTION:Time: Thursday\, 8:00 AM – 12:00 PM \nFish Hatchery Rd\nBetween the Gym & Tennis Courts \n\n\n\nAddress:\n18422 Bear Valley Rd\nVictorville\, CA 92395\n\n\nPhone:\n760.468.3872
URL:https://bosd1.sbcounty.gov/event/high-desert-farmers-market-2/2027-06-03/
LOCATION:Victor Valley College\, 18422 Bear Valley Rd.\, Victorville\, CA\, 92395\, United States
CATEGORIES:Farmers Markets
ATTACH;FMTTYPE=image/jpeg:https://bosd1.sbcounty.gov/wp-content/uploads/sites/103/2023/11/County-Blog-Photos-14.jpg
END:VEVENT
BEGIN:VEVENT
DTSTART;TZID=America/Los_Angeles:20270610T080000
DTEND;TZID=America/Los_Angeles:20270610T120000
DTSTAMP:20260421T032757
CREATED:20250612T191049Z
LAST-MODIFIED:20250612T191049Z
UID:10013730-1812614400-1812628800@bosd1.sbcounty.gov
SUMMARY:High Desert Farmer’s Market
DESCRIPTION:Time: Thursday\, 8:00 AM – 12:00 PM \nFish Hatchery Rd\nBetween the Gym & Tennis Courts \n\n\n\nAddress:\n18422 Bear Valley Rd\nVictorville\, CA 92395\n\n\nPhone:\n760.468.3872
URL:https://bosd1.sbcounty.gov/event/high-desert-farmers-market-2/2027-06-10/
LOCATION:Victor Valley College\, 18422 Bear Valley Rd.\, Victorville\, CA\, 92395\, United States
CATEGORIES:Farmers Markets
ATTACH;FMTTYPE=image/jpeg:https://bosd1.sbcounty.gov/wp-content/uploads/sites/103/2023/11/County-Blog-Photos-14.jpg
END:VEVENT
BEGIN:VEVENT
DTSTART;TZID=America/Los_Angeles:20270617T080000
DTEND;TZID=America/Los_Angeles:20270617T120000
DTSTAMP:20260421T032757
CREATED:20250612T191049Z
LAST-MODIFIED:20250612T191049Z
UID:10013733-1813219200-1813233600@bosd1.sbcounty.gov
SUMMARY:High Desert Farmer’s Market
DESCRIPTION:Time: Thursday\, 8:00 AM – 12:00 PM \nFish Hatchery Rd\nBetween the Gym & Tennis Courts \n\n\n\nAddress:\n18422 Bear Valley Rd\nVictorville\, CA 92395\n\n\nPhone:\n760.468.3872
URL:https://bosd1.sbcounty.gov/event/high-desert-farmers-market-2/2027-06-17/
LOCATION:Victor Valley College\, 18422 Bear Valley Rd.\, Victorville\, CA\, 92395\, United States
CATEGORIES:Farmers Markets
ATTACH;FMTTYPE=image/jpeg:https://bosd1.sbcounty.gov/wp-content/uploads/sites/103/2023/11/County-Blog-Photos-14.jpg
END:VEVENT
BEGIN:VEVENT
DTSTART;TZID=America/Los_Angeles:20270624T080000
DTEND;TZID=America/Los_Angeles:20270624T120000
DTSTAMP:20260421T032757
CREATED:20250612T191049Z
LAST-MODIFIED:20250612T191049Z
UID:10013736-1813824000-1813838400@bosd1.sbcounty.gov
SUMMARY:High Desert Farmer’s Market
DESCRIPTION:Time: Thursday\, 8:00 AM – 12:00 PM \nFish Hatchery Rd\nBetween the Gym & Tennis Courts \n\n\n\nAddress:\n18422 Bear Valley Rd\nVictorville\, CA 92395\n\n\nPhone:\n760.468.3872
URL:https://bosd1.sbcounty.gov/event/high-desert-farmers-market-2/2027-06-24/
LOCATION:Victor Valley College\, 18422 Bear Valley Rd.\, Victorville\, CA\, 92395\, United States
CATEGORIES:Farmers Markets
ATTACH;FMTTYPE=image/jpeg:https://bosd1.sbcounty.gov/wp-content/uploads/sites/103/2023/11/County-Blog-Photos-14.jpg
END:VEVENT
BEGIN:VEVENT
DTSTART;TZID=America/Los_Angeles:20270701T080000
DTEND;TZID=America/Los_Angeles:20270701T120000
DTSTAMP:20260421T032757
CREATED:20250612T191049Z
LAST-MODIFIED:20250612T191049Z
UID:10013739-1814428800-1814443200@bosd1.sbcounty.gov
SUMMARY:High Desert Farmer’s Market
DESCRIPTION:Time: Thursday\, 8:00 AM – 12:00 PM \nFish Hatchery Rd\nBetween the Gym & Tennis Courts \n\n\n\nAddress:\n18422 Bear Valley Rd\nVictorville\, CA 92395\n\n\nPhone:\n760.468.3872
URL:https://bosd1.sbcounty.gov/event/high-desert-farmers-market-2/2027-07-01/
LOCATION:Victor Valley College\, 18422 Bear Valley Rd.\, Victorville\, CA\, 92395\, United States
CATEGORIES:Farmers Markets
ATTACH;FMTTYPE=image/jpeg:https://bosd1.sbcounty.gov/wp-content/uploads/sites/103/2023/11/County-Blog-Photos-14.jpg
END:VEVENT
BEGIN:VEVENT
DTSTART;TZID=America/Los_Angeles:20270708T080000
DTEND;TZID=America/Los_Angeles:20270708T120000
DTSTAMP:20260421T032757
CREATED:20250612T191049Z
LAST-MODIFIED:20250612T191049Z
UID:10013742-1815033600-1815048000@bosd1.sbcounty.gov
SUMMARY:High Desert Farmer’s Market
DESCRIPTION:Time: Thursday\, 8:00 AM – 12:00 PM \nFish Hatchery Rd\nBetween the Gym & Tennis Courts \n\n\n\nAddress:\n18422 Bear Valley Rd\nVictorville\, CA 92395\n\n\nPhone:\n760.468.3872
URL:https://bosd1.sbcounty.gov/event/high-desert-farmers-market-2/2027-07-08/
LOCATION:Victor Valley College\, 18422 Bear Valley Rd.\, Victorville\, CA\, 92395\, United States
CATEGORIES:Farmers Markets
ATTACH;FMTTYPE=image/jpeg:https://bosd1.sbcounty.gov/wp-content/uploads/sites/103/2023/11/County-Blog-Photos-14.jpg
END:VEVENT
BEGIN:VEVENT
DTSTART;TZID=America/Los_Angeles:20270715T080000
DTEND;TZID=America/Los_Angeles:20270715T120000
DTSTAMP:20260421T032757
CREATED:20250612T191049Z
LAST-MODIFIED:20250612T191049Z
UID:10013745-1815638400-1815652800@bosd1.sbcounty.gov
SUMMARY:High Desert Farmer’s Market
DESCRIPTION:Time: Thursday\, 8:00 AM – 12:00 PM \nFish Hatchery Rd\nBetween the Gym & Tennis Courts \n\n\n\nAddress:\n18422 Bear Valley Rd\nVictorville\, CA 92395\n\n\nPhone:\n760.468.3872
URL:https://bosd1.sbcounty.gov/event/high-desert-farmers-market-2/2027-07-15/
LOCATION:Victor Valley College\, 18422 Bear Valley Rd.\, Victorville\, CA\, 92395\, United States
CATEGORIES:Farmers Markets
ATTACH;FMTTYPE=image/jpeg:https://bosd1.sbcounty.gov/wp-content/uploads/sites/103/2023/11/County-Blog-Photos-14.jpg
END:VEVENT
BEGIN:VEVENT
DTSTART;TZID=America/Los_Angeles:20270722T080000
DTEND;TZID=America/Los_Angeles:20270722T120000
DTSTAMP:20260421T032757
CREATED:20250612T191049Z
LAST-MODIFIED:20250612T191049Z
UID:10013748-1816243200-1816257600@bosd1.sbcounty.gov
SUMMARY:High Desert Farmer’s Market
DESCRIPTION:Time: Thursday\, 8:00 AM – 12:00 PM \nFish Hatchery Rd\nBetween the Gym & Tennis Courts \n\n\n\nAddress:\n18422 Bear Valley Rd\nVictorville\, CA 92395\n\n\nPhone:\n760.468.3872
URL:https://bosd1.sbcounty.gov/event/high-desert-farmers-market-2/2027-07-22/
LOCATION:Victor Valley College\, 18422 Bear Valley Rd.\, Victorville\, CA\, 92395\, United States
CATEGORIES:Farmers Markets
ATTACH;FMTTYPE=image/jpeg:https://bosd1.sbcounty.gov/wp-content/uploads/sites/103/2023/11/County-Blog-Photos-14.jpg
END:VEVENT
END:VCALENDAR