BEGIN:VCALENDAR
VERSION:2.0
PRODID:-//Col. Paul Cook (Ret.) First District Supervisor - ECPv6.15.14//NONSGML v1.0//EN
CALSCALE:GREGORIAN
METHOD:PUBLISH
X-ORIGINAL-URL:https://bosd1.sbcounty.gov
X-WR-CALDESC:Events for Col. Paul Cook (Ret.) First District Supervisor
REFRESH-INTERVAL;VALUE=DURATION:PT1H
X-Robots-Tag:noindex
X-PUBLISHED-TTL:PT1H
BEGIN:VTIMEZONE
TZID:America/Los_Angeles
BEGIN:DAYLIGHT
TZOFFSETFROM:-0800
TZOFFSETTO:-0700
TZNAME:PDT
DTSTART:20220313T100000
END:DAYLIGHT
BEGIN:STANDARD
TZOFFSETFROM:-0700
TZOFFSETTO:-0800
TZNAME:PST
DTSTART:20221106T090000
END:STANDARD
BEGIN:DAYLIGHT
TZOFFSETFROM:-0800
TZOFFSETTO:-0700
TZNAME:PDT
DTSTART:20230312T100000
END:DAYLIGHT
BEGIN:STANDARD
TZOFFSETFROM:-0700
TZOFFSETTO:-0800
TZNAME:PST
DTSTART:20231105T090000
END:STANDARD
BEGIN:DAYLIGHT
TZOFFSETFROM:-0800
TZOFFSETTO:-0700
TZNAME:PDT
DTSTART:20240310T100000
END:DAYLIGHT
BEGIN:STANDARD
TZOFFSETFROM:-0700
TZOFFSETTO:-0800
TZNAME:PST
DTSTART:20241103T090000
END:STANDARD
BEGIN:DAYLIGHT
TZOFFSETFROM:-0800
TZOFFSETTO:-0700
TZNAME:PDT
DTSTART:20250309T100000
END:DAYLIGHT
BEGIN:STANDARD
TZOFFSETFROM:-0700
TZOFFSETTO:-0800
TZNAME:PST
DTSTART:20251102T090000
END:STANDARD
END:VTIMEZONE
BEGIN:VEVENT
DTSTART;TZID=America/Los_Angeles:20240918T160000
DTEND;TZID=America/Los_Angeles:20240918T200000
DTSTAMP:20260420T034347
CREATED:20240806T181537Z
LAST-MODIFIED:20240806T181537Z
UID:10008954-1726675200-1726689600@bosd1.sbcounty.gov
SUMMARY:State of the County
DESCRIPTION:Join San Bernardino County for this year’s “Empowering Tomorrow” State of the County event on Wednesday\, Sept. 18\, at the Ontario Convention Center. \nThis premier networking event brings together more than 1\,000 businesses\, government and community leaders to experience what makes San Bernardino County a leading choice for business investment and job creation. \nFor 2024\, we are recognizing the organizations that are driving our Countywide Vision forward and highlighting the global\, national and local business leaders who are investing in the region. \nThe $50 cost of admission covers the networking reception with heavy hors d’oeuvres and live entertainment. Get your tickets now.
URL:https://bosd1.sbcounty.gov/event/state-of-the-county-2/
LOCATION:Ontario Convention Center\, 2000 E. Convention Center Way\, Ontario\, CA\, 91764\, United States
CATEGORIES:Community Events
ATTACH;FMTTYPE=image/jpeg:https://bosd1.sbcounty.gov/wp-content/uploads/sites/103/2024/08/ONT.jpg
END:VEVENT
BEGIN:VEVENT
DTSTART;TZID=America/Los_Angeles:20230927T163000
DTEND;TZID=America/Los_Angeles:20230927T203000
DTSTAMP:20260420T034347
CREATED:20230919T183118Z
LAST-MODIFIED:20230919T183118Z
UID:10004445-1695832200-1695846600@bosd1.sbcounty.gov
SUMMARY:State of the County
DESCRIPTION:State of the County brings together more than 1\,000 business\, government\, and community leaders to experience more on what makes San Bernardino County a leading choice for business investment and job creation. For 2023\, the county is highlighting Opportunity Works Here\, recognizing the county initiatives that are moving the Countywide Vision forward as well as highlighting the business leaders at a global\, national\, and local level that are choosing to invest in the region. \nProgram Agenda\nNAIOP panel discussion: 3 – 4:30 p.m.\nRegistration: 4:30 – 5:30 p.m.\nMain event: 5:30 – 7:30 p.m.\nNetworking event: 7:30 – 8:30 p.m.
URL:https://bosd1.sbcounty.gov/event/state-of-the-county/
LOCATION:Ontario Convention Center\, 2000 E. Convention Center Way\, Ontario\, CA\, 91764\, United States
CATEGORIES:Community Events
ATTACH;FMTTYPE=image/jpeg:https://bosd1.sbcounty.gov/wp-content/uploads/sites/103/2023/09/State-of-the-County-1.jpg
END:VEVENT
END:VCALENDAR