BEGIN:VCALENDAR
VERSION:2.0
PRODID:-//Col. Paul Cook (Ret.) First District Supervisor - ECPv6.15.14//NONSGML v1.0//EN
CALSCALE:GREGORIAN
METHOD:PUBLISH
X-ORIGINAL-URL:https://bosd1.sbcounty.gov
X-WR-CALDESC:Events for Col. Paul Cook (Ret.) First District Supervisor
REFRESH-INTERVAL;VALUE=DURATION:PT1H
X-Robots-Tag:noindex
X-PUBLISHED-TTL:PT1H
BEGIN:VTIMEZONE
TZID:America/Los_Angeles
BEGIN:DAYLIGHT
TZOFFSETFROM:-0800
TZOFFSETTO:-0700
TZNAME:PDT
DTSTART:20260308T100000
END:DAYLIGHT
BEGIN:STANDARD
TZOFFSETFROM:-0700
TZOFFSETTO:-0800
TZNAME:PST
DTSTART:20261101T090000
END:STANDARD
BEGIN:DAYLIGHT
TZOFFSETFROM:-0800
TZOFFSETTO:-0700
TZNAME:PDT
DTSTART:20270314T100000
END:DAYLIGHT
BEGIN:STANDARD
TZOFFSETFROM:-0700
TZOFFSETTO:-0800
TZNAME:PST
DTSTART:20271107T090000
END:STANDARD
BEGIN:DAYLIGHT
TZOFFSETFROM:-0800
TZOFFSETTO:-0700
TZNAME:PDT
DTSTART:20280312T100000
END:DAYLIGHT
BEGIN:STANDARD
TZOFFSETFROM:-0700
TZOFFSETTO:-0800
TZNAME:PST
DTSTART:20281105T090000
END:STANDARD
BEGIN:DAYLIGHT
TZOFFSETFROM:-0800
TZOFFSETTO:-0700
TZNAME:PDT
DTSTART:20290311T100000
END:DAYLIGHT
BEGIN:STANDARD
TZOFFSETFROM:-0700
TZOFFSETTO:-0800
TZNAME:PST
DTSTART:20291104T090000
END:STANDARD
BEGIN:DAYLIGHT
TZOFFSETFROM:-0800
TZOFFSETTO:-0700
TZNAME:PDT
DTSTART:20300310T100000
END:DAYLIGHT
BEGIN:STANDARD
TZOFFSETFROM:-0700
TZOFFSETTO:-0800
TZNAME:PST
DTSTART:20301103T090000
END:STANDARD
END:VTIMEZONE
BEGIN:VEVENT
DTSTART;TZID=America/Los_Angeles:20271102T183000
DTEND;TZID=America/Los_Angeles:20271102T203000
DTSTAMP:20260423T183314
CREATED:20240309T152253Z
LAST-MODIFIED:20240309T152253Z
UID:10005558-1825180200-1825187400@bosd1.sbcounty.gov
SUMMARY:Hesperia City Council Meeting
DESCRIPTION:The Hesperia City Council meets on the first and third Tuesday of every month. Dates are subject to change\, especially during the holidays. For the latest information\, go to https://www.cityofhesperia.us/135/Agendas-Minutes
URL:https://bosd1.sbcounty.gov/event/hesperia-city-council-meeting/2027-11-02/
LOCATION:Hesperia City Hall\, 9700 Seventh Ave.\, Hesperia\, CA\, 92345\, United States
CATEGORIES:Meetings
ATTACH;FMTTYPE=image/jpeg:https://bosd1.sbcounty.gov/wp-content/uploads/sites/103/2023/11/Hesperia-city-Hall.jpg
END:VEVENT
BEGIN:VEVENT
DTSTART;TZID=America/Los_Angeles:20271116T183000
DTEND;TZID=America/Los_Angeles:20271116T203000
DTSTAMP:20260423T183314
CREATED:20231109T182235Z
LAST-MODIFIED:20231109T182612Z
UID:10005369-1826389800-1826397000@bosd1.sbcounty.gov
SUMMARY:Hesperia City Council Meeting
DESCRIPTION:The Hesperia City Council meets on the first and third Tuesday of every month. Dates are subject to change\, especially during the holidays. For the latest information\, go to https://www.cityofhesperia.us/135/Agendas-Minutes
URL:https://bosd1.sbcounty.gov/event/hesperia-city-council-meeting/2027-11-16/
LOCATION:Hesperia City Hall\, 9700 Seventh Ave.\, Hesperia\, CA\, 92345\, United States
CATEGORIES:Meetings
ATTACH;FMTTYPE=image/jpeg:https://bosd1.sbcounty.gov/wp-content/uploads/sites/103/2023/11/Hesperia-city-Hall.jpg
END:VEVENT
BEGIN:VEVENT
DTSTART;TZID=America/Los_Angeles:20271207T183000
DTEND;TZID=America/Los_Angeles:20271207T203000
DTSTAMP:20260423T183314
CREATED:20240309T152253Z
LAST-MODIFIED:20240309T152253Z
UID:10005561-1828204200-1828211400@bosd1.sbcounty.gov
SUMMARY:Hesperia City Council Meeting
DESCRIPTION:The Hesperia City Council meets on the first and third Tuesday of every month. Dates are subject to change\, especially during the holidays. For the latest information\, go to https://www.cityofhesperia.us/135/Agendas-Minutes
URL:https://bosd1.sbcounty.gov/event/hesperia-city-council-meeting/2027-12-07/
LOCATION:Hesperia City Hall\, 9700 Seventh Ave.\, Hesperia\, CA\, 92345\, United States
CATEGORIES:Meetings
ATTACH;FMTTYPE=image/jpeg:https://bosd1.sbcounty.gov/wp-content/uploads/sites/103/2023/11/Hesperia-city-Hall.jpg
END:VEVENT
BEGIN:VEVENT
DTSTART;TZID=America/Los_Angeles:20271221T183000
DTEND;TZID=America/Los_Angeles:20271221T203000
DTSTAMP:20260423T183314
CREATED:20231109T182235Z
LAST-MODIFIED:20231109T182612Z
UID:10005372-1829413800-1829421000@bosd1.sbcounty.gov
SUMMARY:Hesperia City Council Meeting
DESCRIPTION:The Hesperia City Council meets on the first and third Tuesday of every month. Dates are subject to change\, especially during the holidays. For the latest information\, go to https://www.cityofhesperia.us/135/Agendas-Minutes
URL:https://bosd1.sbcounty.gov/event/hesperia-city-council-meeting/2027-12-21/
LOCATION:Hesperia City Hall\, 9700 Seventh Ave.\, Hesperia\, CA\, 92345\, United States
CATEGORIES:Meetings
ATTACH;FMTTYPE=image/jpeg:https://bosd1.sbcounty.gov/wp-content/uploads/sites/103/2023/11/Hesperia-city-Hall.jpg
END:VEVENT
BEGIN:VEVENT
DTSTART;TZID=America/Los_Angeles:20280104T183000
DTEND;TZID=America/Los_Angeles:20280104T203000
DTSTAMP:20260423T183314
CREATED:20240309T152253Z
LAST-MODIFIED:20240309T152253Z
UID:10005564-1830623400-1830630600@bosd1.sbcounty.gov
SUMMARY:Hesperia City Council Meeting
DESCRIPTION:The Hesperia City Council meets on the first and third Tuesday of every month. Dates are subject to change\, especially during the holidays. For the latest information\, go to https://www.cityofhesperia.us/135/Agendas-Minutes
URL:https://bosd1.sbcounty.gov/event/hesperia-city-council-meeting/2028-01-04/
LOCATION:Hesperia City Hall\, 9700 Seventh Ave.\, Hesperia\, CA\, 92345\, United States
CATEGORIES:Meetings
ATTACH;FMTTYPE=image/jpeg:https://bosd1.sbcounty.gov/wp-content/uploads/sites/103/2023/11/Hesperia-city-Hall.jpg
END:VEVENT
BEGIN:VEVENT
DTSTART;TZID=America/Los_Angeles:20280118T183000
DTEND;TZID=America/Los_Angeles:20280118T203000
DTSTAMP:20260423T183314
CREATED:20231109T182235Z
LAST-MODIFIED:20231109T182612Z
UID:10005375-1831833000-1831840200@bosd1.sbcounty.gov
SUMMARY:Hesperia City Council Meeting
DESCRIPTION:The Hesperia City Council meets on the first and third Tuesday of every month. Dates are subject to change\, especially during the holidays. For the latest information\, go to https://www.cityofhesperia.us/135/Agendas-Minutes
URL:https://bosd1.sbcounty.gov/event/hesperia-city-council-meeting/2028-01-18/
LOCATION:Hesperia City Hall\, 9700 Seventh Ave.\, Hesperia\, CA\, 92345\, United States
CATEGORIES:Meetings
ATTACH;FMTTYPE=image/jpeg:https://bosd1.sbcounty.gov/wp-content/uploads/sites/103/2023/11/Hesperia-city-Hall.jpg
END:VEVENT
BEGIN:VEVENT
DTSTART;TZID=America/Los_Angeles:20280201T183000
DTEND;TZID=America/Los_Angeles:20280201T203000
DTSTAMP:20260423T183314
CREATED:20240309T152253Z
LAST-MODIFIED:20240309T152253Z
UID:10005567-1833042600-1833049800@bosd1.sbcounty.gov
SUMMARY:Hesperia City Council Meeting
DESCRIPTION:The Hesperia City Council meets on the first and third Tuesday of every month. Dates are subject to change\, especially during the holidays. For the latest information\, go to https://www.cityofhesperia.us/135/Agendas-Minutes
URL:https://bosd1.sbcounty.gov/event/hesperia-city-council-meeting/2028-02-01/
LOCATION:Hesperia City Hall\, 9700 Seventh Ave.\, Hesperia\, CA\, 92345\, United States
CATEGORIES:Meetings
ATTACH;FMTTYPE=image/jpeg:https://bosd1.sbcounty.gov/wp-content/uploads/sites/103/2023/11/Hesperia-city-Hall.jpg
END:VEVENT
BEGIN:VEVENT
DTSTART;TZID=America/Los_Angeles:20280215T183000
DTEND;TZID=America/Los_Angeles:20280215T203000
DTSTAMP:20260423T183314
CREATED:20231109T182235Z
LAST-MODIFIED:20231109T182612Z
UID:10005378-1834252200-1834259400@bosd1.sbcounty.gov
SUMMARY:Hesperia City Council Meeting
DESCRIPTION:The Hesperia City Council meets on the first and third Tuesday of every month. Dates are subject to change\, especially during the holidays. For the latest information\, go to https://www.cityofhesperia.us/135/Agendas-Minutes
URL:https://bosd1.sbcounty.gov/event/hesperia-city-council-meeting/2028-02-15/
LOCATION:Hesperia City Hall\, 9700 Seventh Ave.\, Hesperia\, CA\, 92345\, United States
CATEGORIES:Meetings
ATTACH;FMTTYPE=image/jpeg:https://bosd1.sbcounty.gov/wp-content/uploads/sites/103/2023/11/Hesperia-city-Hall.jpg
END:VEVENT
BEGIN:VEVENT
DTSTART;TZID=America/Los_Angeles:20280307T183000
DTEND;TZID=America/Los_Angeles:20280307T203000
DTSTAMP:20260423T183314
CREATED:20240309T152253Z
LAST-MODIFIED:20240309T152253Z
UID:10005570-1836066600-1836073800@bosd1.sbcounty.gov
SUMMARY:Hesperia City Council Meeting
DESCRIPTION:The Hesperia City Council meets on the first and third Tuesday of every month. Dates are subject to change\, especially during the holidays. For the latest information\, go to https://www.cityofhesperia.us/135/Agendas-Minutes
URL:https://bosd1.sbcounty.gov/event/hesperia-city-council-meeting/2028-03-07/
LOCATION:Hesperia City Hall\, 9700 Seventh Ave.\, Hesperia\, CA\, 92345\, United States
CATEGORIES:Meetings
ATTACH;FMTTYPE=image/jpeg:https://bosd1.sbcounty.gov/wp-content/uploads/sites/103/2023/11/Hesperia-city-Hall.jpg
END:VEVENT
BEGIN:VEVENT
DTSTART;TZID=America/Los_Angeles:20280321T183000
DTEND;TZID=America/Los_Angeles:20280321T203000
DTSTAMP:20260423T183314
CREATED:20231109T182235Z
LAST-MODIFIED:20231109T182612Z
UID:10005381-1837276200-1837283400@bosd1.sbcounty.gov
SUMMARY:Hesperia City Council Meeting
DESCRIPTION:The Hesperia City Council meets on the first and third Tuesday of every month. Dates are subject to change\, especially during the holidays. For the latest information\, go to https://www.cityofhesperia.us/135/Agendas-Minutes
URL:https://bosd1.sbcounty.gov/event/hesperia-city-council-meeting/2028-03-21/
LOCATION:Hesperia City Hall\, 9700 Seventh Ave.\, Hesperia\, CA\, 92345\, United States
CATEGORIES:Meetings
ATTACH;FMTTYPE=image/jpeg:https://bosd1.sbcounty.gov/wp-content/uploads/sites/103/2023/11/Hesperia-city-Hall.jpg
END:VEVENT
BEGIN:VEVENT
DTSTART;TZID=America/Los_Angeles:20280404T183000
DTEND;TZID=America/Los_Angeles:20280404T203000
DTSTAMP:20260423T183314
CREATED:20240309T152253Z
LAST-MODIFIED:20240309T152253Z
UID:10005573-1838485800-1838493000@bosd1.sbcounty.gov
SUMMARY:Hesperia City Council Meeting
DESCRIPTION:The Hesperia City Council meets on the first and third Tuesday of every month. Dates are subject to change\, especially during the holidays. For the latest information\, go to https://www.cityofhesperia.us/135/Agendas-Minutes
URL:https://bosd1.sbcounty.gov/event/hesperia-city-council-meeting/2028-04-04/
LOCATION:Hesperia City Hall\, 9700 Seventh Ave.\, Hesperia\, CA\, 92345\, United States
CATEGORIES:Meetings
ATTACH;FMTTYPE=image/jpeg:https://bosd1.sbcounty.gov/wp-content/uploads/sites/103/2023/11/Hesperia-city-Hall.jpg
END:VEVENT
BEGIN:VEVENT
DTSTART;TZID=America/Los_Angeles:20280418T183000
DTEND;TZID=America/Los_Angeles:20280418T203000
DTSTAMP:20260423T183314
CREATED:20231109T182235Z
LAST-MODIFIED:20231109T182612Z
UID:10005384-1839695400-1839702600@bosd1.sbcounty.gov
SUMMARY:Hesperia City Council Meeting
DESCRIPTION:The Hesperia City Council meets on the first and third Tuesday of every month. Dates are subject to change\, especially during the holidays. For the latest information\, go to https://www.cityofhesperia.us/135/Agendas-Minutes
URL:https://bosd1.sbcounty.gov/event/hesperia-city-council-meeting/2028-04-18/
LOCATION:Hesperia City Hall\, 9700 Seventh Ave.\, Hesperia\, CA\, 92345\, United States
CATEGORIES:Meetings
ATTACH;FMTTYPE=image/jpeg:https://bosd1.sbcounty.gov/wp-content/uploads/sites/103/2023/11/Hesperia-city-Hall.jpg
END:VEVENT
BEGIN:VEVENT
DTSTART;TZID=America/Los_Angeles:20280502T183000
DTEND;TZID=America/Los_Angeles:20280502T203000
DTSTAMP:20260423T183314
CREATED:20240309T152253Z
LAST-MODIFIED:20240309T152253Z
UID:10005576-1840905000-1840912200@bosd1.sbcounty.gov
SUMMARY:Hesperia City Council Meeting
DESCRIPTION:The Hesperia City Council meets on the first and third Tuesday of every month. Dates are subject to change\, especially during the holidays. For the latest information\, go to https://www.cityofhesperia.us/135/Agendas-Minutes
URL:https://bosd1.sbcounty.gov/event/hesperia-city-council-meeting/2028-05-02/
LOCATION:Hesperia City Hall\, 9700 Seventh Ave.\, Hesperia\, CA\, 92345\, United States
CATEGORIES:Meetings
ATTACH;FMTTYPE=image/jpeg:https://bosd1.sbcounty.gov/wp-content/uploads/sites/103/2023/11/Hesperia-city-Hall.jpg
END:VEVENT
BEGIN:VEVENT
DTSTART;TZID=America/Los_Angeles:20280516T183000
DTEND;TZID=America/Los_Angeles:20280516T203000
DTSTAMP:20260423T183314
CREATED:20231109T182235Z
LAST-MODIFIED:20231109T182612Z
UID:10005387-1842114600-1842121800@bosd1.sbcounty.gov
SUMMARY:Hesperia City Council Meeting
DESCRIPTION:The Hesperia City Council meets on the first and third Tuesday of every month. Dates are subject to change\, especially during the holidays. For the latest information\, go to https://www.cityofhesperia.us/135/Agendas-Minutes
URL:https://bosd1.sbcounty.gov/event/hesperia-city-council-meeting/2028-05-16/
LOCATION:Hesperia City Hall\, 9700 Seventh Ave.\, Hesperia\, CA\, 92345\, United States
CATEGORIES:Meetings
ATTACH;FMTTYPE=image/jpeg:https://bosd1.sbcounty.gov/wp-content/uploads/sites/103/2023/11/Hesperia-city-Hall.jpg
END:VEVENT
BEGIN:VEVENT
DTSTART;TZID=America/Los_Angeles:20280606T183000
DTEND;TZID=America/Los_Angeles:20280606T203000
DTSTAMP:20260423T183314
CREATED:20240309T152253Z
LAST-MODIFIED:20240309T152253Z
UID:10005579-1843929000-1843936200@bosd1.sbcounty.gov
SUMMARY:Hesperia City Council Meeting
DESCRIPTION:The Hesperia City Council meets on the first and third Tuesday of every month. Dates are subject to change\, especially during the holidays. For the latest information\, go to https://www.cityofhesperia.us/135/Agendas-Minutes
URL:https://bosd1.sbcounty.gov/event/hesperia-city-council-meeting/2028-06-06/
LOCATION:Hesperia City Hall\, 9700 Seventh Ave.\, Hesperia\, CA\, 92345\, United States
CATEGORIES:Meetings
ATTACH;FMTTYPE=image/jpeg:https://bosd1.sbcounty.gov/wp-content/uploads/sites/103/2023/11/Hesperia-city-Hall.jpg
END:VEVENT
BEGIN:VEVENT
DTSTART;TZID=America/Los_Angeles:20280620T183000
DTEND;TZID=America/Los_Angeles:20280620T203000
DTSTAMP:20260423T183314
CREATED:20231109T182235Z
LAST-MODIFIED:20231109T182612Z
UID:10005390-1845138600-1845145800@bosd1.sbcounty.gov
SUMMARY:Hesperia City Council Meeting
DESCRIPTION:The Hesperia City Council meets on the first and third Tuesday of every month. Dates are subject to change\, especially during the holidays. For the latest information\, go to https://www.cityofhesperia.us/135/Agendas-Minutes
URL:https://bosd1.sbcounty.gov/event/hesperia-city-council-meeting/2028-06-20/
LOCATION:Hesperia City Hall\, 9700 Seventh Ave.\, Hesperia\, CA\, 92345\, United States
CATEGORIES:Meetings
ATTACH;FMTTYPE=image/jpeg:https://bosd1.sbcounty.gov/wp-content/uploads/sites/103/2023/11/Hesperia-city-Hall.jpg
END:VEVENT
BEGIN:VEVENT
DTSTART;TZID=America/Los_Angeles:20280704T183000
DTEND;TZID=America/Los_Angeles:20280704T203000
DTSTAMP:20260423T183314
CREATED:20240309T152253Z
LAST-MODIFIED:20240309T152253Z
UID:10005582-1846348200-1846355400@bosd1.sbcounty.gov
SUMMARY:Hesperia City Council Meeting
DESCRIPTION:The Hesperia City Council meets on the first and third Tuesday of every month. Dates are subject to change\, especially during the holidays. For the latest information\, go to https://www.cityofhesperia.us/135/Agendas-Minutes
URL:https://bosd1.sbcounty.gov/event/hesperia-city-council-meeting/2028-07-04/
LOCATION:Hesperia City Hall\, 9700 Seventh Ave.\, Hesperia\, CA\, 92345\, United States
CATEGORIES:Meetings
ATTACH;FMTTYPE=image/jpeg:https://bosd1.sbcounty.gov/wp-content/uploads/sites/103/2023/11/Hesperia-city-Hall.jpg
END:VEVENT
BEGIN:VEVENT
DTSTART;TZID=America/Los_Angeles:20280718T183000
DTEND;TZID=America/Los_Angeles:20280718T203000
DTSTAMP:20260423T183314
CREATED:20231109T182235Z
LAST-MODIFIED:20231109T182612Z
UID:10005393-1847557800-1847565000@bosd1.sbcounty.gov
SUMMARY:Hesperia City Council Meeting
DESCRIPTION:The Hesperia City Council meets on the first and third Tuesday of every month. Dates are subject to change\, especially during the holidays. For the latest information\, go to https://www.cityofhesperia.us/135/Agendas-Minutes
URL:https://bosd1.sbcounty.gov/event/hesperia-city-council-meeting/2028-07-18/
LOCATION:Hesperia City Hall\, 9700 Seventh Ave.\, Hesperia\, CA\, 92345\, United States
CATEGORIES:Meetings
ATTACH;FMTTYPE=image/jpeg:https://bosd1.sbcounty.gov/wp-content/uploads/sites/103/2023/11/Hesperia-city-Hall.jpg
END:VEVENT
BEGIN:VEVENT
DTSTART;TZID=America/Los_Angeles:20280801T183000
DTEND;TZID=America/Los_Angeles:20280801T203000
DTSTAMP:20260423T183314
CREATED:20240309T152253Z
LAST-MODIFIED:20240309T152253Z
UID:10005585-1848767400-1848774600@bosd1.sbcounty.gov
SUMMARY:Hesperia City Council Meeting
DESCRIPTION:The Hesperia City Council meets on the first and third Tuesday of every month. Dates are subject to change\, especially during the holidays. For the latest information\, go to https://www.cityofhesperia.us/135/Agendas-Minutes
URL:https://bosd1.sbcounty.gov/event/hesperia-city-council-meeting/2028-08-01/
LOCATION:Hesperia City Hall\, 9700 Seventh Ave.\, Hesperia\, CA\, 92345\, United States
CATEGORIES:Meetings
ATTACH;FMTTYPE=image/jpeg:https://bosd1.sbcounty.gov/wp-content/uploads/sites/103/2023/11/Hesperia-city-Hall.jpg
END:VEVENT
BEGIN:VEVENT
DTSTART;TZID=America/Los_Angeles:20280815T183000
DTEND;TZID=America/Los_Angeles:20280815T203000
DTSTAMP:20260423T183314
CREATED:20231109T182235Z
LAST-MODIFIED:20231109T182612Z
UID:10005396-1849977000-1849984200@bosd1.sbcounty.gov
SUMMARY:Hesperia City Council Meeting
DESCRIPTION:The Hesperia City Council meets on the first and third Tuesday of every month. Dates are subject to change\, especially during the holidays. For the latest information\, go to https://www.cityofhesperia.us/135/Agendas-Minutes
URL:https://bosd1.sbcounty.gov/event/hesperia-city-council-meeting/2028-08-15/
LOCATION:Hesperia City Hall\, 9700 Seventh Ave.\, Hesperia\, CA\, 92345\, United States
CATEGORIES:Meetings
ATTACH;FMTTYPE=image/jpeg:https://bosd1.sbcounty.gov/wp-content/uploads/sites/103/2023/11/Hesperia-city-Hall.jpg
END:VEVENT
BEGIN:VEVENT
DTSTART;TZID=America/Los_Angeles:20280905T183000
DTEND;TZID=America/Los_Angeles:20280905T203000
DTSTAMP:20260423T183314
CREATED:20240309T152253Z
LAST-MODIFIED:20240309T152253Z
UID:10005588-1851791400-1851798600@bosd1.sbcounty.gov
SUMMARY:Hesperia City Council Meeting
DESCRIPTION:The Hesperia City Council meets on the first and third Tuesday of every month. Dates are subject to change\, especially during the holidays. For the latest information\, go to https://www.cityofhesperia.us/135/Agendas-Minutes
URL:https://bosd1.sbcounty.gov/event/hesperia-city-council-meeting/2028-09-05/
LOCATION:Hesperia City Hall\, 9700 Seventh Ave.\, Hesperia\, CA\, 92345\, United States
CATEGORIES:Meetings
ATTACH;FMTTYPE=image/jpeg:https://bosd1.sbcounty.gov/wp-content/uploads/sites/103/2023/11/Hesperia-city-Hall.jpg
END:VEVENT
BEGIN:VEVENT
DTSTART;TZID=America/Los_Angeles:20280919T183000
DTEND;TZID=America/Los_Angeles:20280919T203000
DTSTAMP:20260423T183314
CREATED:20231109T182235Z
LAST-MODIFIED:20231109T182612Z
UID:10005399-1853001000-1853008200@bosd1.sbcounty.gov
SUMMARY:Hesperia City Council Meeting
DESCRIPTION:The Hesperia City Council meets on the first and third Tuesday of every month. Dates are subject to change\, especially during the holidays. For the latest information\, go to https://www.cityofhesperia.us/135/Agendas-Minutes
URL:https://bosd1.sbcounty.gov/event/hesperia-city-council-meeting/2028-09-19/
LOCATION:Hesperia City Hall\, 9700 Seventh Ave.\, Hesperia\, CA\, 92345\, United States
CATEGORIES:Meetings
ATTACH;FMTTYPE=image/jpeg:https://bosd1.sbcounty.gov/wp-content/uploads/sites/103/2023/11/Hesperia-city-Hall.jpg
END:VEVENT
BEGIN:VEVENT
DTSTART;TZID=America/Los_Angeles:20281003T183000
DTEND;TZID=America/Los_Angeles:20281003T203000
DTSTAMP:20260423T183314
CREATED:20240309T152253Z
LAST-MODIFIED:20240309T152253Z
UID:10005591-1854210600-1854217800@bosd1.sbcounty.gov
SUMMARY:Hesperia City Council Meeting
DESCRIPTION:The Hesperia City Council meets on the first and third Tuesday of every month. Dates are subject to change\, especially during the holidays. For the latest information\, go to https://www.cityofhesperia.us/135/Agendas-Minutes
URL:https://bosd1.sbcounty.gov/event/hesperia-city-council-meeting/2028-10-03/
LOCATION:Hesperia City Hall\, 9700 Seventh Ave.\, Hesperia\, CA\, 92345\, United States
CATEGORIES:Meetings
ATTACH;FMTTYPE=image/jpeg:https://bosd1.sbcounty.gov/wp-content/uploads/sites/103/2023/11/Hesperia-city-Hall.jpg
END:VEVENT
BEGIN:VEVENT
DTSTART;TZID=America/Los_Angeles:20281017T183000
DTEND;TZID=America/Los_Angeles:20281017T203000
DTSTAMP:20260423T183314
CREATED:20231109T182235Z
LAST-MODIFIED:20231109T182612Z
UID:10005402-1855420200-1855427400@bosd1.sbcounty.gov
SUMMARY:Hesperia City Council Meeting
DESCRIPTION:The Hesperia City Council meets on the first and third Tuesday of every month. Dates are subject to change\, especially during the holidays. For the latest information\, go to https://www.cityofhesperia.us/135/Agendas-Minutes
URL:https://bosd1.sbcounty.gov/event/hesperia-city-council-meeting/2028-10-17/
LOCATION:Hesperia City Hall\, 9700 Seventh Ave.\, Hesperia\, CA\, 92345\, United States
CATEGORIES:Meetings
ATTACH;FMTTYPE=image/jpeg:https://bosd1.sbcounty.gov/wp-content/uploads/sites/103/2023/11/Hesperia-city-Hall.jpg
END:VEVENT
BEGIN:VEVENT
DTSTART;TZID=America/Los_Angeles:20281107T183000
DTEND;TZID=America/Los_Angeles:20281107T203000
DTSTAMP:20260423T183314
CREATED:20240309T152253Z
LAST-MODIFIED:20240309T152253Z
UID:10005594-1857234600-1857241800@bosd1.sbcounty.gov
SUMMARY:Hesperia City Council Meeting
DESCRIPTION:The Hesperia City Council meets on the first and third Tuesday of every month. Dates are subject to change\, especially during the holidays. For the latest information\, go to https://www.cityofhesperia.us/135/Agendas-Minutes
URL:https://bosd1.sbcounty.gov/event/hesperia-city-council-meeting/2028-11-07/
LOCATION:Hesperia City Hall\, 9700 Seventh Ave.\, Hesperia\, CA\, 92345\, United States
CATEGORIES:Meetings
ATTACH;FMTTYPE=image/jpeg:https://bosd1.sbcounty.gov/wp-content/uploads/sites/103/2023/11/Hesperia-city-Hall.jpg
END:VEVENT
BEGIN:VEVENT
DTSTART;TZID=America/Los_Angeles:20281121T183000
DTEND;TZID=America/Los_Angeles:20281121T203000
DTSTAMP:20260423T183314
CREATED:20231109T182235Z
LAST-MODIFIED:20231109T182612Z
UID:10005405-1858444200-1858451400@bosd1.sbcounty.gov
SUMMARY:Hesperia City Council Meeting
DESCRIPTION:The Hesperia City Council meets on the first and third Tuesday of every month. Dates are subject to change\, especially during the holidays. For the latest information\, go to https://www.cityofhesperia.us/135/Agendas-Minutes
URL:https://bosd1.sbcounty.gov/event/hesperia-city-council-meeting/2028-11-21/
LOCATION:Hesperia City Hall\, 9700 Seventh Ave.\, Hesperia\, CA\, 92345\, United States
CATEGORIES:Meetings
ATTACH;FMTTYPE=image/jpeg:https://bosd1.sbcounty.gov/wp-content/uploads/sites/103/2023/11/Hesperia-city-Hall.jpg
END:VEVENT
BEGIN:VEVENT
DTSTART;TZID=America/Los_Angeles:20281205T183000
DTEND;TZID=America/Los_Angeles:20281205T203000
DTSTAMP:20260423T183314
CREATED:20240309T152253Z
LAST-MODIFIED:20240309T152253Z
UID:10005597-1859653800-1859661000@bosd1.sbcounty.gov
SUMMARY:Hesperia City Council Meeting
DESCRIPTION:The Hesperia City Council meets on the first and third Tuesday of every month. Dates are subject to change\, especially during the holidays. For the latest information\, go to https://www.cityofhesperia.us/135/Agendas-Minutes
URL:https://bosd1.sbcounty.gov/event/hesperia-city-council-meeting/2028-12-05/
LOCATION:Hesperia City Hall\, 9700 Seventh Ave.\, Hesperia\, CA\, 92345\, United States
CATEGORIES:Meetings
ATTACH;FMTTYPE=image/jpeg:https://bosd1.sbcounty.gov/wp-content/uploads/sites/103/2023/11/Hesperia-city-Hall.jpg
END:VEVENT
BEGIN:VEVENT
DTSTART;TZID=America/Los_Angeles:20281219T183000
DTEND;TZID=America/Los_Angeles:20281219T203000
DTSTAMP:20260423T183314
CREATED:20231109T182235Z
LAST-MODIFIED:20231109T182612Z
UID:10005408-1860863400-1860870600@bosd1.sbcounty.gov
SUMMARY:Hesperia City Council Meeting
DESCRIPTION:The Hesperia City Council meets on the first and third Tuesday of every month. Dates are subject to change\, especially during the holidays. For the latest information\, go to https://www.cityofhesperia.us/135/Agendas-Minutes
URL:https://bosd1.sbcounty.gov/event/hesperia-city-council-meeting/2028-12-19/
LOCATION:Hesperia City Hall\, 9700 Seventh Ave.\, Hesperia\, CA\, 92345\, United States
CATEGORIES:Meetings
ATTACH;FMTTYPE=image/jpeg:https://bosd1.sbcounty.gov/wp-content/uploads/sites/103/2023/11/Hesperia-city-Hall.jpg
END:VEVENT
BEGIN:VEVENT
DTSTART;TZID=America/Los_Angeles:20290102T183000
DTEND;TZID=America/Los_Angeles:20290102T203000
DTSTAMP:20260423T183314
CREATED:20240309T152253Z
LAST-MODIFIED:20240309T152253Z
UID:10005600-1862073000-1862080200@bosd1.sbcounty.gov
SUMMARY:Hesperia City Council Meeting
DESCRIPTION:The Hesperia City Council meets on the first and third Tuesday of every month. Dates are subject to change\, especially during the holidays. For the latest information\, go to https://www.cityofhesperia.us/135/Agendas-Minutes
URL:https://bosd1.sbcounty.gov/event/hesperia-city-council-meeting/2029-01-02/
LOCATION:Hesperia City Hall\, 9700 Seventh Ave.\, Hesperia\, CA\, 92345\, United States
CATEGORIES:Meetings
ATTACH;FMTTYPE=image/jpeg:https://bosd1.sbcounty.gov/wp-content/uploads/sites/103/2023/11/Hesperia-city-Hall.jpg
END:VEVENT
BEGIN:VEVENT
DTSTART;TZID=America/Los_Angeles:20290116T183000
DTEND;TZID=America/Los_Angeles:20290116T203000
DTSTAMP:20260423T183314
CREATED:20231109T182235Z
LAST-MODIFIED:20231109T182612Z
UID:10005411-1863282600-1863289800@bosd1.sbcounty.gov
SUMMARY:Hesperia City Council Meeting
DESCRIPTION:The Hesperia City Council meets on the first and third Tuesday of every month. Dates are subject to change\, especially during the holidays. For the latest information\, go to https://www.cityofhesperia.us/135/Agendas-Minutes
URL:https://bosd1.sbcounty.gov/event/hesperia-city-council-meeting/2029-01-16/
LOCATION:Hesperia City Hall\, 9700 Seventh Ave.\, Hesperia\, CA\, 92345\, United States
CATEGORIES:Meetings
ATTACH;FMTTYPE=image/jpeg:https://bosd1.sbcounty.gov/wp-content/uploads/sites/103/2023/11/Hesperia-city-Hall.jpg
END:VEVENT
END:VCALENDAR