BEGIN:VCALENDAR
VERSION:2.0
PRODID:-//Col. Paul Cook (Ret.) First District Supervisor - ECPv6.15.14//NONSGML v1.0//EN
CALSCALE:GREGORIAN
METHOD:PUBLISH
X-ORIGINAL-URL:https://bosd1.sbcounty.gov
X-WR-CALDESC:Events for Col. Paul Cook (Ret.) First District Supervisor
REFRESH-INTERVAL;VALUE=DURATION:PT1H
X-Robots-Tag:noindex
X-PUBLISHED-TTL:PT1H
BEGIN:VTIMEZONE
TZID:America/Los_Angeles
BEGIN:DAYLIGHT
TZOFFSETFROM:-0800
TZOFFSETTO:-0700
TZNAME:PDT
DTSTART:20220313T100000
END:DAYLIGHT
BEGIN:STANDARD
TZOFFSETFROM:-0700
TZOFFSETTO:-0800
TZNAME:PST
DTSTART:20221106T090000
END:STANDARD
BEGIN:DAYLIGHT
TZOFFSETFROM:-0800
TZOFFSETTO:-0700
TZNAME:PDT
DTSTART:20230312T100000
END:DAYLIGHT
BEGIN:STANDARD
TZOFFSETFROM:-0700
TZOFFSETTO:-0800
TZNAME:PST
DTSTART:20231105T090000
END:STANDARD
BEGIN:DAYLIGHT
TZOFFSETFROM:-0800
TZOFFSETTO:-0700
TZNAME:PDT
DTSTART:20240310T100000
END:DAYLIGHT
BEGIN:STANDARD
TZOFFSETFROM:-0700
TZOFFSETTO:-0800
TZNAME:PST
DTSTART:20241103T090000
END:STANDARD
BEGIN:DAYLIGHT
TZOFFSETFROM:-0800
TZOFFSETTO:-0700
TZNAME:PDT
DTSTART:20250309T100000
END:DAYLIGHT
BEGIN:STANDARD
TZOFFSETFROM:-0700
TZOFFSETTO:-0800
TZNAME:PST
DTSTART:20251102T090000
END:STANDARD
END:VTIMEZONE
BEGIN:VEVENT
DTSTART;TZID=America/Los_Angeles:20241102T170000
DTEND;TZID=America/Los_Angeles:20241102T210000
DTSTAMP:20260421T102907
CREATED:20240822T185541Z
LAST-MODIFIED:20240822T185541Z
UID:10010096-1730566800-1730581200@bosd1.sbcounty.gov
SUMMARY:Dia de los Muertos Gala
DESCRIPTION:Family Assistance Program Presents A Celebration of Families Dia de los Muertos Gala. Join the Family Assistance Program as they celebrate the lives of those here and beyond. It’s a Gala! It’s a fiesta! It’s a sharing of culture to bring us together to focus on families and the bonds that strengthen the fabric of our communities. Cocktail hour starts at 5 pm followed by dinner\, an awards show\, and lots of entertainment. Then dance the night away! Semi-formal\, cocktail\, and traditional dress requested.
URL:https://bosd1.sbcounty.gov/event/dia-de-los-muertos-gala/
LOCATION:Hilton Garden Inn\, 12603 Mariposa Rd\, Victorville\, 92395\, United States
CATEGORIES:Fundraisers
ATTACH;FMTTYPE=image/jpeg:https://bosd1.sbcounty.gov/wp-content/uploads/sites/103/2024/08/Dia-de-los-Muertos.jpg
END:VEVENT
BEGIN:VEVENT
DTSTART;TZID=America/Los_Angeles:20240928T100000
DTEND;TZID=America/Los_Angeles:20240928T160000
DTSTAMP:20260421T102907
CREATED:20240829T192720Z
LAST-MODIFIED:20240829T192720Z
UID:10010666-1727517600-1727539200@bosd1.sbcounty.gov
SUMMARY:'Walk a Mile in Their Shoes' Fundraiser
DESCRIPTION:The Family Assistance Program is hosting a “Walk a Mile in Their Shoes” event on Saturday\, September 28 to raise awareness about domestic violence. The walk starts at 10 a.m. at the San Bernardino County Fairgrounds in Victorville\, followed by a Celebration of Life festival with food\, vendors\, and activities until 4 PM. Registration is required and includes a meal ticket and a goodie bag. There will also be a car show with a $25 registration fee that includes a meal ticket for two. If you’d like to be a vendor\, contact Sylvia Romo at sylvia@familyassist.org for more information. Wear purple to the event to remember victims of domestic violence and consider making a donation or bringing water\, snacks or ice
URL:https://bosd1.sbcounty.gov/event/walk-a-mile-in-their-shoes-fundraiser/
LOCATION:San Bernardino County Fairgrounds\, 14800 7th St\, Victorville\, CA\, 92395\, United States
CATEGORIES:Fundraisers
ATTACH;FMTTYPE=image/jpeg:https://bosd1.sbcounty.gov/wp-content/uploads/sites/103/2024/08/Website-Events-16x9-8.jpg
END:VEVENT
BEGIN:VEVENT
DTSTART;TZID=America/Los_Angeles:20240903T080000
DTEND;TZID=America/Los_Angeles:20240903T170000
DTSTAMP:20260421T102907
CREATED:20240903T192245Z
LAST-MODIFIED:20240903T192245Z
UID:10010915-1725350400-1725382800@bosd1.sbcounty.gov
SUMMARY:Dia de los Muertos Gala
DESCRIPTION:The Family Assistance Program invites you to a Dia de los Muertos Gala on November 2 at the Hilton Garden Inn in Victorville. This festive event celebrates the lives of loved ones both present and departed\, fostering community bonds through shared culture. Enjoy a cocktail hour at 5 p.m.\, followed by dinner\, awards\, entertainment\, and dancing. Dress to impress in semi-formal\, cocktail\, or traditional attire. Sponsorship opportunities are available.
URL:https://bosd1.sbcounty.gov/event/dia-de-los-muertos-gala-2/
LOCATION:Hilton Garden Inn\, 12603 Mariposa Rd\, Victorville\, 92395\, United States
CATEGORIES:Community Events,Fundraisers
ATTACH;FMTTYPE=image/jpeg:https://bosd1.sbcounty.gov/wp-content/uploads/sites/103/2024/09/Website-Events-16x9-18.jpg
END:VEVENT
BEGIN:VEVENT
DTSTART;TZID=America/Los_Angeles:20230915T170000
DTEND;TZID=America/Los_Angeles:20230915T230000
DTSTAMP:20260421T102907
CREATED:20230912T164854Z
LAST-MODIFIED:20230912T182448Z
UID:10004217-1694797200-1694818800@bosd1.sbcounty.gov
SUMMARY:Fiesta in the High Desert
DESCRIPTION:The Family Assistance Program will host a Fiesta Fundraiser on Sept. 15 benefiting its Tiny Home Village for homeless youth. The event will take place from 5-11 p.m. at the Courtyard By Marriott in Hesperia. Tickets are $20. For more information\, please call (760) 843-0701.
URL:https://bosd1.sbcounty.gov/event/fiesta-in-the-high-desert/
LOCATION:Courtyard by Marriott\, 9619 Mariposa Rd\, Hesperia\, CA\, 92345\, United States
CATEGORIES:Fundraisers
ATTACH;FMTTYPE=image/jpeg:https://bosd1.sbcounty.gov/wp-content/uploads/sites/103/2023/09/Fiesta.jpg
END:VEVENT
END:VCALENDAR