BEGIN:VCALENDAR
VERSION:2.0
PRODID:-//Col. Paul Cook (Ret.) First District Supervisor - ECPv6.15.14//NONSGML v1.0//EN
CALSCALE:GREGORIAN
METHOD:PUBLISH
X-WR-CALNAME:Col. Paul Cook (Ret.) First District Supervisor
X-ORIGINAL-URL:https://bosd1.sbcounty.gov
X-WR-CALDESC:Events for Col. Paul Cook (Ret.) First District Supervisor
REFRESH-INTERVAL;VALUE=DURATION:PT1H
X-Robots-Tag:noindex
X-PUBLISHED-TTL:PT1H
BEGIN:VTIMEZONE
TZID:America/Los_Angeles
BEGIN:DAYLIGHT
TZOFFSETFROM:-0800
TZOFFSETTO:-0700
TZNAME:PDT
DTSTART:20240310T100000
END:DAYLIGHT
BEGIN:STANDARD
TZOFFSETFROM:-0700
TZOFFSETTO:-0800
TZNAME:PST
DTSTART:20241103T090000
END:STANDARD
BEGIN:DAYLIGHT
TZOFFSETFROM:-0800
TZOFFSETTO:-0700
TZNAME:PDT
DTSTART:20250309T100000
END:DAYLIGHT
BEGIN:STANDARD
TZOFFSETFROM:-0700
TZOFFSETTO:-0800
TZNAME:PST
DTSTART:20251102T090000
END:STANDARD
BEGIN:DAYLIGHT
TZOFFSETFROM:-0800
TZOFFSETTO:-0700
TZNAME:PDT
DTSTART:20260308T100000
END:DAYLIGHT
BEGIN:STANDARD
TZOFFSETFROM:-0700
TZOFFSETTO:-0800
TZNAME:PST
DTSTART:20261101T090000
END:STANDARD
END:VTIMEZONE
BEGIN:VEVENT
DTSTART;TZID=America/Los_Angeles:20250712T090000
DTEND;TZID=America/Los_Angeles:20250712T130000
DTSTAMP:20260420T145746
CREATED:20250710T172136Z
LAST-MODIFIED:20250710T172136Z
UID:10014434-1752310800-1752325200@bosd1.sbcounty.gov
SUMMARY:BLM Desert Advisory Council
DESCRIPTION:The Bureau of Land Management is holding a virtual public meeting of the Desert Advisory Council on Saturday\, July 12\, from 9 a.m. to 1 p.m. They encourage your participation\, with a public comment period starting at 9:30 a.m. \nThis engaging meeting will feature a presentation on the U.S. Forest Services’ recreation fee proposal for the San Bernardino National Forest\, along with a vote by the Desert Advisory Council. Additionally\, you’ll have the opportunity to hear updates on Administrative Orders and reports from BLM field offices\, including insights into their fire program.
URL:https://bosd1.sbcounty.gov/event/blm-desert-advisory-council/
LOCATION:Online\, CA\, United States
CATEGORIES:Community Events,Public Lands
ATTACH;FMTTYPE=image/jpeg:https://bosd1.sbcounty.gov/wp-content/uploads/sites/103/BLM.jpg
END:VEVENT
END:VCALENDAR