BEGIN:VCALENDAR
VERSION:2.0
PRODID:-//Col. Paul Cook (Ret.) First District Supervisor - ECPv6.15.14//NONSGML v1.0//EN
CALSCALE:GREGORIAN
METHOD:PUBLISH
X-WR-CALNAME:Col. Paul Cook (Ret.) First District Supervisor
X-ORIGINAL-URL:https://bosd1.sbcounty.gov
X-WR-CALDESC:Events for Col. Paul Cook (Ret.) First District Supervisor
REFRESH-INTERVAL;VALUE=DURATION:PT1H
X-Robots-Tag:noindex
X-PUBLISHED-TTL:PT1H
BEGIN:VTIMEZONE
TZID:America/Los_Angeles
BEGIN:DAYLIGHT
TZOFFSETFROM:-0800
TZOFFSETTO:-0700
TZNAME:PDT
DTSTART:20240310T100000
END:DAYLIGHT
BEGIN:STANDARD
TZOFFSETFROM:-0700
TZOFFSETTO:-0800
TZNAME:PST
DTSTART:20241103T090000
END:STANDARD
BEGIN:DAYLIGHT
TZOFFSETFROM:-0800
TZOFFSETTO:-0700
TZNAME:PDT
DTSTART:20250309T100000
END:DAYLIGHT
BEGIN:STANDARD
TZOFFSETFROM:-0700
TZOFFSETTO:-0800
TZNAME:PST
DTSTART:20251102T090000
END:STANDARD
BEGIN:DAYLIGHT
TZOFFSETFROM:-0800
TZOFFSETTO:-0700
TZNAME:PDT
DTSTART:20260308T100000
END:DAYLIGHT
BEGIN:STANDARD
TZOFFSETFROM:-0700
TZOFFSETTO:-0800
TZNAME:PST
DTSTART:20261101T090000
END:STANDARD
END:VTIMEZONE
BEGIN:VEVENT
DTSTART;TZID=America/Los_Angeles:20250111T160000
DTEND;TZID=America/Los_Angeles:20250111T170000
DTSTAMP:20260419T073110
CREATED:20250109T184726Z
LAST-MODIFIED:20250109T184726Z
UID:10010982-1736611200-1736614800@bosd1.sbcounty.gov
SUMMARY:Helendale CSD Public Safety Meeting
DESCRIPTION:Attention Helendale & Silver Lakes residents! Join the Helendale CSD for an important Public Safety Meeting at 4 p.m. Jan. 11 at the Silver Lakes Clubhouse\, located at 27801 Mountain Springs Road. \nThis event is an opportunity for community members to engage directly with representatives from our First District office\, the San Bernardino County Sheriff’s Department\, CHP\, Silver Lakes Code Enforcement\, and other local leaders. \nYour voice matters\, so come to express your concerns\, ask questions\, and participate in an open dialogue about issues affecting the community.
URL:https://bosd1.sbcounty.gov/event/helendale-csd-public-safety-meeting/
LOCATION:Silver Lakes Clubhouse\, 27801 Mountain Springs Rd.\, Helendale\, CA\, 92342\, United States
CATEGORIES:Community Events,Meetings
ATTACH;FMTTYPE=image/jpeg:https://bosd1.sbcounty.gov/wp-content/uploads/sites/103/2025/01/safe.jpg
ORGANIZER;CN="Helendale Community Services District":MAILTO:mail@helendalecsd.org
END:VEVENT
END:VCALENDAR