BEGIN:VCALENDAR
VERSION:2.0
PRODID:-//Col. Paul Cook (Ret.) First District Supervisor - ECPv6.15.14//NONSGML v1.0//EN
CALSCALE:GREGORIAN
METHOD:PUBLISH
X-WR-CALNAME:Col. Paul Cook (Ret.) First District Supervisor
X-ORIGINAL-URL:https://bosd1.sbcounty.gov
X-WR-CALDESC:Events for Col. Paul Cook (Ret.) First District Supervisor
REFRESH-INTERVAL;VALUE=DURATION:PT1H
X-Robots-Tag:noindex
X-PUBLISHED-TTL:PT1H
BEGIN:VTIMEZONE
TZID:America/Los_Angeles
BEGIN:DAYLIGHT
TZOFFSETFROM:-0800
TZOFFSETTO:-0700
TZNAME:PDT
DTSTART:20280312T100000
END:DAYLIGHT
BEGIN:STANDARD
TZOFFSETFROM:-0700
TZOFFSETTO:-0800
TZNAME:PST
DTSTART:20281105T090000
END:STANDARD
BEGIN:DAYLIGHT
TZOFFSETFROM:-0800
TZOFFSETTO:-0700
TZNAME:PDT
DTSTART:20290311T100000
END:DAYLIGHT
BEGIN:STANDARD
TZOFFSETFROM:-0700
TZOFFSETTO:-0800
TZNAME:PST
DTSTART:20291104T090000
END:STANDARD
BEGIN:DAYLIGHT
TZOFFSETFROM:-0800
TZOFFSETTO:-0700
TZNAME:PDT
DTSTART:20300310T100000
END:DAYLIGHT
BEGIN:STANDARD
TZOFFSETFROM:-0700
TZOFFSETTO:-0800
TZNAME:PST
DTSTART:20301103T090000
END:STANDARD
BEGIN:DAYLIGHT
TZOFFSETFROM:-0800
TZOFFSETTO:-0700
TZNAME:PDT
DTSTART:20310309T100000
END:DAYLIGHT
BEGIN:STANDARD
TZOFFSETFROM:-0700
TZOFFSETTO:-0800
TZNAME:PST
DTSTART:20311102T090000
END:STANDARD
END:VTIMEZONE
BEGIN:VEVENT
DTSTART;TZID=America/Los_Angeles:20291129T080000
DTEND;TZID=America/Los_Angeles:20291129T120000
DTSTAMP:20260420T181750
CREATED:20250612T191049Z
LAST-MODIFIED:20250612T191049Z
UID:10014117-1890633600-1890648000@bosd1.sbcounty.gov
SUMMARY:High Desert Farmer’s Market
DESCRIPTION:Time: Thursday\, 8:00 AM – 12:00 PM \nFish Hatchery Rd\nBetween the Gym & Tennis Courts \n\n\n\nAddress:\n18422 Bear Valley Rd\nVictorville\, CA 92395\n\n\nPhone:\n760.468.3872
URL:https://bosd1.sbcounty.gov/event/high-desert-farmers-market-2/2029-11-29/
LOCATION:Victor Valley College\, 18422 Bear Valley Rd.\, Victorville\, CA\, 92395\, United States
CATEGORIES:Farmers Markets
ATTACH;FMTTYPE=image/jpeg:https://bosd1.sbcounty.gov/wp-content/uploads/sites/103/2023/11/County-Blog-Photos-14.jpg
END:VEVENT
BEGIN:VEVENT
DTSTART;TZID=America/Los_Angeles:20291130T160000
DTEND;TZID=America/Los_Angeles:20291130T190000
DTSTAMP:20260420T181750
CREATED:20250612T190352Z
LAST-MODIFIED:20250612T190352Z
UID:10012551-1890748800-1890759600@bosd1.sbcounty.gov
SUMMARY:Wrightwood Certified Farmers Market
DESCRIPTION:Between Park & Pine\nWrightwood Community Center \nOpen: May-October\nTime: Friday\, 4:00 PM – 7:00 PM \nOpen: November-April\nTime: Friday\, 3:00 PM – 5:30 PM
URL:https://bosd1.sbcounty.gov/event/wrightwood-certified-farmers-market-2/2029-11-30/
LOCATION:Wrightwood Community Center\, 1275 CA-2\, Wrightwood\, CA\, 92397\, United States
CATEGORIES:Farmers Markets
ATTACH;FMTTYPE=image/jpeg:https://bosd1.sbcounty.gov/wp-content/uploads/sites/103/2023/11/Wrightwood-Farmers-Market.jpg
END:VEVENT
BEGIN:VEVENT
DTSTART;TZID=America/Los_Angeles:20291203T140000
DTEND;TZID=America/Los_Angeles:20291203T180000
DTSTAMP:20260420T181750
CREATED:20250612T190537Z
LAST-MODIFIED:20250612T190537Z
UID:10013334-1891000800-1891015200@bosd1.sbcounty.gov
SUMMARY:Phelan Farmers Market
DESCRIPTION:Phelan Community Center\nCorner Of Warbler Rd/Sheepcreek \nOpen: April – November\nTime: Monday\, 2:00 PM – 6:00 PM \nOpen: November – March\nTime: Monday\, 2:00 PM – 5:00 PM \n\n\n\nAddress:\n4128 Warbler Rd\nPhelan\, CA 92371\n\n\nPhone:\n760.412.9746
URL:https://bosd1.sbcounty.gov/event/phelan-farmers-market-2/2029-12-03/
LOCATION:Phelan Community Center\, 4128 Warbler Road\, Phelan\, CA\, United States
CATEGORIES:Farmers Markets
ATTACH;FMTTYPE=image/jpeg:https://bosd1.sbcounty.gov/wp-content/uploads/sites/103/2023/11/Phelan-Farmers-Market.jpg
END:VEVENT
BEGIN:VEVENT
DTSTART;TZID=America/Los_Angeles:20291206T080000
DTEND;TZID=America/Los_Angeles:20291206T120000
DTSTAMP:20260420T181750
CREATED:20250612T191049Z
LAST-MODIFIED:20250612T191049Z
UID:10014120-1891238400-1891252800@bosd1.sbcounty.gov
SUMMARY:High Desert Farmer’s Market
DESCRIPTION:Time: Thursday\, 8:00 AM – 12:00 PM \nFish Hatchery Rd\nBetween the Gym & Tennis Courts \n\n\n\nAddress:\n18422 Bear Valley Rd\nVictorville\, CA 92395\n\n\nPhone:\n760.468.3872
URL:https://bosd1.sbcounty.gov/event/high-desert-farmers-market-2/2029-12-06/
LOCATION:Victor Valley College\, 18422 Bear Valley Rd.\, Victorville\, CA\, 92395\, United States
CATEGORIES:Farmers Markets
ATTACH;FMTTYPE=image/jpeg:https://bosd1.sbcounty.gov/wp-content/uploads/sites/103/2023/11/County-Blog-Photos-14.jpg
END:VEVENT
BEGIN:VEVENT
DTSTART;TZID=America/Los_Angeles:20291207T160000
DTEND;TZID=America/Los_Angeles:20291207T190000
DTSTAMP:20260420T181750
CREATED:20250612T190352Z
LAST-MODIFIED:20250612T190352Z
UID:10012554-1891353600-1891364400@bosd1.sbcounty.gov
SUMMARY:Wrightwood Certified Farmers Market
DESCRIPTION:Between Park & Pine\nWrightwood Community Center \nOpen: May-October\nTime: Friday\, 4:00 PM – 7:00 PM \nOpen: November-April\nTime: Friday\, 3:00 PM – 5:30 PM
URL:https://bosd1.sbcounty.gov/event/wrightwood-certified-farmers-market-2/2029-12-07/
LOCATION:Wrightwood Community Center\, 1275 CA-2\, Wrightwood\, CA\, 92397\, United States
CATEGORIES:Farmers Markets
ATTACH;FMTTYPE=image/jpeg:https://bosd1.sbcounty.gov/wp-content/uploads/sites/103/2023/11/Wrightwood-Farmers-Market.jpg
END:VEVENT
BEGIN:VEVENT
DTSTART;TZID=America/Los_Angeles:20291210T140000
DTEND;TZID=America/Los_Angeles:20291210T180000
DTSTAMP:20260420T181750
CREATED:20250612T190537Z
LAST-MODIFIED:20250612T190537Z
UID:10013337-1891605600-1891620000@bosd1.sbcounty.gov
SUMMARY:Phelan Farmers Market
DESCRIPTION:Phelan Community Center\nCorner Of Warbler Rd/Sheepcreek \nOpen: April – November\nTime: Monday\, 2:00 PM – 6:00 PM \nOpen: November – March\nTime: Monday\, 2:00 PM – 5:00 PM \n\n\n\nAddress:\n4128 Warbler Rd\nPhelan\, CA 92371\n\n\nPhone:\n760.412.9746
URL:https://bosd1.sbcounty.gov/event/phelan-farmers-market-2/2029-12-10/
LOCATION:Phelan Community Center\, 4128 Warbler Road\, Phelan\, CA\, United States
CATEGORIES:Farmers Markets
ATTACH;FMTTYPE=image/jpeg:https://bosd1.sbcounty.gov/wp-content/uploads/sites/103/2023/11/Phelan-Farmers-Market.jpg
END:VEVENT
BEGIN:VEVENT
DTSTART;TZID=America/Los_Angeles:20291213T080000
DTEND;TZID=America/Los_Angeles:20291213T120000
DTSTAMP:20260420T181750
CREATED:20250612T191049Z
LAST-MODIFIED:20250612T191049Z
UID:10014123-1891843200-1891857600@bosd1.sbcounty.gov
SUMMARY:High Desert Farmer’s Market
DESCRIPTION:Time: Thursday\, 8:00 AM – 12:00 PM \nFish Hatchery Rd\nBetween the Gym & Tennis Courts \n\n\n\nAddress:\n18422 Bear Valley Rd\nVictorville\, CA 92395\n\n\nPhone:\n760.468.3872
URL:https://bosd1.sbcounty.gov/event/high-desert-farmers-market-2/2029-12-13/
LOCATION:Victor Valley College\, 18422 Bear Valley Rd.\, Victorville\, CA\, 92395\, United States
CATEGORIES:Farmers Markets
ATTACH;FMTTYPE=image/jpeg:https://bosd1.sbcounty.gov/wp-content/uploads/sites/103/2023/11/County-Blog-Photos-14.jpg
END:VEVENT
BEGIN:VEVENT
DTSTART;TZID=America/Los_Angeles:20291214T160000
DTEND;TZID=America/Los_Angeles:20291214T190000
DTSTAMP:20260420T181750
CREATED:20250612T190352Z
LAST-MODIFIED:20250612T190352Z
UID:10012557-1891958400-1891969200@bosd1.sbcounty.gov
SUMMARY:Wrightwood Certified Farmers Market
DESCRIPTION:Between Park & Pine\nWrightwood Community Center \nOpen: May-October\nTime: Friday\, 4:00 PM – 7:00 PM \nOpen: November-April\nTime: Friday\, 3:00 PM – 5:30 PM
URL:https://bosd1.sbcounty.gov/event/wrightwood-certified-farmers-market-2/2029-12-14/
LOCATION:Wrightwood Community Center\, 1275 CA-2\, Wrightwood\, CA\, 92397\, United States
CATEGORIES:Farmers Markets
ATTACH;FMTTYPE=image/jpeg:https://bosd1.sbcounty.gov/wp-content/uploads/sites/103/2023/11/Wrightwood-Farmers-Market.jpg
END:VEVENT
BEGIN:VEVENT
DTSTART;TZID=America/Los_Angeles:20291217T140000
DTEND;TZID=America/Los_Angeles:20291217T180000
DTSTAMP:20260420T181750
CREATED:20250612T190537Z
LAST-MODIFIED:20250612T190537Z
UID:10013340-1892210400-1892224800@bosd1.sbcounty.gov
SUMMARY:Phelan Farmers Market
DESCRIPTION:Phelan Community Center\nCorner Of Warbler Rd/Sheepcreek \nOpen: April – November\nTime: Monday\, 2:00 PM – 6:00 PM \nOpen: November – March\nTime: Monday\, 2:00 PM – 5:00 PM \n\n\n\nAddress:\n4128 Warbler Rd\nPhelan\, CA 92371\n\n\nPhone:\n760.412.9746
URL:https://bosd1.sbcounty.gov/event/phelan-farmers-market-2/2029-12-17/
LOCATION:Phelan Community Center\, 4128 Warbler Road\, Phelan\, CA\, United States
CATEGORIES:Farmers Markets
ATTACH;FMTTYPE=image/jpeg:https://bosd1.sbcounty.gov/wp-content/uploads/sites/103/2023/11/Phelan-Farmers-Market.jpg
END:VEVENT
BEGIN:VEVENT
DTSTART;TZID=America/Los_Angeles:20291220T080000
DTEND;TZID=America/Los_Angeles:20291220T120000
DTSTAMP:20260420T181750
CREATED:20250612T191049Z
LAST-MODIFIED:20250612T191049Z
UID:10014126-1892448000-1892462400@bosd1.sbcounty.gov
SUMMARY:High Desert Farmer’s Market
DESCRIPTION:Time: Thursday\, 8:00 AM – 12:00 PM \nFish Hatchery Rd\nBetween the Gym & Tennis Courts \n\n\n\nAddress:\n18422 Bear Valley Rd\nVictorville\, CA 92395\n\n\nPhone:\n760.468.3872
URL:https://bosd1.sbcounty.gov/event/high-desert-farmers-market-2/2029-12-20/
LOCATION:Victor Valley College\, 18422 Bear Valley Rd.\, Victorville\, CA\, 92395\, United States
CATEGORIES:Farmers Markets
ATTACH;FMTTYPE=image/jpeg:https://bosd1.sbcounty.gov/wp-content/uploads/sites/103/2023/11/County-Blog-Photos-14.jpg
END:VEVENT
BEGIN:VEVENT
DTSTART;TZID=America/Los_Angeles:20291221T160000
DTEND;TZID=America/Los_Angeles:20291221T190000
DTSTAMP:20260420T181750
CREATED:20250612T190352Z
LAST-MODIFIED:20250612T190352Z
UID:10012560-1892563200-1892574000@bosd1.sbcounty.gov
SUMMARY:Wrightwood Certified Farmers Market
DESCRIPTION:Between Park & Pine\nWrightwood Community Center \nOpen: May-October\nTime: Friday\, 4:00 PM – 7:00 PM \nOpen: November-April\nTime: Friday\, 3:00 PM – 5:30 PM
URL:https://bosd1.sbcounty.gov/event/wrightwood-certified-farmers-market-2/2029-12-21/
LOCATION:Wrightwood Community Center\, 1275 CA-2\, Wrightwood\, CA\, 92397\, United States
CATEGORIES:Farmers Markets
ATTACH;FMTTYPE=image/jpeg:https://bosd1.sbcounty.gov/wp-content/uploads/sites/103/2023/11/Wrightwood-Farmers-Market.jpg
END:VEVENT
BEGIN:VEVENT
DTSTART;TZID=America/Los_Angeles:20291224T140000
DTEND;TZID=America/Los_Angeles:20291224T180000
DTSTAMP:20260420T181750
CREATED:20250612T190537Z
LAST-MODIFIED:20250612T190537Z
UID:10013343-1892815200-1892829600@bosd1.sbcounty.gov
SUMMARY:Phelan Farmers Market
DESCRIPTION:Phelan Community Center\nCorner Of Warbler Rd/Sheepcreek \nOpen: April – November\nTime: Monday\, 2:00 PM – 6:00 PM \nOpen: November – March\nTime: Monday\, 2:00 PM – 5:00 PM \n\n\n\nAddress:\n4128 Warbler Rd\nPhelan\, CA 92371\n\n\nPhone:\n760.412.9746
URL:https://bosd1.sbcounty.gov/event/phelan-farmers-market-2/2029-12-24/
LOCATION:Phelan Community Center\, 4128 Warbler Road\, Phelan\, CA\, United States
CATEGORIES:Farmers Markets
ATTACH;FMTTYPE=image/jpeg:https://bosd1.sbcounty.gov/wp-content/uploads/sites/103/2023/11/Phelan-Farmers-Market.jpg
END:VEVENT
BEGIN:VEVENT
DTSTART;TZID=America/Los_Angeles:20291227T080000
DTEND;TZID=America/Los_Angeles:20291227T120000
DTSTAMP:20260420T181750
CREATED:20250612T191049Z
LAST-MODIFIED:20250612T191049Z
UID:10014129-1893052800-1893067200@bosd1.sbcounty.gov
SUMMARY:High Desert Farmer’s Market
DESCRIPTION:Time: Thursday\, 8:00 AM – 12:00 PM \nFish Hatchery Rd\nBetween the Gym & Tennis Courts \n\n\n\nAddress:\n18422 Bear Valley Rd\nVictorville\, CA 92395\n\n\nPhone:\n760.468.3872
URL:https://bosd1.sbcounty.gov/event/high-desert-farmers-market-2/2029-12-27/
LOCATION:Victor Valley College\, 18422 Bear Valley Rd.\, Victorville\, CA\, 92395\, United States
CATEGORIES:Farmers Markets
ATTACH;FMTTYPE=image/jpeg:https://bosd1.sbcounty.gov/wp-content/uploads/sites/103/2023/11/County-Blog-Photos-14.jpg
END:VEVENT
BEGIN:VEVENT
DTSTART;TZID=America/Los_Angeles:20291228T160000
DTEND;TZID=America/Los_Angeles:20291228T190000
DTSTAMP:20260420T181750
CREATED:20250612T190352Z
LAST-MODIFIED:20250612T190352Z
UID:10012563-1893168000-1893178800@bosd1.sbcounty.gov
SUMMARY:Wrightwood Certified Farmers Market
DESCRIPTION:Between Park & Pine\nWrightwood Community Center \nOpen: May-October\nTime: Friday\, 4:00 PM – 7:00 PM \nOpen: November-April\nTime: Friday\, 3:00 PM – 5:30 PM
URL:https://bosd1.sbcounty.gov/event/wrightwood-certified-farmers-market-2/2029-12-28/
LOCATION:Wrightwood Community Center\, 1275 CA-2\, Wrightwood\, CA\, 92397\, United States
CATEGORIES:Farmers Markets
ATTACH;FMTTYPE=image/jpeg:https://bosd1.sbcounty.gov/wp-content/uploads/sites/103/2023/11/Wrightwood-Farmers-Market.jpg
END:VEVENT
BEGIN:VEVENT
DTSTART;TZID=America/Los_Angeles:20291231T140000
DTEND;TZID=America/Los_Angeles:20291231T180000
DTSTAMP:20260420T181750
CREATED:20250612T190537Z
LAST-MODIFIED:20250612T190537Z
UID:10013346-1893420000-1893434400@bosd1.sbcounty.gov
SUMMARY:Phelan Farmers Market
DESCRIPTION:Phelan Community Center\nCorner Of Warbler Rd/Sheepcreek \nOpen: April – November\nTime: Monday\, 2:00 PM – 6:00 PM \nOpen: November – March\nTime: Monday\, 2:00 PM – 5:00 PM \n\n\n\nAddress:\n4128 Warbler Rd\nPhelan\, CA 92371\n\n\nPhone:\n760.412.9746
URL:https://bosd1.sbcounty.gov/event/phelan-farmers-market-2/2029-12-31/
LOCATION:Phelan Community Center\, 4128 Warbler Road\, Phelan\, CA\, United States
CATEGORIES:Farmers Markets
ATTACH;FMTTYPE=image/jpeg:https://bosd1.sbcounty.gov/wp-content/uploads/sites/103/2023/11/Phelan-Farmers-Market.jpg
END:VEVENT
BEGIN:VEVENT
DTSTART;TZID=America/Los_Angeles:20300103T080000
DTEND;TZID=America/Los_Angeles:20300103T120000
DTSTAMP:20260420T181750
CREATED:20250612T191049Z
LAST-MODIFIED:20250612T191049Z
UID:10014132-1893657600-1893672000@bosd1.sbcounty.gov
SUMMARY:High Desert Farmer’s Market
DESCRIPTION:Time: Thursday\, 8:00 AM – 12:00 PM \nFish Hatchery Rd\nBetween the Gym & Tennis Courts \n\n\n\nAddress:\n18422 Bear Valley Rd\nVictorville\, CA 92395\n\n\nPhone:\n760.468.3872
URL:https://bosd1.sbcounty.gov/event/high-desert-farmers-market-2/2030-01-03/
LOCATION:Victor Valley College\, 18422 Bear Valley Rd.\, Victorville\, CA\, 92395\, United States
CATEGORIES:Farmers Markets
ATTACH;FMTTYPE=image/jpeg:https://bosd1.sbcounty.gov/wp-content/uploads/sites/103/2023/11/County-Blog-Photos-14.jpg
END:VEVENT
BEGIN:VEVENT
DTSTART;TZID=America/Los_Angeles:20300104T160000
DTEND;TZID=America/Los_Angeles:20300104T190000
DTSTAMP:20260420T181750
CREATED:20250612T190352Z
LAST-MODIFIED:20250612T190352Z
UID:10012566-1893772800-1893783600@bosd1.sbcounty.gov
SUMMARY:Wrightwood Certified Farmers Market
DESCRIPTION:Between Park & Pine\nWrightwood Community Center \nOpen: May-October\nTime: Friday\, 4:00 PM – 7:00 PM \nOpen: November-April\nTime: Friday\, 3:00 PM – 5:30 PM
URL:https://bosd1.sbcounty.gov/event/wrightwood-certified-farmers-market-2/2030-01-04/
LOCATION:Wrightwood Community Center\, 1275 CA-2\, Wrightwood\, CA\, 92397\, United States
CATEGORIES:Farmers Markets
ATTACH;FMTTYPE=image/jpeg:https://bosd1.sbcounty.gov/wp-content/uploads/sites/103/2023/11/Wrightwood-Farmers-Market.jpg
END:VEVENT
BEGIN:VEVENT
DTSTART;TZID=America/Los_Angeles:20300107T140000
DTEND;TZID=America/Los_Angeles:20300107T180000
DTSTAMP:20260420T181750
CREATED:20250612T190537Z
LAST-MODIFIED:20250612T190537Z
UID:10013349-1894024800-1894039200@bosd1.sbcounty.gov
SUMMARY:Phelan Farmers Market
DESCRIPTION:Phelan Community Center\nCorner Of Warbler Rd/Sheepcreek \nOpen: April – November\nTime: Monday\, 2:00 PM – 6:00 PM \nOpen: November – March\nTime: Monday\, 2:00 PM – 5:00 PM \n\n\n\nAddress:\n4128 Warbler Rd\nPhelan\, CA 92371\n\n\nPhone:\n760.412.9746
URL:https://bosd1.sbcounty.gov/event/phelan-farmers-market-2/2030-01-07/
LOCATION:Phelan Community Center\, 4128 Warbler Road\, Phelan\, CA\, United States
CATEGORIES:Farmers Markets
ATTACH;FMTTYPE=image/jpeg:https://bosd1.sbcounty.gov/wp-content/uploads/sites/103/2023/11/Phelan-Farmers-Market.jpg
END:VEVENT
BEGIN:VEVENT
DTSTART;TZID=America/Los_Angeles:20300110T080000
DTEND;TZID=America/Los_Angeles:20300110T120000
DTSTAMP:20260420T181750
CREATED:20250612T191049Z
LAST-MODIFIED:20250612T191049Z
UID:10014135-1894262400-1894276800@bosd1.sbcounty.gov
SUMMARY:High Desert Farmer’s Market
DESCRIPTION:Time: Thursday\, 8:00 AM – 12:00 PM \nFish Hatchery Rd\nBetween the Gym & Tennis Courts \n\n\n\nAddress:\n18422 Bear Valley Rd\nVictorville\, CA 92395\n\n\nPhone:\n760.468.3872
URL:https://bosd1.sbcounty.gov/event/high-desert-farmers-market-2/2030-01-10/
LOCATION:Victor Valley College\, 18422 Bear Valley Rd.\, Victorville\, CA\, 92395\, United States
CATEGORIES:Farmers Markets
ATTACH;FMTTYPE=image/jpeg:https://bosd1.sbcounty.gov/wp-content/uploads/sites/103/2023/11/County-Blog-Photos-14.jpg
END:VEVENT
BEGIN:VEVENT
DTSTART;TZID=America/Los_Angeles:20300111T160000
DTEND;TZID=America/Los_Angeles:20300111T190000
DTSTAMP:20260420T181750
CREATED:20250612T190352Z
LAST-MODIFIED:20250612T190352Z
UID:10012569-1894377600-1894388400@bosd1.sbcounty.gov
SUMMARY:Wrightwood Certified Farmers Market
DESCRIPTION:Between Park & Pine\nWrightwood Community Center \nOpen: May-October\nTime: Friday\, 4:00 PM – 7:00 PM \nOpen: November-April\nTime: Friday\, 3:00 PM – 5:30 PM
URL:https://bosd1.sbcounty.gov/event/wrightwood-certified-farmers-market-2/2030-01-11/
LOCATION:Wrightwood Community Center\, 1275 CA-2\, Wrightwood\, CA\, 92397\, United States
CATEGORIES:Farmers Markets
ATTACH;FMTTYPE=image/jpeg:https://bosd1.sbcounty.gov/wp-content/uploads/sites/103/2023/11/Wrightwood-Farmers-Market.jpg
END:VEVENT
BEGIN:VEVENT
DTSTART;TZID=America/Los_Angeles:20300114T140000
DTEND;TZID=America/Los_Angeles:20300114T180000
DTSTAMP:20260420T181750
CREATED:20250612T190537Z
LAST-MODIFIED:20250612T190537Z
UID:10013352-1894629600-1894644000@bosd1.sbcounty.gov
SUMMARY:Phelan Farmers Market
DESCRIPTION:Phelan Community Center\nCorner Of Warbler Rd/Sheepcreek \nOpen: April – November\nTime: Monday\, 2:00 PM – 6:00 PM \nOpen: November – March\nTime: Monday\, 2:00 PM – 5:00 PM \n\n\n\nAddress:\n4128 Warbler Rd\nPhelan\, CA 92371\n\n\nPhone:\n760.412.9746
URL:https://bosd1.sbcounty.gov/event/phelan-farmers-market-2/2030-01-14/
LOCATION:Phelan Community Center\, 4128 Warbler Road\, Phelan\, CA\, United States
CATEGORIES:Farmers Markets
ATTACH;FMTTYPE=image/jpeg:https://bosd1.sbcounty.gov/wp-content/uploads/sites/103/2023/11/Phelan-Farmers-Market.jpg
END:VEVENT
BEGIN:VEVENT
DTSTART;TZID=America/Los_Angeles:20300117T080000
DTEND;TZID=America/Los_Angeles:20300117T120000
DTSTAMP:20260420T181750
CREATED:20250612T191049Z
LAST-MODIFIED:20250612T191049Z
UID:10014138-1894867200-1894881600@bosd1.sbcounty.gov
SUMMARY:High Desert Farmer’s Market
DESCRIPTION:Time: Thursday\, 8:00 AM – 12:00 PM \nFish Hatchery Rd\nBetween the Gym & Tennis Courts \n\n\n\nAddress:\n18422 Bear Valley Rd\nVictorville\, CA 92395\n\n\nPhone:\n760.468.3872
URL:https://bosd1.sbcounty.gov/event/high-desert-farmers-market-2/2030-01-17/
LOCATION:Victor Valley College\, 18422 Bear Valley Rd.\, Victorville\, CA\, 92395\, United States
CATEGORIES:Farmers Markets
ATTACH;FMTTYPE=image/jpeg:https://bosd1.sbcounty.gov/wp-content/uploads/sites/103/2023/11/County-Blog-Photos-14.jpg
END:VEVENT
BEGIN:VEVENT
DTSTART;TZID=America/Los_Angeles:20300118T160000
DTEND;TZID=America/Los_Angeles:20300118T190000
DTSTAMP:20260420T181750
CREATED:20250612T190352Z
LAST-MODIFIED:20250612T190352Z
UID:10012572-1894982400-1894993200@bosd1.sbcounty.gov
SUMMARY:Wrightwood Certified Farmers Market
DESCRIPTION:Between Park & Pine\nWrightwood Community Center \nOpen: May-October\nTime: Friday\, 4:00 PM – 7:00 PM \nOpen: November-April\nTime: Friday\, 3:00 PM – 5:30 PM
URL:https://bosd1.sbcounty.gov/event/wrightwood-certified-farmers-market-2/2030-01-18/
LOCATION:Wrightwood Community Center\, 1275 CA-2\, Wrightwood\, CA\, 92397\, United States
CATEGORIES:Farmers Markets
ATTACH;FMTTYPE=image/jpeg:https://bosd1.sbcounty.gov/wp-content/uploads/sites/103/2023/11/Wrightwood-Farmers-Market.jpg
END:VEVENT
BEGIN:VEVENT
DTSTART;TZID=America/Los_Angeles:20300121T140000
DTEND;TZID=America/Los_Angeles:20300121T180000
DTSTAMP:20260420T181750
CREATED:20250612T190537Z
LAST-MODIFIED:20250612T190537Z
UID:10013355-1895234400-1895248800@bosd1.sbcounty.gov
SUMMARY:Phelan Farmers Market
DESCRIPTION:Phelan Community Center\nCorner Of Warbler Rd/Sheepcreek \nOpen: April – November\nTime: Monday\, 2:00 PM – 6:00 PM \nOpen: November – March\nTime: Monday\, 2:00 PM – 5:00 PM \n\n\n\nAddress:\n4128 Warbler Rd\nPhelan\, CA 92371\n\n\nPhone:\n760.412.9746
URL:https://bosd1.sbcounty.gov/event/phelan-farmers-market-2/2030-01-21/
LOCATION:Phelan Community Center\, 4128 Warbler Road\, Phelan\, CA\, United States
CATEGORIES:Farmers Markets
ATTACH;FMTTYPE=image/jpeg:https://bosd1.sbcounty.gov/wp-content/uploads/sites/103/2023/11/Phelan-Farmers-Market.jpg
END:VEVENT
BEGIN:VEVENT
DTSTART;TZID=America/Los_Angeles:20300124T080000
DTEND;TZID=America/Los_Angeles:20300124T120000
DTSTAMP:20260420T181750
CREATED:20250612T191049Z
LAST-MODIFIED:20250612T191049Z
UID:10014141-1895472000-1895486400@bosd1.sbcounty.gov
SUMMARY:High Desert Farmer’s Market
DESCRIPTION:Time: Thursday\, 8:00 AM – 12:00 PM \nFish Hatchery Rd\nBetween the Gym & Tennis Courts \n\n\n\nAddress:\n18422 Bear Valley Rd\nVictorville\, CA 92395\n\n\nPhone:\n760.468.3872
URL:https://bosd1.sbcounty.gov/event/high-desert-farmers-market-2/2030-01-24/
LOCATION:Victor Valley College\, 18422 Bear Valley Rd.\, Victorville\, CA\, 92395\, United States
CATEGORIES:Farmers Markets
ATTACH;FMTTYPE=image/jpeg:https://bosd1.sbcounty.gov/wp-content/uploads/sites/103/2023/11/County-Blog-Photos-14.jpg
END:VEVENT
BEGIN:VEVENT
DTSTART;TZID=America/Los_Angeles:20300125T160000
DTEND;TZID=America/Los_Angeles:20300125T190000
DTSTAMP:20260420T181750
CREATED:20250612T190352Z
LAST-MODIFIED:20250612T190352Z
UID:10012575-1895587200-1895598000@bosd1.sbcounty.gov
SUMMARY:Wrightwood Certified Farmers Market
DESCRIPTION:Between Park & Pine\nWrightwood Community Center \nOpen: May-October\nTime: Friday\, 4:00 PM – 7:00 PM \nOpen: November-April\nTime: Friday\, 3:00 PM – 5:30 PM
URL:https://bosd1.sbcounty.gov/event/wrightwood-certified-farmers-market-2/2030-01-25/
LOCATION:Wrightwood Community Center\, 1275 CA-2\, Wrightwood\, CA\, 92397\, United States
CATEGORIES:Farmers Markets
ATTACH;FMTTYPE=image/jpeg:https://bosd1.sbcounty.gov/wp-content/uploads/sites/103/2023/11/Wrightwood-Farmers-Market.jpg
END:VEVENT
BEGIN:VEVENT
DTSTART;TZID=America/Los_Angeles:20300128T140000
DTEND;TZID=America/Los_Angeles:20300128T180000
DTSTAMP:20260420T181750
CREATED:20250612T190537Z
LAST-MODIFIED:20250612T190537Z
UID:10013358-1895839200-1895853600@bosd1.sbcounty.gov
SUMMARY:Phelan Farmers Market
DESCRIPTION:Phelan Community Center\nCorner Of Warbler Rd/Sheepcreek \nOpen: April – November\nTime: Monday\, 2:00 PM – 6:00 PM \nOpen: November – March\nTime: Monday\, 2:00 PM – 5:00 PM \n\n\n\nAddress:\n4128 Warbler Rd\nPhelan\, CA 92371\n\n\nPhone:\n760.412.9746
URL:https://bosd1.sbcounty.gov/event/phelan-farmers-market-2/2030-01-28/
LOCATION:Phelan Community Center\, 4128 Warbler Road\, Phelan\, CA\, United States
CATEGORIES:Farmers Markets
ATTACH;FMTTYPE=image/jpeg:https://bosd1.sbcounty.gov/wp-content/uploads/sites/103/2023/11/Phelan-Farmers-Market.jpg
END:VEVENT
BEGIN:VEVENT
DTSTART;TZID=America/Los_Angeles:20300131T080000
DTEND;TZID=America/Los_Angeles:20300131T120000
DTSTAMP:20260420T181750
CREATED:20250612T191049Z
LAST-MODIFIED:20250612T191049Z
UID:10014144-1896076800-1896091200@bosd1.sbcounty.gov
SUMMARY:High Desert Farmer’s Market
DESCRIPTION:Time: Thursday\, 8:00 AM – 12:00 PM \nFish Hatchery Rd\nBetween the Gym & Tennis Courts \n\n\n\nAddress:\n18422 Bear Valley Rd\nVictorville\, CA 92395\n\n\nPhone:\n760.468.3872
URL:https://bosd1.sbcounty.gov/event/high-desert-farmers-market-2/2030-01-31/
LOCATION:Victor Valley College\, 18422 Bear Valley Rd.\, Victorville\, CA\, 92395\, United States
CATEGORIES:Farmers Markets
ATTACH;FMTTYPE=image/jpeg:https://bosd1.sbcounty.gov/wp-content/uploads/sites/103/2023/11/County-Blog-Photos-14.jpg
END:VEVENT
BEGIN:VEVENT
DTSTART;TZID=America/Los_Angeles:20300201T160000
DTEND;TZID=America/Los_Angeles:20300201T190000
DTSTAMP:20260420T181750
CREATED:20250612T190352Z
LAST-MODIFIED:20250612T190352Z
UID:10012578-1896192000-1896202800@bosd1.sbcounty.gov
SUMMARY:Wrightwood Certified Farmers Market
DESCRIPTION:Between Park & Pine\nWrightwood Community Center \nOpen: May-October\nTime: Friday\, 4:00 PM – 7:00 PM \nOpen: November-April\nTime: Friday\, 3:00 PM – 5:30 PM
URL:https://bosd1.sbcounty.gov/event/wrightwood-certified-farmers-market-2/2030-02-01/
LOCATION:Wrightwood Community Center\, 1275 CA-2\, Wrightwood\, CA\, 92397\, United States
CATEGORIES:Farmers Markets
ATTACH;FMTTYPE=image/jpeg:https://bosd1.sbcounty.gov/wp-content/uploads/sites/103/2023/11/Wrightwood-Farmers-Market.jpg
END:VEVENT
BEGIN:VEVENT
DTSTART;TZID=America/Los_Angeles:20300204T140000
DTEND;TZID=America/Los_Angeles:20300204T180000
DTSTAMP:20260420T181750
CREATED:20250612T190537Z
LAST-MODIFIED:20250612T190537Z
UID:10013361-1896444000-1896458400@bosd1.sbcounty.gov
SUMMARY:Phelan Farmers Market
DESCRIPTION:Phelan Community Center\nCorner Of Warbler Rd/Sheepcreek \nOpen: April – November\nTime: Monday\, 2:00 PM – 6:00 PM \nOpen: November – March\nTime: Monday\, 2:00 PM – 5:00 PM \n\n\n\nAddress:\n4128 Warbler Rd\nPhelan\, CA 92371\n\n\nPhone:\n760.412.9746
URL:https://bosd1.sbcounty.gov/event/phelan-farmers-market-2/2030-02-04/
LOCATION:Phelan Community Center\, 4128 Warbler Road\, Phelan\, CA\, United States
CATEGORIES:Farmers Markets
ATTACH;FMTTYPE=image/jpeg:https://bosd1.sbcounty.gov/wp-content/uploads/sites/103/2023/11/Phelan-Farmers-Market.jpg
END:VEVENT
END:VCALENDAR