BEGIN:VCALENDAR
VERSION:2.0
PRODID:-//Col. Paul Cook (Ret.) First District Supervisor - ECPv6.15.14//NONSGML v1.0//EN
CALSCALE:GREGORIAN
METHOD:PUBLISH
X-WR-CALNAME:Col. Paul Cook (Ret.) First District Supervisor
X-ORIGINAL-URL:https://bosd1.sbcounty.gov
X-WR-CALDESC:Events for Col. Paul Cook (Ret.) First District Supervisor
REFRESH-INTERVAL;VALUE=DURATION:PT1H
X-Robots-Tag:noindex
X-PUBLISHED-TTL:PT1H
BEGIN:VTIMEZONE
TZID:America/Los_Angeles
BEGIN:DAYLIGHT
TZOFFSETFROM:-0800
TZOFFSETTO:-0700
TZNAME:PDT
DTSTART:20280312T100000
END:DAYLIGHT
BEGIN:STANDARD
TZOFFSETFROM:-0700
TZOFFSETTO:-0800
TZNAME:PST
DTSTART:20281105T090000
END:STANDARD
BEGIN:DAYLIGHT
TZOFFSETFROM:-0800
TZOFFSETTO:-0700
TZNAME:PDT
DTSTART:20290311T100000
END:DAYLIGHT
BEGIN:STANDARD
TZOFFSETFROM:-0700
TZOFFSETTO:-0800
TZNAME:PST
DTSTART:20291104T090000
END:STANDARD
BEGIN:DAYLIGHT
TZOFFSETFROM:-0800
TZOFFSETTO:-0700
TZNAME:PDT
DTSTART:20300310T100000
END:DAYLIGHT
BEGIN:STANDARD
TZOFFSETFROM:-0700
TZOFFSETTO:-0800
TZNAME:PST
DTSTART:20301103T090000
END:STANDARD
END:VTIMEZONE
BEGIN:VEVENT
DTSTART;TZID=America/Los_Angeles:20290903T140000
DTEND;TZID=America/Los_Angeles:20290903T180000
DTSTAMP:20260419T162918
CREATED:20250612T190537Z
LAST-MODIFIED:20250612T190537Z
UID:10013295-1883138400-1883152800@bosd1.sbcounty.gov
SUMMARY:Phelan Farmers Market
DESCRIPTION:Phelan Community Center\nCorner Of Warbler Rd/Sheepcreek \nOpen: April – November\nTime: Monday\, 2:00 PM – 6:00 PM \nOpen: November – March\nTime: Monday\, 2:00 PM – 5:00 PM \n\n\n\nAddress:\n4128 Warbler Rd\nPhelan\, CA 92371\n\n\nPhone:\n760.412.9746
URL:https://bosd1.sbcounty.gov/event/phelan-farmers-market-2/2029-09-03/
LOCATION:Phelan Community Center\, 4128 Warbler Road\, Phelan\, CA\, United States
CATEGORIES:Farmers Markets
ATTACH;FMTTYPE=image/jpeg:https://bosd1.sbcounty.gov/wp-content/uploads/sites/103/2023/11/Phelan-Farmers-Market.jpg
END:VEVENT
BEGIN:VEVENT
DTSTART;TZID=America/Los_Angeles:20290906T080000
DTEND;TZID=America/Los_Angeles:20290906T120000
DTSTAMP:20260419T162918
CREATED:20250612T191049Z
LAST-MODIFIED:20250612T191049Z
UID:10014081-1883376000-1883390400@bosd1.sbcounty.gov
SUMMARY:High Desert Farmer’s Market
DESCRIPTION:Time: Thursday\, 8:00 AM – 12:00 PM \nFish Hatchery Rd\nBetween the Gym & Tennis Courts \n\n\n\nAddress:\n18422 Bear Valley Rd\nVictorville\, CA 92395\n\n\nPhone:\n760.468.3872
URL:https://bosd1.sbcounty.gov/event/high-desert-farmers-market-2/2029-09-06/
LOCATION:Victor Valley College\, 18422 Bear Valley Rd.\, Victorville\, CA\, 92395\, United States
CATEGORIES:Farmers Markets
ATTACH;FMTTYPE=image/jpeg:https://bosd1.sbcounty.gov/wp-content/uploads/sites/103/2023/11/County-Blog-Photos-14.jpg
END:VEVENT
BEGIN:VEVENT
DTSTART;TZID=America/Los_Angeles:20290907T160000
DTEND;TZID=America/Los_Angeles:20290907T190000
DTSTAMP:20260419T162918
CREATED:20250612T190352Z
LAST-MODIFIED:20250612T190352Z
UID:10012515-1883491200-1883502000@bosd1.sbcounty.gov
SUMMARY:Wrightwood Certified Farmers Market
DESCRIPTION:Between Park & Pine\nWrightwood Community Center \nOpen: May-October\nTime: Friday\, 4:00 PM – 7:00 PM \nOpen: November-April\nTime: Friday\, 3:00 PM – 5:30 PM
URL:https://bosd1.sbcounty.gov/event/wrightwood-certified-farmers-market-2/2029-09-07/
LOCATION:Wrightwood Community Center\, 1275 CA-2\, Wrightwood\, CA\, 92397\, United States
CATEGORIES:Farmers Markets
ATTACH;FMTTYPE=image/jpeg:https://bosd1.sbcounty.gov/wp-content/uploads/sites/103/2023/11/Wrightwood-Farmers-Market.jpg
END:VEVENT
BEGIN:VEVENT
DTSTART;TZID=America/Los_Angeles:20290910T140000
DTEND;TZID=America/Los_Angeles:20290910T180000
DTSTAMP:20260419T162918
CREATED:20250612T190537Z
LAST-MODIFIED:20250612T190537Z
UID:10013298-1883743200-1883757600@bosd1.sbcounty.gov
SUMMARY:Phelan Farmers Market
DESCRIPTION:Phelan Community Center\nCorner Of Warbler Rd/Sheepcreek \nOpen: April – November\nTime: Monday\, 2:00 PM – 6:00 PM \nOpen: November – March\nTime: Monday\, 2:00 PM – 5:00 PM \n\n\n\nAddress:\n4128 Warbler Rd\nPhelan\, CA 92371\n\n\nPhone:\n760.412.9746
URL:https://bosd1.sbcounty.gov/event/phelan-farmers-market-2/2029-09-10/
LOCATION:Phelan Community Center\, 4128 Warbler Road\, Phelan\, CA\, United States
CATEGORIES:Farmers Markets
ATTACH;FMTTYPE=image/jpeg:https://bosd1.sbcounty.gov/wp-content/uploads/sites/103/2023/11/Phelan-Farmers-Market.jpg
END:VEVENT
BEGIN:VEVENT
DTSTART;TZID=America/Los_Angeles:20290913T080000
DTEND;TZID=America/Los_Angeles:20290913T120000
DTSTAMP:20260419T162918
CREATED:20250612T191049Z
LAST-MODIFIED:20250612T191049Z
UID:10014084-1883980800-1883995200@bosd1.sbcounty.gov
SUMMARY:High Desert Farmer’s Market
DESCRIPTION:Time: Thursday\, 8:00 AM – 12:00 PM \nFish Hatchery Rd\nBetween the Gym & Tennis Courts \n\n\n\nAddress:\n18422 Bear Valley Rd\nVictorville\, CA 92395\n\n\nPhone:\n760.468.3872
URL:https://bosd1.sbcounty.gov/event/high-desert-farmers-market-2/2029-09-13/
LOCATION:Victor Valley College\, 18422 Bear Valley Rd.\, Victorville\, CA\, 92395\, United States
CATEGORIES:Farmers Markets
ATTACH;FMTTYPE=image/jpeg:https://bosd1.sbcounty.gov/wp-content/uploads/sites/103/2023/11/County-Blog-Photos-14.jpg
END:VEVENT
BEGIN:VEVENT
DTSTART;TZID=America/Los_Angeles:20290914T160000
DTEND;TZID=America/Los_Angeles:20290914T190000
DTSTAMP:20260419T162918
CREATED:20250612T190352Z
LAST-MODIFIED:20250612T190352Z
UID:10012518-1884096000-1884106800@bosd1.sbcounty.gov
SUMMARY:Wrightwood Certified Farmers Market
DESCRIPTION:Between Park & Pine\nWrightwood Community Center \nOpen: May-October\nTime: Friday\, 4:00 PM – 7:00 PM \nOpen: November-April\nTime: Friday\, 3:00 PM – 5:30 PM
URL:https://bosd1.sbcounty.gov/event/wrightwood-certified-farmers-market-2/2029-09-14/
LOCATION:Wrightwood Community Center\, 1275 CA-2\, Wrightwood\, CA\, 92397\, United States
CATEGORIES:Farmers Markets
ATTACH;FMTTYPE=image/jpeg:https://bosd1.sbcounty.gov/wp-content/uploads/sites/103/2023/11/Wrightwood-Farmers-Market.jpg
END:VEVENT
BEGIN:VEVENT
DTSTART;TZID=America/Los_Angeles:20290917T140000
DTEND;TZID=America/Los_Angeles:20290917T180000
DTSTAMP:20260419T162918
CREATED:20250612T190537Z
LAST-MODIFIED:20250612T190537Z
UID:10013301-1884348000-1884362400@bosd1.sbcounty.gov
SUMMARY:Phelan Farmers Market
DESCRIPTION:Phelan Community Center\nCorner Of Warbler Rd/Sheepcreek \nOpen: April – November\nTime: Monday\, 2:00 PM – 6:00 PM \nOpen: November – March\nTime: Monday\, 2:00 PM – 5:00 PM \n\n\n\nAddress:\n4128 Warbler Rd\nPhelan\, CA 92371\n\n\nPhone:\n760.412.9746
URL:https://bosd1.sbcounty.gov/event/phelan-farmers-market-2/2029-09-17/
LOCATION:Phelan Community Center\, 4128 Warbler Road\, Phelan\, CA\, United States
CATEGORIES:Farmers Markets
ATTACH;FMTTYPE=image/jpeg:https://bosd1.sbcounty.gov/wp-content/uploads/sites/103/2023/11/Phelan-Farmers-Market.jpg
END:VEVENT
BEGIN:VEVENT
DTSTART;TZID=America/Los_Angeles:20290920T080000
DTEND;TZID=America/Los_Angeles:20290920T120000
DTSTAMP:20260419T162918
CREATED:20250612T191049Z
LAST-MODIFIED:20250612T191049Z
UID:10014087-1884585600-1884600000@bosd1.sbcounty.gov
SUMMARY:High Desert Farmer’s Market
DESCRIPTION:Time: Thursday\, 8:00 AM – 12:00 PM \nFish Hatchery Rd\nBetween the Gym & Tennis Courts \n\n\n\nAddress:\n18422 Bear Valley Rd\nVictorville\, CA 92395\n\n\nPhone:\n760.468.3872
URL:https://bosd1.sbcounty.gov/event/high-desert-farmers-market-2/2029-09-20/
LOCATION:Victor Valley College\, 18422 Bear Valley Rd.\, Victorville\, CA\, 92395\, United States
CATEGORIES:Farmers Markets
ATTACH;FMTTYPE=image/jpeg:https://bosd1.sbcounty.gov/wp-content/uploads/sites/103/2023/11/County-Blog-Photos-14.jpg
END:VEVENT
BEGIN:VEVENT
DTSTART;TZID=America/Los_Angeles:20290921T160000
DTEND;TZID=America/Los_Angeles:20290921T190000
DTSTAMP:20260419T162918
CREATED:20250612T190352Z
LAST-MODIFIED:20250612T190352Z
UID:10012521-1884700800-1884711600@bosd1.sbcounty.gov
SUMMARY:Wrightwood Certified Farmers Market
DESCRIPTION:Between Park & Pine\nWrightwood Community Center \nOpen: May-October\nTime: Friday\, 4:00 PM – 7:00 PM \nOpen: November-April\nTime: Friday\, 3:00 PM – 5:30 PM
URL:https://bosd1.sbcounty.gov/event/wrightwood-certified-farmers-market-2/2029-09-21/
LOCATION:Wrightwood Community Center\, 1275 CA-2\, Wrightwood\, CA\, 92397\, United States
CATEGORIES:Farmers Markets
ATTACH;FMTTYPE=image/jpeg:https://bosd1.sbcounty.gov/wp-content/uploads/sites/103/2023/11/Wrightwood-Farmers-Market.jpg
END:VEVENT
BEGIN:VEVENT
DTSTART;TZID=America/Los_Angeles:20290924T140000
DTEND;TZID=America/Los_Angeles:20290924T180000
DTSTAMP:20260419T162918
CREATED:20250612T190537Z
LAST-MODIFIED:20250612T190537Z
UID:10013304-1884952800-1884967200@bosd1.sbcounty.gov
SUMMARY:Phelan Farmers Market
DESCRIPTION:Phelan Community Center\nCorner Of Warbler Rd/Sheepcreek \nOpen: April – November\nTime: Monday\, 2:00 PM – 6:00 PM \nOpen: November – March\nTime: Monday\, 2:00 PM – 5:00 PM \n\n\n\nAddress:\n4128 Warbler Rd\nPhelan\, CA 92371\n\n\nPhone:\n760.412.9746
URL:https://bosd1.sbcounty.gov/event/phelan-farmers-market-2/2029-09-24/
LOCATION:Phelan Community Center\, 4128 Warbler Road\, Phelan\, CA\, United States
CATEGORIES:Farmers Markets
ATTACH;FMTTYPE=image/jpeg:https://bosd1.sbcounty.gov/wp-content/uploads/sites/103/2023/11/Phelan-Farmers-Market.jpg
END:VEVENT
BEGIN:VEVENT
DTSTART;TZID=America/Los_Angeles:20290927T080000
DTEND;TZID=America/Los_Angeles:20290927T120000
DTSTAMP:20260419T162918
CREATED:20250612T191049Z
LAST-MODIFIED:20250612T191049Z
UID:10014090-1885190400-1885204800@bosd1.sbcounty.gov
SUMMARY:High Desert Farmer’s Market
DESCRIPTION:Time: Thursday\, 8:00 AM – 12:00 PM \nFish Hatchery Rd\nBetween the Gym & Tennis Courts \n\n\n\nAddress:\n18422 Bear Valley Rd\nVictorville\, CA 92395\n\n\nPhone:\n760.468.3872
URL:https://bosd1.sbcounty.gov/event/high-desert-farmers-market-2/2029-09-27/
LOCATION:Victor Valley College\, 18422 Bear Valley Rd.\, Victorville\, CA\, 92395\, United States
CATEGORIES:Farmers Markets
ATTACH;FMTTYPE=image/jpeg:https://bosd1.sbcounty.gov/wp-content/uploads/sites/103/2023/11/County-Blog-Photos-14.jpg
END:VEVENT
BEGIN:VEVENT
DTSTART;TZID=America/Los_Angeles:20290928T160000
DTEND;TZID=America/Los_Angeles:20290928T190000
DTSTAMP:20260419T162918
CREATED:20250612T190352Z
LAST-MODIFIED:20250612T190352Z
UID:10012524-1885305600-1885316400@bosd1.sbcounty.gov
SUMMARY:Wrightwood Certified Farmers Market
DESCRIPTION:Between Park & Pine\nWrightwood Community Center \nOpen: May-October\nTime: Friday\, 4:00 PM – 7:00 PM \nOpen: November-April\nTime: Friday\, 3:00 PM – 5:30 PM
URL:https://bosd1.sbcounty.gov/event/wrightwood-certified-farmers-market-2/2029-09-28/
LOCATION:Wrightwood Community Center\, 1275 CA-2\, Wrightwood\, CA\, 92397\, United States
CATEGORIES:Farmers Markets
ATTACH;FMTTYPE=image/jpeg:https://bosd1.sbcounty.gov/wp-content/uploads/sites/103/2023/11/Wrightwood-Farmers-Market.jpg
END:VEVENT
BEGIN:VEVENT
DTSTART;TZID=America/Los_Angeles:20291001T140000
DTEND;TZID=America/Los_Angeles:20291001T180000
DTSTAMP:20260419T162918
CREATED:20250612T190537Z
LAST-MODIFIED:20250612T190537Z
UID:10013307-1885557600-1885572000@bosd1.sbcounty.gov
SUMMARY:Phelan Farmers Market
DESCRIPTION:Phelan Community Center\nCorner Of Warbler Rd/Sheepcreek \nOpen: April – November\nTime: Monday\, 2:00 PM – 6:00 PM \nOpen: November – March\nTime: Monday\, 2:00 PM – 5:00 PM \n\n\n\nAddress:\n4128 Warbler Rd\nPhelan\, CA 92371\n\n\nPhone:\n760.412.9746
URL:https://bosd1.sbcounty.gov/event/phelan-farmers-market-2/2029-10-01/
LOCATION:Phelan Community Center\, 4128 Warbler Road\, Phelan\, CA\, United States
CATEGORIES:Farmers Markets
ATTACH;FMTTYPE=image/jpeg:https://bosd1.sbcounty.gov/wp-content/uploads/sites/103/2023/11/Phelan-Farmers-Market.jpg
END:VEVENT
BEGIN:VEVENT
DTSTART;TZID=America/Los_Angeles:20291004T080000
DTEND;TZID=America/Los_Angeles:20291004T120000
DTSTAMP:20260419T162918
CREATED:20250612T191049Z
LAST-MODIFIED:20250612T191049Z
UID:10014093-1885795200-1885809600@bosd1.sbcounty.gov
SUMMARY:High Desert Farmer’s Market
DESCRIPTION:Time: Thursday\, 8:00 AM – 12:00 PM \nFish Hatchery Rd\nBetween the Gym & Tennis Courts \n\n\n\nAddress:\n18422 Bear Valley Rd\nVictorville\, CA 92395\n\n\nPhone:\n760.468.3872
URL:https://bosd1.sbcounty.gov/event/high-desert-farmers-market-2/2029-10-04/
LOCATION:Victor Valley College\, 18422 Bear Valley Rd.\, Victorville\, CA\, 92395\, United States
CATEGORIES:Farmers Markets
ATTACH;FMTTYPE=image/jpeg:https://bosd1.sbcounty.gov/wp-content/uploads/sites/103/2023/11/County-Blog-Photos-14.jpg
END:VEVENT
BEGIN:VEVENT
DTSTART;TZID=America/Los_Angeles:20291005T160000
DTEND;TZID=America/Los_Angeles:20291005T190000
DTSTAMP:20260419T162918
CREATED:20250612T190352Z
LAST-MODIFIED:20250612T190352Z
UID:10012527-1885910400-1885921200@bosd1.sbcounty.gov
SUMMARY:Wrightwood Certified Farmers Market
DESCRIPTION:Between Park & Pine\nWrightwood Community Center \nOpen: May-October\nTime: Friday\, 4:00 PM – 7:00 PM \nOpen: November-April\nTime: Friday\, 3:00 PM – 5:30 PM
URL:https://bosd1.sbcounty.gov/event/wrightwood-certified-farmers-market-2/2029-10-05/
LOCATION:Wrightwood Community Center\, 1275 CA-2\, Wrightwood\, CA\, 92397\, United States
CATEGORIES:Farmers Markets
ATTACH;FMTTYPE=image/jpeg:https://bosd1.sbcounty.gov/wp-content/uploads/sites/103/2023/11/Wrightwood-Farmers-Market.jpg
END:VEVENT
BEGIN:VEVENT
DTSTART;TZID=America/Los_Angeles:20291008T140000
DTEND;TZID=America/Los_Angeles:20291008T180000
DTSTAMP:20260419T162918
CREATED:20250612T190537Z
LAST-MODIFIED:20250612T190537Z
UID:10013310-1886162400-1886176800@bosd1.sbcounty.gov
SUMMARY:Phelan Farmers Market
DESCRIPTION:Phelan Community Center\nCorner Of Warbler Rd/Sheepcreek \nOpen: April – November\nTime: Monday\, 2:00 PM – 6:00 PM \nOpen: November – March\nTime: Monday\, 2:00 PM – 5:00 PM \n\n\n\nAddress:\n4128 Warbler Rd\nPhelan\, CA 92371\n\n\nPhone:\n760.412.9746
URL:https://bosd1.sbcounty.gov/event/phelan-farmers-market-2/2029-10-08/
LOCATION:Phelan Community Center\, 4128 Warbler Road\, Phelan\, CA\, United States
CATEGORIES:Farmers Markets
ATTACH;FMTTYPE=image/jpeg:https://bosd1.sbcounty.gov/wp-content/uploads/sites/103/2023/11/Phelan-Farmers-Market.jpg
END:VEVENT
BEGIN:VEVENT
DTSTART;TZID=America/Los_Angeles:20291011T080000
DTEND;TZID=America/Los_Angeles:20291011T120000
DTSTAMP:20260419T162918
CREATED:20250612T191049Z
LAST-MODIFIED:20250612T191049Z
UID:10014096-1886400000-1886414400@bosd1.sbcounty.gov
SUMMARY:High Desert Farmer’s Market
DESCRIPTION:Time: Thursday\, 8:00 AM – 12:00 PM \nFish Hatchery Rd\nBetween the Gym & Tennis Courts \n\n\n\nAddress:\n18422 Bear Valley Rd\nVictorville\, CA 92395\n\n\nPhone:\n760.468.3872
URL:https://bosd1.sbcounty.gov/event/high-desert-farmers-market-2/2029-10-11/
LOCATION:Victor Valley College\, 18422 Bear Valley Rd.\, Victorville\, CA\, 92395\, United States
CATEGORIES:Farmers Markets
ATTACH;FMTTYPE=image/jpeg:https://bosd1.sbcounty.gov/wp-content/uploads/sites/103/2023/11/County-Blog-Photos-14.jpg
END:VEVENT
BEGIN:VEVENT
DTSTART;TZID=America/Los_Angeles:20291012T160000
DTEND;TZID=America/Los_Angeles:20291012T190000
DTSTAMP:20260419T162918
CREATED:20250612T190352Z
LAST-MODIFIED:20250612T190352Z
UID:10012530-1886515200-1886526000@bosd1.sbcounty.gov
SUMMARY:Wrightwood Certified Farmers Market
DESCRIPTION:Between Park & Pine\nWrightwood Community Center \nOpen: May-October\nTime: Friday\, 4:00 PM – 7:00 PM \nOpen: November-April\nTime: Friday\, 3:00 PM – 5:30 PM
URL:https://bosd1.sbcounty.gov/event/wrightwood-certified-farmers-market-2/2029-10-12/
LOCATION:Wrightwood Community Center\, 1275 CA-2\, Wrightwood\, CA\, 92397\, United States
CATEGORIES:Farmers Markets
ATTACH;FMTTYPE=image/jpeg:https://bosd1.sbcounty.gov/wp-content/uploads/sites/103/2023/11/Wrightwood-Farmers-Market.jpg
END:VEVENT
BEGIN:VEVENT
DTSTART;TZID=America/Los_Angeles:20291015T140000
DTEND;TZID=America/Los_Angeles:20291015T180000
DTSTAMP:20260419T162918
CREATED:20250612T190537Z
LAST-MODIFIED:20250612T190537Z
UID:10013313-1886767200-1886781600@bosd1.sbcounty.gov
SUMMARY:Phelan Farmers Market
DESCRIPTION:Phelan Community Center\nCorner Of Warbler Rd/Sheepcreek \nOpen: April – November\nTime: Monday\, 2:00 PM – 6:00 PM \nOpen: November – March\nTime: Monday\, 2:00 PM – 5:00 PM \n\n\n\nAddress:\n4128 Warbler Rd\nPhelan\, CA 92371\n\n\nPhone:\n760.412.9746
URL:https://bosd1.sbcounty.gov/event/phelan-farmers-market-2/2029-10-15/
LOCATION:Phelan Community Center\, 4128 Warbler Road\, Phelan\, CA\, United States
CATEGORIES:Farmers Markets
ATTACH;FMTTYPE=image/jpeg:https://bosd1.sbcounty.gov/wp-content/uploads/sites/103/2023/11/Phelan-Farmers-Market.jpg
END:VEVENT
BEGIN:VEVENT
DTSTART;TZID=America/Los_Angeles:20291018T080000
DTEND;TZID=America/Los_Angeles:20291018T120000
DTSTAMP:20260419T162918
CREATED:20250612T191049Z
LAST-MODIFIED:20250612T191049Z
UID:10014099-1887004800-1887019200@bosd1.sbcounty.gov
SUMMARY:High Desert Farmer’s Market
DESCRIPTION:Time: Thursday\, 8:00 AM – 12:00 PM \nFish Hatchery Rd\nBetween the Gym & Tennis Courts \n\n\n\nAddress:\n18422 Bear Valley Rd\nVictorville\, CA 92395\n\n\nPhone:\n760.468.3872
URL:https://bosd1.sbcounty.gov/event/high-desert-farmers-market-2/2029-10-18/
LOCATION:Victor Valley College\, 18422 Bear Valley Rd.\, Victorville\, CA\, 92395\, United States
CATEGORIES:Farmers Markets
ATTACH;FMTTYPE=image/jpeg:https://bosd1.sbcounty.gov/wp-content/uploads/sites/103/2023/11/County-Blog-Photos-14.jpg
END:VEVENT
BEGIN:VEVENT
DTSTART;TZID=America/Los_Angeles:20291019T160000
DTEND;TZID=America/Los_Angeles:20291019T190000
DTSTAMP:20260419T162918
CREATED:20250612T190352Z
LAST-MODIFIED:20250612T190352Z
UID:10012533-1887120000-1887130800@bosd1.sbcounty.gov
SUMMARY:Wrightwood Certified Farmers Market
DESCRIPTION:Between Park & Pine\nWrightwood Community Center \nOpen: May-October\nTime: Friday\, 4:00 PM – 7:00 PM \nOpen: November-April\nTime: Friday\, 3:00 PM – 5:30 PM
URL:https://bosd1.sbcounty.gov/event/wrightwood-certified-farmers-market-2/2029-10-19/
LOCATION:Wrightwood Community Center\, 1275 CA-2\, Wrightwood\, CA\, 92397\, United States
CATEGORIES:Farmers Markets
ATTACH;FMTTYPE=image/jpeg:https://bosd1.sbcounty.gov/wp-content/uploads/sites/103/2023/11/Wrightwood-Farmers-Market.jpg
END:VEVENT
BEGIN:VEVENT
DTSTART;TZID=America/Los_Angeles:20291022T140000
DTEND;TZID=America/Los_Angeles:20291022T180000
DTSTAMP:20260419T162918
CREATED:20250612T190537Z
LAST-MODIFIED:20250612T190537Z
UID:10013316-1887372000-1887386400@bosd1.sbcounty.gov
SUMMARY:Phelan Farmers Market
DESCRIPTION:Phelan Community Center\nCorner Of Warbler Rd/Sheepcreek \nOpen: April – November\nTime: Monday\, 2:00 PM – 6:00 PM \nOpen: November – March\nTime: Monday\, 2:00 PM – 5:00 PM \n\n\n\nAddress:\n4128 Warbler Rd\nPhelan\, CA 92371\n\n\nPhone:\n760.412.9746
URL:https://bosd1.sbcounty.gov/event/phelan-farmers-market-2/2029-10-22/
LOCATION:Phelan Community Center\, 4128 Warbler Road\, Phelan\, CA\, United States
CATEGORIES:Farmers Markets
ATTACH;FMTTYPE=image/jpeg:https://bosd1.sbcounty.gov/wp-content/uploads/sites/103/2023/11/Phelan-Farmers-Market.jpg
END:VEVENT
BEGIN:VEVENT
DTSTART;TZID=America/Los_Angeles:20291025T080000
DTEND;TZID=America/Los_Angeles:20291025T120000
DTSTAMP:20260419T162918
CREATED:20250612T191049Z
LAST-MODIFIED:20250612T191049Z
UID:10014102-1887609600-1887624000@bosd1.sbcounty.gov
SUMMARY:High Desert Farmer’s Market
DESCRIPTION:Time: Thursday\, 8:00 AM – 12:00 PM \nFish Hatchery Rd\nBetween the Gym & Tennis Courts \n\n\n\nAddress:\n18422 Bear Valley Rd\nVictorville\, CA 92395\n\n\nPhone:\n760.468.3872
URL:https://bosd1.sbcounty.gov/event/high-desert-farmers-market-2/2029-10-25/
LOCATION:Victor Valley College\, 18422 Bear Valley Rd.\, Victorville\, CA\, 92395\, United States
CATEGORIES:Farmers Markets
ATTACH;FMTTYPE=image/jpeg:https://bosd1.sbcounty.gov/wp-content/uploads/sites/103/2023/11/County-Blog-Photos-14.jpg
END:VEVENT
BEGIN:VEVENT
DTSTART;TZID=America/Los_Angeles:20291026T160000
DTEND;TZID=America/Los_Angeles:20291026T190000
DTSTAMP:20260419T162918
CREATED:20250612T190352Z
LAST-MODIFIED:20250612T190352Z
UID:10012536-1887724800-1887735600@bosd1.sbcounty.gov
SUMMARY:Wrightwood Certified Farmers Market
DESCRIPTION:Between Park & Pine\nWrightwood Community Center \nOpen: May-October\nTime: Friday\, 4:00 PM – 7:00 PM \nOpen: November-April\nTime: Friday\, 3:00 PM – 5:30 PM
URL:https://bosd1.sbcounty.gov/event/wrightwood-certified-farmers-market-2/2029-10-26/
LOCATION:Wrightwood Community Center\, 1275 CA-2\, Wrightwood\, CA\, 92397\, United States
CATEGORIES:Farmers Markets
ATTACH;FMTTYPE=image/jpeg:https://bosd1.sbcounty.gov/wp-content/uploads/sites/103/2023/11/Wrightwood-Farmers-Market.jpg
END:VEVENT
BEGIN:VEVENT
DTSTART;TZID=America/Los_Angeles:20291029T140000
DTEND;TZID=America/Los_Angeles:20291029T180000
DTSTAMP:20260419T162918
CREATED:20250612T190537Z
LAST-MODIFIED:20250612T190537Z
UID:10013319-1887976800-1887991200@bosd1.sbcounty.gov
SUMMARY:Phelan Farmers Market
DESCRIPTION:Phelan Community Center\nCorner Of Warbler Rd/Sheepcreek \nOpen: April – November\nTime: Monday\, 2:00 PM – 6:00 PM \nOpen: November – March\nTime: Monday\, 2:00 PM – 5:00 PM \n\n\n\nAddress:\n4128 Warbler Rd\nPhelan\, CA 92371\n\n\nPhone:\n760.412.9746
URL:https://bosd1.sbcounty.gov/event/phelan-farmers-market-2/2029-10-29/
LOCATION:Phelan Community Center\, 4128 Warbler Road\, Phelan\, CA\, United States
CATEGORIES:Farmers Markets
ATTACH;FMTTYPE=image/jpeg:https://bosd1.sbcounty.gov/wp-content/uploads/sites/103/2023/11/Phelan-Farmers-Market.jpg
END:VEVENT
BEGIN:VEVENT
DTSTART;TZID=America/Los_Angeles:20291101T080000
DTEND;TZID=America/Los_Angeles:20291101T120000
DTSTAMP:20260419T162918
CREATED:20250612T191049Z
LAST-MODIFIED:20250612T191049Z
UID:10014105-1888214400-1888228800@bosd1.sbcounty.gov
SUMMARY:High Desert Farmer’s Market
DESCRIPTION:Time: Thursday\, 8:00 AM – 12:00 PM \nFish Hatchery Rd\nBetween the Gym & Tennis Courts \n\n\n\nAddress:\n18422 Bear Valley Rd\nVictorville\, CA 92395\n\n\nPhone:\n760.468.3872
URL:https://bosd1.sbcounty.gov/event/high-desert-farmers-market-2/2029-11-01/
LOCATION:Victor Valley College\, 18422 Bear Valley Rd.\, Victorville\, CA\, 92395\, United States
CATEGORIES:Farmers Markets
ATTACH;FMTTYPE=image/jpeg:https://bosd1.sbcounty.gov/wp-content/uploads/sites/103/2023/11/County-Blog-Photos-14.jpg
END:VEVENT
BEGIN:VEVENT
DTSTART;TZID=America/Los_Angeles:20291102T160000
DTEND;TZID=America/Los_Angeles:20291102T190000
DTSTAMP:20260419T162918
CREATED:20250612T190352Z
LAST-MODIFIED:20250612T190352Z
UID:10012539-1888329600-1888340400@bosd1.sbcounty.gov
SUMMARY:Wrightwood Certified Farmers Market
DESCRIPTION:Between Park & Pine\nWrightwood Community Center \nOpen: May-October\nTime: Friday\, 4:00 PM – 7:00 PM \nOpen: November-April\nTime: Friday\, 3:00 PM – 5:30 PM
URL:https://bosd1.sbcounty.gov/event/wrightwood-certified-farmers-market-2/2029-11-02/
LOCATION:Wrightwood Community Center\, 1275 CA-2\, Wrightwood\, CA\, 92397\, United States
CATEGORIES:Farmers Markets
ATTACH;FMTTYPE=image/jpeg:https://bosd1.sbcounty.gov/wp-content/uploads/sites/103/2023/11/Wrightwood-Farmers-Market.jpg
END:VEVENT
BEGIN:VEVENT
DTSTART;TZID=America/Los_Angeles:20291105T140000
DTEND;TZID=America/Los_Angeles:20291105T180000
DTSTAMP:20260419T162918
CREATED:20250612T190537Z
LAST-MODIFIED:20250612T190537Z
UID:10013322-1888581600-1888596000@bosd1.sbcounty.gov
SUMMARY:Phelan Farmers Market
DESCRIPTION:Phelan Community Center\nCorner Of Warbler Rd/Sheepcreek \nOpen: April – November\nTime: Monday\, 2:00 PM – 6:00 PM \nOpen: November – March\nTime: Monday\, 2:00 PM – 5:00 PM \n\n\n\nAddress:\n4128 Warbler Rd\nPhelan\, CA 92371\n\n\nPhone:\n760.412.9746
URL:https://bosd1.sbcounty.gov/event/phelan-farmers-market-2/2029-11-05/
LOCATION:Phelan Community Center\, 4128 Warbler Road\, Phelan\, CA\, United States
CATEGORIES:Farmers Markets
ATTACH;FMTTYPE=image/jpeg:https://bosd1.sbcounty.gov/wp-content/uploads/sites/103/2023/11/Phelan-Farmers-Market.jpg
END:VEVENT
BEGIN:VEVENT
DTSTART;TZID=America/Los_Angeles:20291108T080000
DTEND;TZID=America/Los_Angeles:20291108T120000
DTSTAMP:20260419T162918
CREATED:20250612T191049Z
LAST-MODIFIED:20250612T191049Z
UID:10014108-1888819200-1888833600@bosd1.sbcounty.gov
SUMMARY:High Desert Farmer’s Market
DESCRIPTION:Time: Thursday\, 8:00 AM – 12:00 PM \nFish Hatchery Rd\nBetween the Gym & Tennis Courts \n\n\n\nAddress:\n18422 Bear Valley Rd\nVictorville\, CA 92395\n\n\nPhone:\n760.468.3872
URL:https://bosd1.sbcounty.gov/event/high-desert-farmers-market-2/2029-11-08/
LOCATION:Victor Valley College\, 18422 Bear Valley Rd.\, Victorville\, CA\, 92395\, United States
CATEGORIES:Farmers Markets
ATTACH;FMTTYPE=image/jpeg:https://bosd1.sbcounty.gov/wp-content/uploads/sites/103/2023/11/County-Blog-Photos-14.jpg
END:VEVENT
BEGIN:VEVENT
DTSTART;TZID=America/Los_Angeles:20291109T160000
DTEND;TZID=America/Los_Angeles:20291109T190000
DTSTAMP:20260419T162918
CREATED:20250612T190352Z
LAST-MODIFIED:20250612T190352Z
UID:10012542-1888934400-1888945200@bosd1.sbcounty.gov
SUMMARY:Wrightwood Certified Farmers Market
DESCRIPTION:Between Park & Pine\nWrightwood Community Center \nOpen: May-October\nTime: Friday\, 4:00 PM – 7:00 PM \nOpen: November-April\nTime: Friday\, 3:00 PM – 5:30 PM
URL:https://bosd1.sbcounty.gov/event/wrightwood-certified-farmers-market-2/2029-11-09/
LOCATION:Wrightwood Community Center\, 1275 CA-2\, Wrightwood\, CA\, 92397\, United States
CATEGORIES:Farmers Markets
ATTACH;FMTTYPE=image/jpeg:https://bosd1.sbcounty.gov/wp-content/uploads/sites/103/2023/11/Wrightwood-Farmers-Market.jpg
END:VEVENT
END:VCALENDAR