BEGIN:VCALENDAR
VERSION:2.0
PRODID:-//Col. Paul Cook (Ret.) First District Supervisor - ECPv6.15.14//NONSGML v1.0//EN
CALSCALE:GREGORIAN
METHOD:PUBLISH
X-ORIGINAL-URL:https://bosd1.sbcounty.gov
X-WR-CALDESC:Events for Col. Paul Cook (Ret.) First District Supervisor
REFRESH-INTERVAL;VALUE=DURATION:PT1H
X-Robots-Tag:noindex
X-PUBLISHED-TTL:PT1H
BEGIN:VTIMEZONE
TZID:America/Los_Angeles
BEGIN:DAYLIGHT
TZOFFSETFROM:-0800
TZOFFSETTO:-0700
TZNAME:PDT
DTSTART:20240310T100000
END:DAYLIGHT
BEGIN:STANDARD
TZOFFSETFROM:-0700
TZOFFSETTO:-0800
TZNAME:PST
DTSTART:20241103T090000
END:STANDARD
BEGIN:DAYLIGHT
TZOFFSETFROM:-0800
TZOFFSETTO:-0700
TZNAME:PDT
DTSTART:20250309T100000
END:DAYLIGHT
BEGIN:STANDARD
TZOFFSETFROM:-0700
TZOFFSETTO:-0800
TZNAME:PST
DTSTART:20251102T090000
END:STANDARD
BEGIN:DAYLIGHT
TZOFFSETFROM:-0800
TZOFFSETTO:-0700
TZNAME:PDT
DTSTART:20260308T100000
END:DAYLIGHT
BEGIN:STANDARD
TZOFFSETFROM:-0700
TZOFFSETTO:-0800
TZNAME:PST
DTSTART:20261101T090000
END:STANDARD
END:VTIMEZONE
BEGIN:VEVENT
DTSTART;TZID=America/Los_Angeles:20250614T080000
DTEND;TZID=America/Los_Angeles:20250614T100000
DTSTAMP:20260421T212408
CREATED:20240312T182746Z
LAST-MODIFIED:20240702T165412Z
UID:10008185-1749888000-1749895200@bosd1.sbcounty.gov
SUMMARY:Free Clothes Drive
DESCRIPTION:New Life Ministries hosts a monthly Free Clothes Drive Giveaway from 8am-11am on the second Saturday of every month. The Ministry has clothes for men\, women and children + shoes\, accessories and other household items. Free Starbucks coffee while supplies last. \nFor the best driving directions use this Google link: https://g.co/kgs/BM35oSS
URL:https://bosd1.sbcounty.gov/event/free-clothes-drive/2025-06-14/
LOCATION:New Leaf Ministries\, 11877 Tara Lane\, Adelanto\, 92301\, United States
CATEGORIES:Community Events
ATTACH;FMTTYPE=image/jpeg:https://bosd1.sbcounty.gov/wp-content/uploads/sites/103/2024/03/County-Blog-Photos-52.jpg
END:VEVENT
BEGIN:VEVENT
DTSTART;TZID=America/Los_Angeles:20250614T080000
DTEND;TZID=America/Los_Angeles:20250614T170000
DTSTAMP:20260421T212408
CREATED:20250408T180659Z
LAST-MODIFIED:20250408T180659Z
UID:10011824-1749888000-1749920400@bosd1.sbcounty.gov
SUMMARY:Lady Be Aware Self Defense Training
DESCRIPTION:The San Bernardino County Sheriff’s Department’s is hosting its next “Lady Be Aware” training. \nThis is a comprehensive one-day\, 8-hour course aimed at empowering women with the attitude\, skills\, and knowledge needed for personal safety. This course covers a range of topics including cyber safety\, home safety\, situational awareness\, and physical safety\, teaching participants to recognize and respond to potential threats. \nThe training includes practical self-defense techniques and safe firearm handling. The course costs $75. \nTo register for this class\, or an upcoming class in the future\, email Ladybeaware@sbcsd.org.
URL:https://bosd1.sbcounty.gov/event/lady-be-aware-self-defense-training-3/2025-06-14/
LOCATION:Sheriff’s Department Training Center\, 18901 Institution Road\, Devore\, CA\, 92407\, United States
CATEGORIES:Trainings
ATTACH;FMTTYPE=image/jpeg:https://bosd1.sbcounty.gov/wp-content/uploads/sites/103/county-blog-photos-940-x-700-px-36_original.jpg
ORGANIZER;CN="San Bernardino County Sheriff's Department":MAILTO:paffairs@sbcsd.org
END:VEVENT
BEGIN:VEVENT
DTSTART;TZID=America/Los_Angeles:20250614T100000
DTEND;TZID=America/Los_Angeles:20250614T150000
DTSTAMP:20260421T212408
CREATED:20231115T173436Z
LAST-MODIFIED:20240202T163113Z
UID:10006659-1749895200-1749913200@bosd1.sbcounty.gov
SUMMARY:Hesperia Community Farmer’s Market
DESCRIPTION:The Hesperia Farmer’s Community Market is every Saturday from 10:00 a.m. to  3:00 p.m. (weather permitting). \nHesperia Civic Plaza Park\, 15833 Smoke Tree Street \nPick up fresh veggies\, fruits\, unique foods\, arts and crafts\, and special deals.  Free Admission! \nEBT now accepted! \nFor more information\, call 760.713.3860 or email operations.tfsoakhills@gmail.com.
URL:https://bosd1.sbcounty.gov/event/hesperia-community-farmers-market/2025-06-14/
LOCATION:Hesperia Civic Plaza Park\, 15833 Smoke Tree Street\, Hesperia\, CA\, 92345\, United States
CATEGORIES:Farmers Markets
ATTACH;FMTTYPE=image/jpeg:https://bosd1.sbcounty.gov/wp-content/uploads/sites/103/2023/11/Hesperia-Farmers-Market.jpg
END:VEVENT
END:VCALENDAR