BEGIN:VCALENDAR
VERSION:2.0
PRODID:-//Col. Paul Cook (Ret.) First District Supervisor - ECPv6.15.14//NONSGML v1.0//EN
CALSCALE:GREGORIAN
METHOD:PUBLISH
X-WR-CALNAME:Col. Paul Cook (Ret.) First District Supervisor
X-ORIGINAL-URL:https://bosd1.sbcounty.gov
X-WR-CALDESC:Events for Col. Paul Cook (Ret.) First District Supervisor
REFRESH-INTERVAL;VALUE=DURATION:PT1H
X-Robots-Tag:noindex
X-PUBLISHED-TTL:PT1H
BEGIN:VTIMEZONE
TZID:America/Los_Angeles
BEGIN:DAYLIGHT
TZOFFSETFROM:-0800
TZOFFSETTO:-0700
TZNAME:PDT
DTSTART:20240310T100000
END:DAYLIGHT
BEGIN:STANDARD
TZOFFSETFROM:-0700
TZOFFSETTO:-0800
TZNAME:PST
DTSTART:20241103T090000
END:STANDARD
BEGIN:DAYLIGHT
TZOFFSETFROM:-0800
TZOFFSETTO:-0700
TZNAME:PDT
DTSTART:20250309T100000
END:DAYLIGHT
BEGIN:STANDARD
TZOFFSETFROM:-0700
TZOFFSETTO:-0800
TZNAME:PST
DTSTART:20251102T090000
END:STANDARD
BEGIN:DAYLIGHT
TZOFFSETFROM:-0800
TZOFFSETTO:-0700
TZNAME:PDT
DTSTART:20260308T100000
END:DAYLIGHT
BEGIN:STANDARD
TZOFFSETFROM:-0700
TZOFFSETTO:-0800
TZNAME:PST
DTSTART:20261101T090000
END:STANDARD
END:VTIMEZONE
BEGIN:VEVENT
DTSTART;VALUE=DATE:20250411
DTEND;VALUE=DATE:20250414
DTSTAMP:20260422T170011
CREATED:20250408T181654Z
LAST-MODIFIED:20250408T181654Z
UID:10011839-1744329600-1744588799@bosd1.sbcounty.gov
SUMMARY:Apple Valley Legacy Museum 10-Year Celebration
DESCRIPTION:The Apple Valley Legacy Museum will mark its 10-year milestone with an Anniversary Weekend Celebration from April 11-13\, centered at the historical museum. \nKicking off Friday at 4 p.m. with museum visits and porch gatherings\, the event unfolds fully on Saturday\, where a $20 dinner-and-entertainment package anchors the festivities. Doors open at 4 p.m.\, offering ticket sales for dinner and raffles\, auction bidding\, museum exploration\, and photo opportunities. \nNarrated historical hayrides roll out at 4 and 4:30 p.m.\, followed by a welcome from “Boni on the Keys” at 4:15 p.m. and dinner service starting at 4:45 p.m.. The evening features a skit\, “The Apple Valley Town\,” at 5:45 p.m.\, Western tunes by the High Desert Jammers with Swamp Water Fox Leo Eiffert at 6 p.m.\, and a sunset narrated historical ride at 6:30 p.m. \nTickets are available for $20 at the AVLM promising a weekend steeped in High Desert heritage.
URL:https://bosd1.sbcounty.gov/event/apple-valley-legacy-museum-10-year-celebration/
LOCATION:Apple Valley Legacy Museum\, 20601 Hwy 18\, Apple Valley\, CA\, 92307
CATEGORIES:Community Events
ATTACH;FMTTYPE=image/jpeg:https://bosd1.sbcounty.gov/wp-content/uploads/sites/103/484048581_1061300319355206_3277817920782971186_n.jpg
END:VEVENT
BEGIN:VEVENT
DTSTART;VALUE=DATE:20250411
DTEND;VALUE=DATE:20250414
DTSTAMP:20260422T170011
CREATED:20250408T182032Z
LAST-MODIFIED:20250408T182032Z
UID:10011845-1744329600-1744588799@bosd1.sbcounty.gov
SUMMARY:Adelanto Community-Wide Yard Sale
DESCRIPTION:The City of Adelanto is hosting a Community-Wide Yard Sale from April 11-13. Residents can shop\, sell\, and save without needing a permit. Taking place citywide from dusk to dawn\, this event offers an opportunity for bargain hunters to explore homes throughout Adelanto in search of hidden treasures\, great deals\, and one-of-a-kind items\, all while supporting their neighbors. \nSellers are encouraged to clear out clutter and earn extra cash\, taking advantage of the no-permit-required policy\, while shoppers can scour the town for amazing finds. The city invites everyone to spread the word\, bring friends and family\, and join in the fun. \nFor more information\, call Virginia Velis at 442-249-1124.
URL:https://bosd1.sbcounty.gov/event/adelanto-community-wide-yard-sale/
CATEGORIES:Community Events
ATTACH;FMTTYPE=image/jpeg:https://bosd1.sbcounty.gov/wp-content/uploads/sites/103/county-blog-photos-940-x-700-px-29_original.jpg
END:VEVENT
BEGIN:VEVENT
DTSTART;TZID=America/Los_Angeles:20250411T110000
DTEND;TZID=America/Los_Angeles:20250411T140000
DTSTAMP:20260422T170011
CREATED:20250130T181824Z
LAST-MODIFIED:20250130T181824Z
UID:10011035-1744369200-1744380000@bosd1.sbcounty.gov
SUMMARY:Disabled American Veterans Food Pantry
DESCRIPTION:The Disabled American Veterans (DAV) food pantry at the High Desert Vet Center in Victorville plays a vital role in supporting local Veterans and their families. \nEvery Friday\, from 11 a.m. to 2 p.m.\, this initiative offers essential food supplies to those who have served our country\, ensuring they have access to nutritious meals. \nLocated at 15095 Amargosa Road\, the food pantry not only provides sustenance but also fosters a sense of community and support for Veterans who might be facing financial hardships or other challenges post-service. \nThe DAV’s commitment to serving Veterans “one family at a time” reinforces the message that their service is valued and remembered.
URL:https://bosd1.sbcounty.gov/event/disabled-american-veterans-food-pantry/2025-04-11/
LOCATION:Victor Valley College Veterans Resource Center\, 80 Mojave Fish Hatchery Road\, Victorville\, CA\, 92392\, United States
CATEGORIES:Food Pantry
ATTACH;FMTTYPE=image/jpeg:https://bosd1.sbcounty.gov/wp-content/uploads/sites/103/veterans_original.jpg
END:VEVENT
END:VCALENDAR