BEGIN:VCALENDAR
VERSION:2.0
PRODID:-//Col. Paul Cook (Ret.) First District Supervisor - ECPv6.15.14//NONSGML v1.0//EN
CALSCALE:GREGORIAN
METHOD:PUBLISH
X-ORIGINAL-URL:https://bosd1.sbcounty.gov
X-WR-CALDESC:Events for Col. Paul Cook (Ret.) First District Supervisor
REFRESH-INTERVAL;VALUE=DURATION:PT1H
X-Robots-Tag:noindex
X-PUBLISHED-TTL:PT1H
BEGIN:VTIMEZONE
TZID:America/Los_Angeles
BEGIN:DAYLIGHT
TZOFFSETFROM:-0800
TZOFFSETTO:-0700
TZNAME:PDT
DTSTART:20240310T100000
END:DAYLIGHT
BEGIN:STANDARD
TZOFFSETFROM:-0700
TZOFFSETTO:-0800
TZNAME:PST
DTSTART:20241103T090000
END:STANDARD
BEGIN:DAYLIGHT
TZOFFSETFROM:-0800
TZOFFSETTO:-0700
TZNAME:PDT
DTSTART:20250309T100000
END:DAYLIGHT
BEGIN:STANDARD
TZOFFSETFROM:-0700
TZOFFSETTO:-0800
TZNAME:PST
DTSTART:20251102T090000
END:STANDARD
BEGIN:DAYLIGHT
TZOFFSETFROM:-0800
TZOFFSETTO:-0700
TZNAME:PDT
DTSTART:20260308T100000
END:DAYLIGHT
BEGIN:STANDARD
TZOFFSETFROM:-0700
TZOFFSETTO:-0800
TZNAME:PST
DTSTART:20261101T090000
END:STANDARD
END:VTIMEZONE
BEGIN:VEVENT
DTSTART;TZID=America/Los_Angeles:20250329T080000
DTEND;TZID=America/Los_Angeles:20250329T110000
DTSTAMP:20260422T221656
CREATED:20250325T162916Z
LAST-MODIFIED:20250325T162916Z
UID:10011791-1743235200-1743246000@bosd1.sbcounty.gov
SUMMARY:Vietnam Veterans Day Event
DESCRIPTION:On March 29\, the Rotary Club of Apple Valley will host a Vietnam Veterans Day event at the Apple Valley Senior Center. This special occasion is dedicated to honoring all who served during the Vietnam War\, offering a heartfelt tribute to their courage and sacrifice. \nFrom 8-11 a.m.\, a complimentary breakfast will be provided exclusively for Vietnam veterans\, creating an opportunity for them to gather\, share their stories\, and be recognized by the community. The Center is located at 13188 Central Road\, Apple Valley.
URL:https://bosd1.sbcounty.gov/event/vietnam-veterans-day-event/
LOCATION:Apple Valley Senior Citizens Club\, 13188 Central Road\, Apple Valley
CATEGORIES:Community Events
ATTACH;FMTTYPE=image/jpeg:https://bosd1.sbcounty.gov/wp-content/uploads/sites/103/us-flag_original.jpg
END:VEVENT
BEGIN:VEVENT
DTSTART;TZID=America/Los_Angeles:20250329T100000
DTEND;TZID=America/Los_Angeles:20250329T150000
DTSTAMP:20260422T221656
CREATED:20231115T173436Z
LAST-MODIFIED:20240202T163113Z
UID:10006626-1743242400-1743260400@bosd1.sbcounty.gov
SUMMARY:Hesperia Community Farmer’s Market
DESCRIPTION:The Hesperia Farmer’s Community Market is every Saturday from 10:00 a.m. to  3:00 p.m. (weather permitting). \nHesperia Civic Plaza Park\, 15833 Smoke Tree Street \nPick up fresh veggies\, fruits\, unique foods\, arts and crafts\, and special deals.  Free Admission! \nEBT now accepted! \nFor more information\, call 760.713.3860 or email operations.tfsoakhills@gmail.com.
URL:https://bosd1.sbcounty.gov/event/hesperia-community-farmers-market/2025-03-29/
LOCATION:Hesperia Civic Plaza Park\, 15833 Smoke Tree Street\, Hesperia\, CA\, 92345\, United States
CATEGORIES:Farmers Markets
ATTACH;FMTTYPE=image/jpeg:https://bosd1.sbcounty.gov/wp-content/uploads/sites/103/2023/11/Hesperia-Farmers-Market.jpg
END:VEVENT
END:VCALENDAR