BEGIN:VCALENDAR
VERSION:2.0
PRODID:-//Col. Paul Cook (Ret.) First District Supervisor - ECPv6.15.14//NONSGML v1.0//EN
CALSCALE:GREGORIAN
METHOD:PUBLISH
X-WR-CALNAME:Col. Paul Cook (Ret.) First District Supervisor
X-ORIGINAL-URL:https://bosd1.sbcounty.gov
X-WR-CALDESC:Events for Col. Paul Cook (Ret.) First District Supervisor
REFRESH-INTERVAL;VALUE=DURATION:PT1H
X-Robots-Tag:noindex
X-PUBLISHED-TTL:PT1H
BEGIN:VTIMEZONE
TZID:America/Los_Angeles
BEGIN:DAYLIGHT
TZOFFSETFROM:-0800
TZOFFSETTO:-0700
TZNAME:PDT
DTSTART:20230312T100000
END:DAYLIGHT
BEGIN:STANDARD
TZOFFSETFROM:-0700
TZOFFSETTO:-0800
TZNAME:PST
DTSTART:20231105T090000
END:STANDARD
BEGIN:DAYLIGHT
TZOFFSETFROM:-0800
TZOFFSETTO:-0700
TZNAME:PDT
DTSTART:20240310T100000
END:DAYLIGHT
BEGIN:STANDARD
TZOFFSETFROM:-0700
TZOFFSETTO:-0800
TZNAME:PST
DTSTART:20241103T090000
END:STANDARD
BEGIN:DAYLIGHT
TZOFFSETFROM:-0800
TZOFFSETTO:-0700
TZNAME:PDT
DTSTART:20250309T100000
END:DAYLIGHT
BEGIN:STANDARD
TZOFFSETFROM:-0700
TZOFFSETTO:-0800
TZNAME:PST
DTSTART:20251102T090000
END:STANDARD
END:VTIMEZONE
BEGIN:VEVENT
DTSTART;TZID=America/Los_Angeles:20241111T090000
DTEND;TZID=America/Los_Angeles:20241111T233000
DTSTAMP:20260421T102738
CREATED:20240829T183633Z
LAST-MODIFIED:20240829T183633Z
UID:10010318-1731315600-1731367800@bosd1.sbcounty.gov
SUMMARY:28th Annual Veterans Day Celebration
DESCRIPTION:The City of Victorville is inviting the community to celebrate its 28th Annual Veterans Day Celebration on November 11. The festivities kick off at 9 a.m. with a parade starting at the corner of 7th Street and Tracy\, proceeding to the corner of 7th Street and Forrest Avenue. This will be followed by a moving ceremony honoring local veterans. \nCommunity members are encouraged to participate in two ways. First\, applications for parade participants and nominations for veterans to be honored during the ceremony are now open. Information and submission forms can be found on the City’s website with a deadline of October 13. \nSecondly\, the City is creating a special video tribute to veterans and welcomes anyone interested in participating to share their stories by emailing pio@Victorvilleca.gov
URL:https://bosd1.sbcounty.gov/event/28th-annual-veterans-day-celebration/
CATEGORIES:Community Events
ATTACH;FMTTYPE=image/jpeg:https://bosd1.sbcounty.gov/wp-content/uploads/sites/103/2024/08/Website-Events-16x9-3-1.jpg
END:VEVENT
BEGIN:VEVENT
DTSTART;TZID=America/Los_Angeles:20241111T110000
DTEND;TZID=America/Los_Angeles:20241111T120000
DTSTAMP:20260421T102738
CREATED:20241105T193631Z
LAST-MODIFIED:20241105T193631Z
UID:10010981-1731322800-1731326400@bosd1.sbcounty.gov
SUMMARY:Hesperia Veteran’s Day Ceremony
DESCRIPTION:City of Hesperia’s annual Veteran’s Day Ceremony will take place at 11 a.m. at the Veteran’s Memorial\, located at Hesperia Lake Park\, 7500 Arrowhead Lake Rd.\, Hesperia. All active and retired military personnel\, their families\, and members of the public are invited to attend the ceremony. For more information\, please call 760-244-5488.
URL:https://bosd1.sbcounty.gov/event/hesperia-veterans-day-ceremony/
LOCATION:Hesperia Lake Park\, 7500 Arrowhead Lake Road\, Hesperia\, CA\, 92345\, United States
CATEGORIES:Community Events
ATTACH;FMTTYPE=image/jpeg:https://bosd1.sbcounty.gov/wp-content/uploads/sites/103/2023/11/High-Desert-Veterans-Dinner.jpg
END:VEVENT
BEGIN:VEVENT
DTSTART;TZID=America/Los_Angeles:20241111T110000
DTEND;TZID=America/Los_Angeles:20241111T130000
DTSTAMP:20260421T102738
CREATED:20241105T192926Z
LAST-MODIFIED:20241105T192926Z
UID:10010978-1731322800-1731330000@bosd1.sbcounty.gov
SUMMARY:Phelan VFW Veterans Day Event
DESCRIPTION:VFW Post 9415 in Phelan will hold its Veterans Day celebration on Monday at 11 a.m. This event is free to attend and will include a short service\, a POW/MIA presentation\, and a potluck lunch. The Post is located at 4892 Nielson Rd\, Phelan. For more information\, call (760) 868-1999.
URL:https://bosd1.sbcounty.gov/event/phelan-vfw-veterans-day-event/
CATEGORIES:Community Events
ATTACH;FMTTYPE=image/jpeg:https://bosd1.sbcounty.gov/wp-content/uploads/sites/103/2023/11/High-Desert-Veterans-Dinner.jpg
END:VEVENT
END:VCALENDAR