BEGIN:VCALENDAR
VERSION:2.0
PRODID:-//Col. Paul Cook (Ret.) First District Supervisor - ECPv6.15.14//NONSGML v1.0//EN
CALSCALE:GREGORIAN
METHOD:PUBLISH
X-ORIGINAL-URL:https://bosd1.sbcounty.gov
X-WR-CALDESC:Events for Col. Paul Cook (Ret.) First District Supervisor
REFRESH-INTERVAL;VALUE=DURATION:PT1H
X-Robots-Tag:noindex
X-PUBLISHED-TTL:PT1H
BEGIN:VTIMEZONE
TZID:America/Los_Angeles
BEGIN:DAYLIGHT
TZOFFSETFROM:-0800
TZOFFSETTO:-0700
TZNAME:PDT
DTSTART:20230312T100000
END:DAYLIGHT
BEGIN:STANDARD
TZOFFSETFROM:-0700
TZOFFSETTO:-0800
TZNAME:PST
DTSTART:20231105T090000
END:STANDARD
BEGIN:DAYLIGHT
TZOFFSETFROM:-0800
TZOFFSETTO:-0700
TZNAME:PDT
DTSTART:20240310T100000
END:DAYLIGHT
BEGIN:STANDARD
TZOFFSETFROM:-0700
TZOFFSETTO:-0800
TZNAME:PST
DTSTART:20241103T090000
END:STANDARD
BEGIN:DAYLIGHT
TZOFFSETFROM:-0800
TZOFFSETTO:-0700
TZNAME:PDT
DTSTART:20250309T100000
END:DAYLIGHT
BEGIN:STANDARD
TZOFFSETFROM:-0700
TZOFFSETTO:-0800
TZNAME:PST
DTSTART:20251102T090000
END:STANDARD
END:VTIMEZONE
BEGIN:VEVENT
DTSTART;TZID=America/Los_Angeles:20240504T080000
DTEND;TZID=America/Los_Angeles:20240504T120000
DTSTAMP:20260423T032441
CREATED:20240502T174209Z
LAST-MODIFIED:20240502T174329Z
UID:10008570-1714809600-1714824000@bosd1.sbcounty.gov
SUMMARY:Shred Fest and Recycling Event
DESCRIPTION:The City of Victorville is hosting a free Shred Fest and Recycling event from 8 a.m. to noon on Saturday\, May 4. Shred your unwanted documents\, recycle electronics like old TVs\, computers and appliances\, and recycle mattresses and box springs in an eco-friendly way. This is a great opportunity to clean out your home and help the environment! \nThe Victor Valley Materials Recovery Facility (MRF) is located at 17000 Abbey Ln.\, Victorville. For more information\, contact the City of Victorville Environmental Programs Division at (760) 955-8615.
URL:https://bosd1.sbcounty.gov/event/shred-fest-and-recycling-event/
LOCATION:Victor Valley Materials Recovery Facility\, 17000 Abbey Lane\, Victorville\, CA\, United States
CATEGORIES:Community Cleanups
ATTACH;FMTTYPE=image/jpeg:https://bosd1.sbcounty.gov/wp-content/uploads/sites/103/2024/05/shred-fest.jpg
END:VEVENT
BEGIN:VEVENT
DTSTART;TZID=America/Los_Angeles:20240504T080000
DTEND;TZID=America/Los_Angeles:20240504T130000
DTSTAMP:20260423T032441
CREATED:20240502T173007Z
LAST-MODIFIED:20240502T173019Z
UID:10008558-1714809600-1714827600@bosd1.sbcounty.gov
SUMMARY:Community Flea Market
DESCRIPTION:One person’s trash is another’s treasure! Join the Town of Apple Valley for a Community Flea Market on Saturday\, May 4\, at Lion’s Park. Individuals\, non-profit\, church and civic groups to sell rummage items from 8 a.m. to 1 p.m. There will be a variety of new\, used and handcrafted items for sale. Music and food vendors will add to the fun. \nParking and admission is free! Vendor spaces are $20 or $10 for non-profit. Call 760-240-7880 for more information or visit the Recreation Counter in Town Hall to register.
URL:https://bosd1.sbcounty.gov/event/community-flea-market/
LOCATION:Lions Park\, 20789 CA-18\, Apple Valley\, CA\, 92307\, United States
CATEGORIES:Community Events
ATTACH;FMTTYPE=image/jpeg:https://bosd1.sbcounty.gov/wp-content/uploads/sites/103/2024/05/flea-market.jpg
ORGANIZER;CN="Apple Valley Parks &amp%3B Recreation":MAILTO:recreation@applevalley.org
END:VEVENT
BEGIN:VEVENT
DTSTART;TZID=America/Los_Angeles:20240504T100000
DTEND;TZID=America/Los_Angeles:20240504T150000
DTSTAMP:20260423T032441
CREATED:20231115T173436Z
LAST-MODIFIED:20240202T163113Z
UID:10006485-1714816800-1714834800@bosd1.sbcounty.gov
SUMMARY:Hesperia Community Farmer’s Market
DESCRIPTION:The Hesperia Farmer’s Community Market is every Saturday from 10:00 a.m. to  3:00 p.m. (weather permitting). \nHesperia Civic Plaza Park\, 15833 Smoke Tree Street \nPick up fresh veggies\, fruits\, unique foods\, arts and crafts\, and special deals.  Free Admission! \nEBT now accepted! \nFor more information\, call 760.713.3860 or email operations.tfsoakhills@gmail.com.
URL:https://bosd1.sbcounty.gov/event/hesperia-community-farmers-market/2024-05-04/
LOCATION:Hesperia Civic Plaza Park\, 15833 Smoke Tree Street\, Hesperia\, CA\, 92345\, United States
CATEGORIES:Farmers Markets
ATTACH;FMTTYPE=image/jpeg:https://bosd1.sbcounty.gov/wp-content/uploads/sites/103/2023/11/Hesperia-Farmers-Market.jpg
END:VEVENT
BEGIN:VEVENT
DTSTART;TZID=America/Los_Angeles:20240504T110000
DTEND;TZID=America/Los_Angeles:20240504T160000
DTSTAMP:20260423T032441
CREATED:20240502T172645Z
LAST-MODIFIED:20240502T172645Z
UID:10008552-1714820400-1714838400@bosd1.sbcounty.gov
SUMMARY:Spring Fling and SXS Show
DESCRIPTION:Wrightwood’s 2nd annual Spring Fling\, sponsored by the Wrightwood Brew Co. and Wrightwood Chamber of Commerce\, will take place from 11 a.m. to 4 p.m. on Saturday\, May 4. \nEnjoy live music by Delta Shade\, food\, beer and a cornhole tournament. A highlight of the event is a side-by-side UTV show in the community center parking lot\, complete with information and advice from off-road experts! \n\nSXS Exhibit Application\nCornhole Tournament Signup\n\nFor more information\, please call (760) 249-4320.
URL:https://bosd1.sbcounty.gov/event/spring-fling-and-sxs-show/
LOCATION:Wrightwood Community Center\, 1275 CA-2\, Wrightwood\, CA\, 92397\, United States
CATEGORIES:Community Events
ATTACH;FMTTYPE=image/jpeg:https://bosd1.sbcounty.gov/wp-content/uploads/sites/103/2024/05/sxs.jpg
ORGANIZER;CN="Wrightwood Chamber of Commerce":MAILTO:wwchamberoffice@gmail.com
END:VEVENT
BEGIN:VEVENT
DTSTART;TZID=America/Los_Angeles:20240504T170000
DTEND;TZID=America/Los_Angeles:20240504T190000
DTSTAMP:20260423T032441
CREATED:20240502T172855Z
LAST-MODIFIED:20240502T172855Z
UID:10008555-1714842000-1714849200@bosd1.sbcounty.gov
SUMMARY:May the Fourth 3k/5K Fun Run
DESCRIPTION:Celebrate May the 4th with Apple Valley’s Recreation’s annual May the 4th 3K/5K Fun Run! Dress as your favorite Star Wars characters and run for the Light or the Dark side! The race is untimed\, so all paces are welcome. All paid registered runners will receive a custom finisher medal! \nCheck in begins at 5 p.m. on Saturday\, May 4\, at Civic Center Park. The run begins at 6 p.m. Pre-registration for this race will close on Friday. May 3. On-site registration is available on the day of the race. Fees are $15 for runners\, walkers are free. Registration is online at AVRecreation.org\, or in person at Town Hall Recreation Department.
URL:https://bosd1.sbcounty.gov/event/may-the-fourth-3k-5k-fun-run/
LOCATION:Apple Valley Civic Center Park and Aquatic Center\, 14955 Dale Evans Parkway\, Apple Valley\, CA\, 92307\, United States
CATEGORIES:Community Events
ATTACH;FMTTYPE=image/jpeg:https://bosd1.sbcounty.gov/wp-content/uploads/sites/103/2024/05/star-wars.jpg
ORGANIZER;CN="Apple Valley Parks &amp%3B Recreation":MAILTO:recreation@applevalley.org
END:VEVENT
END:VCALENDAR