BEGIN:VCALENDAR
VERSION:2.0
PRODID:-//Col. Paul Cook (Ret.) First District Supervisor - ECPv6.15.14//NONSGML v1.0//EN
CALSCALE:GREGORIAN
METHOD:PUBLISH
X-ORIGINAL-URL:https://bosd1.sbcounty.gov
X-WR-CALDESC:Events for Col. Paul Cook (Ret.) First District Supervisor
REFRESH-INTERVAL;VALUE=DURATION:PT1H
X-Robots-Tag:noindex
X-PUBLISHED-TTL:PT1H
BEGIN:VTIMEZONE
TZID:America/Los_Angeles
BEGIN:DAYLIGHT
TZOFFSETFROM:-0800
TZOFFSETTO:-0700
TZNAME:PDT
DTSTART:20230312T100000
END:DAYLIGHT
BEGIN:STANDARD
TZOFFSETFROM:-0700
TZOFFSETTO:-0800
TZNAME:PST
DTSTART:20231105T090000
END:STANDARD
BEGIN:DAYLIGHT
TZOFFSETFROM:-0800
TZOFFSETTO:-0700
TZNAME:PDT
DTSTART:20240310T100000
END:DAYLIGHT
BEGIN:STANDARD
TZOFFSETFROM:-0700
TZOFFSETTO:-0800
TZNAME:PST
DTSTART:20241103T090000
END:STANDARD
BEGIN:DAYLIGHT
TZOFFSETFROM:-0800
TZOFFSETTO:-0700
TZNAME:PDT
DTSTART:20250309T100000
END:DAYLIGHT
BEGIN:STANDARD
TZOFFSETFROM:-0700
TZOFFSETTO:-0800
TZNAME:PST
DTSTART:20251102T090000
END:STANDARD
END:VTIMEZONE
BEGIN:VEVENT
DTSTART;TZID=America/Los_Angeles:20240427T080000
DTEND;TZID=America/Los_Angeles:20240427T120000
DTSTAMP:20260422T235543
CREATED:20240312T175854Z
LAST-MODIFIED:20240312T175854Z
UID:10008131-1714204800-1714219200@bosd1.sbcounty.gov
SUMMARY:City of Hesperia's Cleanup Day
DESCRIPTION:Registration for City of Hesperia’s Cleanup Day on April 27 is open. The event will take place from 8 a.m. to noon. Register before March 26 to receive a free T-shirt. All cleaning supplies are provided. For more information and to register\, visit keephesperiabeautiful.com.
URL:https://bosd1.sbcounty.gov/event/city-of-hesperias-cleanup-day/
CATEGORIES:Community Cleanups
ATTACH;FMTTYPE=image/jpeg:https://bosd1.sbcounty.gov/wp-content/uploads/sites/103/2024/03/County-Blog-Photos-47.jpg
END:VEVENT
BEGIN:VEVENT
DTSTART;TZID=America/Los_Angeles:20240427T080000
DTEND;TZID=America/Los_Angeles:20240427T140000
DTSTAMP:20260422T235543
CREATED:20240418T185232Z
LAST-MODIFIED:20240418T185232Z
UID:10008542-1714204800-1714226400@bosd1.sbcounty.gov
SUMMARY:Free Community Health Fair
DESCRIPTION:The Apple Valley Lions Club\, in partnership with Church of The Valley & Choice Medical Group\, will be holding a Free Community Health Fair and Vision Screening from 8 a.m. to 2 p.m. Saturday\, April 27. Local vendors will provide health screenings\, information booths\, demonstrations\, resources and much more. The health fair will be held at Church of The Valley\, 20700 Standing Rock Ave.\, Apple Valley. For more information\, please call 760-247-6494 or visit churchofthevalley.net
URL:https://bosd1.sbcounty.gov/event/free-community-health-fair/
LOCATION:Church of the Valley\, 20700 Standing Rock Ave\, Apple Valley\, CA
CATEGORIES:Community Events
ATTACH;FMTTYPE=image/png:https://bosd1.sbcounty.gov/wp-content/uploads/sites/103/2024/04/health-fair.png
END:VEVENT
BEGIN:VEVENT
DTSTART;TZID=America/Los_Angeles:20240427T100000
DTEND;TZID=America/Los_Angeles:20240427T150000
DTSTAMP:20260422T235543
CREATED:20231115T173436Z
LAST-MODIFIED:20240202T163113Z
UID:10006482-1714212000-1714230000@bosd1.sbcounty.gov
SUMMARY:Hesperia Community Farmer’s Market
DESCRIPTION:The Hesperia Farmer’s Community Market is every Saturday from 10:00 a.m. to  3:00 p.m. (weather permitting). \nHesperia Civic Plaza Park\, 15833 Smoke Tree Street \nPick up fresh veggies\, fruits\, unique foods\, arts and crafts\, and special deals.  Free Admission! \nEBT now accepted! \nFor more information\, call 760.713.3860 or email operations.tfsoakhills@gmail.com.
URL:https://bosd1.sbcounty.gov/event/hesperia-community-farmers-market/2024-04-27/
LOCATION:Hesperia Civic Plaza Park\, 15833 Smoke Tree Street\, Hesperia\, CA\, 92345\, United States
CATEGORIES:Farmers Markets
ATTACH;FMTTYPE=image/jpeg:https://bosd1.sbcounty.gov/wp-content/uploads/sites/103/2023/11/Hesperia-Farmers-Market.jpg
END:VEVENT
BEGIN:VEVENT
DTSTART;TZID=America/Los_Angeles:20240427T180000
DTEND;TZID=America/Los_Angeles:20240427T210000
DTSTAMP:20260422T235543
CREATED:20240418T184957Z
LAST-MODIFIED:20240418T184957Z
UID:10008539-1714240800-1714251600@bosd1.sbcounty.gov
SUMMARY:NASA Stargazing Party
DESCRIPTION:Calling all stargazers! Get ready for a cosmic adventure at the Mojave River Forks Stargazing Party from 6-9 p.m. Saturday\, April 27! \nExplore the wonders of the night sky\, and learn about the stars\, moon\, and constellations from the experts. Special guest speaker\, retired NASA astronaut José Hernandez\, will share incredible stories from his time in space. \nLocal astronomy clubs will be there to guide you on your celestial journey. There will be fun activities\, free refreshments (while supplies last)\, and telescopes provided (limited availability). Feel free to bring your own telescope or binoculars too! Admission is just $10 per vehicle\, and free for campers. \nMojave River Forks is located at 17891 CA 173\, Hesperia.
URL:https://bosd1.sbcounty.gov/event/nasa-stargazing-party/
LOCATION:Mojave River Forks\, 17891 CA 173\, Hesperia\, CA
CATEGORIES:Community Events
ATTACH;FMTTYPE=image/png:https://bosd1.sbcounty.gov/wp-content/uploads/sites/103/2024/04/telescope.png
END:VEVENT
END:VCALENDAR