BEGIN:VCALENDAR
VERSION:2.0
PRODID:-//Col. Paul Cook (Ret.) First District Supervisor - ECPv6.15.14//NONSGML v1.0//EN
CALSCALE:GREGORIAN
METHOD:PUBLISH
X-ORIGINAL-URL:https://bosd1.sbcounty.gov
X-WR-CALDESC:Events for Col. Paul Cook (Ret.) First District Supervisor
REFRESH-INTERVAL;VALUE=DURATION:PT1H
X-Robots-Tag:noindex
X-PUBLISHED-TTL:PT1H
BEGIN:VTIMEZONE
TZID:America/Los_Angeles
BEGIN:DAYLIGHT
TZOFFSETFROM:-0800
TZOFFSETTO:-0700
TZNAME:PDT
DTSTART:20230312T100000
END:DAYLIGHT
BEGIN:STANDARD
TZOFFSETFROM:-0700
TZOFFSETTO:-0800
TZNAME:PST
DTSTART:20231105T090000
END:STANDARD
BEGIN:DAYLIGHT
TZOFFSETFROM:-0800
TZOFFSETTO:-0700
TZNAME:PDT
DTSTART:20240310T100000
END:DAYLIGHT
BEGIN:STANDARD
TZOFFSETFROM:-0700
TZOFFSETTO:-0800
TZNAME:PST
DTSTART:20241103T090000
END:STANDARD
BEGIN:DAYLIGHT
TZOFFSETFROM:-0800
TZOFFSETTO:-0700
TZNAME:PDT
DTSTART:20250309T100000
END:DAYLIGHT
BEGIN:STANDARD
TZOFFSETFROM:-0700
TZOFFSETTO:-0800
TZNAME:PST
DTSTART:20251102T090000
END:STANDARD
END:VTIMEZONE
BEGIN:VEVENT
DTSTART;VALUE=DATE:20240418
DTEND;VALUE=DATE:20240422
DTSTAMP:20260422T235544
CREATED:20240109T193926Z
LAST-MODIFIED:20240109T193926Z
UID:10007775-1713398400-1713743999@bosd1.sbcounty.gov
SUMMARY:East Mojave Trek
DESCRIPTION:Join the Mojave Desert Heritage and Cultural Association for three days of adventure\, education\, and exploration of the eastern Mojave Desert. Workshops focusing on overland planning and safety techniques presented by Bob Wohlers\, published author and Owner of Off-Road Safety Academy\, Discoveroffroading.com and by MDHCA experts on the history of the eastern Mojave\, and the flora\, fauna\, and geology of the Mojave Desert. \nDocent-led tours of the MDHCA Outdoor Museum include the Exhibit Hall\, Goffs Schoolhouse\, Operating Stamp Mills\, the Mojave phone booth\, the Mojave Cross\, and many other items of interest to young and old Desert Rats. Motorized tours of the east Mojave to include portions of the Mojave Road\, the East Mojave Heritage Trail\, and many other points of interest in the eastern Mojave. SUVs and 4 x 4s with high clearance are recommended for the tours. \nWhen: April 18-21\, 2024 (Thursday-Sunday)\nWhere: Goffs School House – Goffs\, California — Located on historic US Route-66\, about two hours east of Barstow\, CA and 30 minutes west of Needles\, CA \nWhat’s Included with Registration?\n• Dry campsite (three nights) with access to toilets\, showers and potable water.\n• Dinners Thursday\, Friday\, Saturday nights\n• Breakfasts Friday\, Saturday\, Sunday mornings\n• All educational events\, exhibits\, and trail rides\n• Friday evening Star Party\n• Saturday evening Raffle\n• Event T-Shirt (for each paid registrant)\n• Trail Rides Schedule TBA\nRun selection will be done prior to the East Mojave Trek via email correspondence by event organizers. \nMore information on Event and Trail Ride\nSchedules\, Workshops\, Tours of the Mojave Desert Cultural Association\, and Vehicle Safety Information visit:\nhttps://cal4wheel.com/east-mojave-trek\nhttp://themojaveroad.org and\nhttp://DiscoverOffRoading.com\nREGISTER AT: cal4Wheel.org/east-mojave-trek
URL:https://bosd1.sbcounty.gov/event/east-mojave-trek/
LOCATION:Goffs School House\, 37198 Lanfair Rd.\, Essex\, CA\, 92332\, United States
CATEGORIES:Community Events
ATTACH;FMTTYPE=image/jpeg:https://bosd1.sbcounty.gov/wp-content/uploads/sites/103/2024/01/County-Blog-Photos-14.jpg
END:VEVENT
BEGIN:VEVENT
DTSTART;TZID=America/Los_Angeles:20240419T150000
DTEND;TZID=America/Los_Angeles:20240419T173000
DTSTAMP:20260422T235544
CREATED:20231115T175508Z
LAST-MODIFIED:20231115T175508Z
UID:10007286-1713538800-1713547800@bosd1.sbcounty.gov
SUMMARY:Wrightwood Certified Farmers Market
DESCRIPTION:Between Park & Pine at the Wrightwood Community Center \nMay-October\nTime: Friday\, 4:00 PM – 7:00 PM \nNovember-April\nTime: Friday\, 3:00 PM – 5:30 PM \n\n\n\nAddress:\n1275 Hwy 2\nWrightwood\, CA 92397\n\n\nPhone:\n661.330.9009
URL:https://bosd1.sbcounty.gov/event/wrightwood-certified-farmers-market/2024-04-19/
LOCATION:Wrightwood Community Center\, 1275 CA-2\, Wrightwood\, CA\, 92397\, United States
CATEGORIES:Farmers Markets
ATTACH;FMTTYPE=image/jpeg:https://bosd1.sbcounty.gov/wp-content/uploads/sites/103/2023/11/Wrightwood-Farmers-Market.jpg
END:VEVENT
END:VCALENDAR