BEGIN:VCALENDAR
VERSION:2.0
PRODID:-//Col. Paul Cook (Ret.) First District Supervisor - ECPv6.15.14//NONSGML v1.0//EN
CALSCALE:GREGORIAN
METHOD:PUBLISH
X-WR-CALNAME:Col. Paul Cook (Ret.) First District Supervisor
X-ORIGINAL-URL:https://bosd1.sbcounty.gov
X-WR-CALDESC:Events for Col. Paul Cook (Ret.) First District Supervisor
REFRESH-INTERVAL;VALUE=DURATION:PT1H
X-Robots-Tag:noindex
X-PUBLISHED-TTL:PT1H
BEGIN:VTIMEZONE
TZID:America/Los_Angeles
BEGIN:DAYLIGHT
TZOFFSETFROM:-0800
TZOFFSETTO:-0700
TZNAME:PDT
DTSTART:20230312T100000
END:DAYLIGHT
BEGIN:STANDARD
TZOFFSETFROM:-0700
TZOFFSETTO:-0800
TZNAME:PST
DTSTART:20231105T090000
END:STANDARD
BEGIN:DAYLIGHT
TZOFFSETFROM:-0800
TZOFFSETTO:-0700
TZNAME:PDT
DTSTART:20240310T100000
END:DAYLIGHT
BEGIN:STANDARD
TZOFFSETFROM:-0700
TZOFFSETTO:-0800
TZNAME:PST
DTSTART:20241103T090000
END:STANDARD
BEGIN:DAYLIGHT
TZOFFSETFROM:-0800
TZOFFSETTO:-0700
TZNAME:PDT
DTSTART:20250309T100000
END:DAYLIGHT
BEGIN:STANDARD
TZOFFSETFROM:-0700
TZOFFSETTO:-0800
TZNAME:PST
DTSTART:20251102T090000
END:STANDARD
END:VTIMEZONE
BEGIN:VEVENT
DTSTART;VALUE=DATE:20240405
DTEND;VALUE=DATE:20240408
DTSTAMP:20260422T235258
CREATED:20240123T200947Z
LAST-MODIFIED:20240123T200947Z
UID:10008060-1712275200-1712534399@bosd1.sbcounty.gov
SUMMARY:High Desert Home & Garden Show
DESCRIPTION:The High Desert Home Show hosts two home improvement expos per year where attendees can meet vendors\, shop\, see demonstrations\, and have fun with their family. It’s a great opportunity to get inspired\, meet contractors\, and learn about the latest products for your home.
URL:https://bosd1.sbcounty.gov/event/high-desert-home-garden-show/
LOCATION:San Bernardino County Fairgrounds\, 14800 7th St\, Victorville\, CA\, 92395\, United States
CATEGORIES:Community Events
ATTACH;FMTTYPE=image/jpeg:https://bosd1.sbcounty.gov/wp-content/uploads/sites/103/2024/01/County-Blog-Photos-30.jpg
END:VEVENT
BEGIN:VEVENT
DTSTART;TZID=America/Los_Angeles:20240406T090000
DTEND;TZID=America/Los_Angeles:20240406T140000
DTSTAMP:20260422T235258
CREATED:20240312T190553Z
LAST-MODIFIED:20240312T190553Z
UID:10008341-1712394000-1712412000@bosd1.sbcounty.gov
SUMMARY:Hesperia E-Waste Recycling and Shredding Event
DESCRIPTION:City of Hesperia is sponsoring a free e-waste recycling and secure on-site shredding event on Saturday\, April 6. The event runs from 9 a.m. to 2 p.m. behind Eagle Plaza at 15776 Main Street in Hesperia. Hesperia residents can bring up to six bankers boxes of paper.  For more information\, visit www.cityofhesperia.us/ewaste or https://www.cityofhesperia.us/1474/Shred-Day
URL:https://bosd1.sbcounty.gov/event/hesperia-e-waste-recycling-and-shredding-event/
CATEGORIES:Community Cleanups
ATTACH;FMTTYPE=image/jpeg:https://bosd1.sbcounty.gov/wp-content/uploads/sites/103/2024/03/County-Blog-Photos-59.jpg
END:VEVENT
BEGIN:VEVENT
DTSTART;TZID=America/Los_Angeles:20240406T100000
DTEND;TZID=America/Los_Angeles:20240406T150000
DTSTAMP:20260422T235258
CREATED:20231115T173436Z
LAST-MODIFIED:20240202T163113Z
UID:10006473-1712397600-1712415600@bosd1.sbcounty.gov
SUMMARY:Hesperia Community Farmer’s Market
DESCRIPTION:The Hesperia Farmer’s Community Market is every Saturday from 10:00 a.m. to  3:00 p.m. (weather permitting). \nHesperia Civic Plaza Park\, 15833 Smoke Tree Street \nPick up fresh veggies\, fruits\, unique foods\, arts and crafts\, and special deals.  Free Admission! \nEBT now accepted! \nFor more information\, call 760.713.3860 or email operations.tfsoakhills@gmail.com.
URL:https://bosd1.sbcounty.gov/event/hesperia-community-farmers-market/2024-04-06/
LOCATION:Hesperia Civic Plaza Park\, 15833 Smoke Tree Street\, Hesperia\, CA\, 92345\, United States
CATEGORIES:Farmers Markets
ATTACH;FMTTYPE=image/jpeg:https://bosd1.sbcounty.gov/wp-content/uploads/sites/103/2023/11/Hesperia-Farmers-Market.jpg
END:VEVENT
BEGIN:VEVENT
DTSTART;TZID=America/Los_Angeles:20240406T160000
DTEND;TZID=America/Los_Angeles:20240406T190000
DTSTAMP:20260422T235258
CREATED:20240312T191730Z
LAST-MODIFIED:20240312T191730Z
UID:10008347-1712419200-1712430000@bosd1.sbcounty.gov
SUMMARY:Apple Valley Legacy Museum Shindig
DESCRIPTION:Apple Valley Legacy Museum is hosting its annual Shindig from 4-7 p.m. April 6 at 20601 Hwy 18\, Apple Valley Inn Cottage #153\, Apple Valley. \nThe $20 ticket includes dinner/live entertainment\, benefiting the museum. \nFollowing is the schedule: \n4:00 – Doors open. Buy your dinner and raffle tickets\, bid on auction items\, enjoy live music and visit museum. \n4:45 – Dinner line begins \n5:30 – Skit performance “Genuine Desert Animals” \n5:45 – Line Dancing (Participation encouraged) \n6:15 – Sing-along / Raffle/ Closing song “Happy Trails” \n(Auction results – Sunday at 3:00pm. Need not be present.)
URL:https://bosd1.sbcounty.gov/event/apple-valley-legacy-museum-shindig/
LOCATION:Apple Valley Legacy Museum\, 20601 Hwy 18\, Apple Valley\, CA\, 92307
CATEGORIES:Community Events,Fundraisers
ATTACH;FMTTYPE=image/jpeg:https://bosd1.sbcounty.gov/wp-content/uploads/sites/103/2024/03/County-Blog-Photos-61.jpg
END:VEVENT
END:VCALENDAR