BEGIN:VCALENDAR
VERSION:2.0
PRODID:-//Col. Paul Cook (Ret.) First District Supervisor - ECPv6.15.14//NONSGML v1.0//EN
CALSCALE:GREGORIAN
METHOD:PUBLISH
X-ORIGINAL-URL:https://bosd1.sbcounty.gov
X-WR-CALDESC:Events for Col. Paul Cook (Ret.) First District Supervisor
REFRESH-INTERVAL;VALUE=DURATION:PT1H
X-Robots-Tag:noindex
X-PUBLISHED-TTL:PT1H
BEGIN:VTIMEZONE
TZID:America/Los_Angeles
BEGIN:DAYLIGHT
TZOFFSETFROM:-0800
TZOFFSETTO:-0700
TZNAME:PDT
DTSTART:20230312T100000
END:DAYLIGHT
BEGIN:STANDARD
TZOFFSETFROM:-0700
TZOFFSETTO:-0800
TZNAME:PST
DTSTART:20231105T090000
END:STANDARD
BEGIN:DAYLIGHT
TZOFFSETFROM:-0800
TZOFFSETTO:-0700
TZNAME:PDT
DTSTART:20240310T100000
END:DAYLIGHT
BEGIN:STANDARD
TZOFFSETFROM:-0700
TZOFFSETTO:-0800
TZNAME:PST
DTSTART:20241103T090000
END:STANDARD
BEGIN:DAYLIGHT
TZOFFSETFROM:-0800
TZOFFSETTO:-0700
TZNAME:PDT
DTSTART:20250309T100000
END:DAYLIGHT
BEGIN:STANDARD
TZOFFSETFROM:-0700
TZOFFSETTO:-0800
TZNAME:PST
DTSTART:20251102T090000
END:STANDARD
END:VTIMEZONE
BEGIN:VEVENT
DTSTART;TZID=America/Los_Angeles:20240330T090000
DTEND;TZID=America/Los_Angeles:20240330T110000
DTSTAMP:20260423T031357
CREATED:20240312T190400Z
LAST-MODIFIED:20240312T190400Z
UID:10008338-1711789200-1711796400@bosd1.sbcounty.gov
SUMMARY:Silver Lakes Easter Egg Hunt
DESCRIPTION:The Silver Lakes Association Recreation Department is hosting its annual Easter Egg Hunt on Saturday\, March 30th at Parmelee Fields\, located at 27256 Peach Tree Lane\, behind Helendale Elementary School. \nPhotos with the Easter Bunny begin at 9 a.m. Please click on the link to register.  Bunny will stop taking pictures at 10:50 a.m. so children can enjoy the egg hunt. \nThe life-size Candy Land Game will begin at  9 a.m. Candy Land will close at 10:50 a.m. so participants may line up for the egg hunt. \nThere are 3 winning eggs with “golden tickets” in each age group. Golden ticket finders will receive a special Easter basket. \nBring your baskets and join the fun! Contact 760.952.3107 or email slarecreationdept@gmail.com for information.
URL:https://bosd1.sbcounty.gov/event/silver-lakes-easter-egg-hunt/
LOCATION:Silver Lakes Clubhouse\, 27801 Mountain Springs Rd.\, Helendale\, CA\, 92342\, United States
CATEGORIES:Community Events
ATTACH;FMTTYPE=image/jpeg:https://bosd1.sbcounty.gov/wp-content/uploads/sites/103/2024/03/County-Blog-Photos-58.jpg
END:VEVENT
BEGIN:VEVENT
DTSTART;TZID=America/Los_Angeles:20240330T100000
DTEND;TZID=America/Los_Angeles:20240330T140000
DTSTAMP:20260423T031357
CREATED:20240312T185703Z
LAST-MODIFIED:20240312T185703Z
UID:10008332-1711792800-1711807200@bosd1.sbcounty.gov
SUMMARY:Victorville’s Spring Festival
DESCRIPTION:City of Victorville’s Spring Festival is planned from 10 a.m. to 2 p.m. March 30 at Hook Park. The event will include vendors\, a Kids Zone\, food stands and prizes. Age-divided egg hunts are $5 each. Pre-registration for the egg hunts is required.  For more information\, go to VictorvilleCA.gov/Recreation or call (760) 245-5551.
URL:https://bosd1.sbcounty.gov/event/victorvilles-spring-festival/
LOCATION:Hook Park\, 14973 Joshua St\, Victorville\, CA\, 92394
CATEGORIES:Community Events
ATTACH;FMTTYPE=image/jpeg:https://bosd1.sbcounty.gov/wp-content/uploads/sites/103/2024/03/County-Blog-Photos-56.jpg
END:VEVENT
BEGIN:VEVENT
DTSTART;TZID=America/Los_Angeles:20240330T100000
DTEND;TZID=America/Los_Angeles:20240330T150000
DTSTAMP:20260423T031357
CREATED:20231115T173436Z
LAST-MODIFIED:20240202T163113Z
UID:10006470-1711792800-1711810800@bosd1.sbcounty.gov
SUMMARY:Hesperia Community Farmer’s Market
DESCRIPTION:The Hesperia Farmer’s Community Market is every Saturday from 10:00 a.m. to  3:00 p.m. (weather permitting). \nHesperia Civic Plaza Park\, 15833 Smoke Tree Street \nPick up fresh veggies\, fruits\, unique foods\, arts and crafts\, and special deals.  Free Admission! \nEBT now accepted! \nFor more information\, call 760.713.3860 or email operations.tfsoakhills@gmail.com.
URL:https://bosd1.sbcounty.gov/event/hesperia-community-farmers-market/2024-03-30/
LOCATION:Hesperia Civic Plaza Park\, 15833 Smoke Tree Street\, Hesperia\, CA\, 92345\, United States
CATEGORIES:Farmers Markets
ATTACH;FMTTYPE=image/jpeg:https://bosd1.sbcounty.gov/wp-content/uploads/sites/103/2023/11/Hesperia-Farmers-Market.jpg
END:VEVENT
BEGIN:VEVENT
DTSTART;TZID=America/Los_Angeles:20240330T110000
DTEND;TZID=America/Los_Angeles:20240330T160000
DTSTAMP:20260423T031357
CREATED:20240312T180150Z
LAST-MODIFIED:20240312T180150Z
UID:10008134-1711796400-1711814400@bosd1.sbcounty.gov
SUMMARY:Arthropolooza: The Ultimate Bugfest
DESCRIPTION:High Desert residents\, save the date! The Victor Valley Museum is presenting Arthropolooza: The Ultimate Bugfest from 11 a.m. to 4 p.m. Saturday\, March 30. This family friendly event offers visitors the opportunity to get up close and personal with insects\, informational resources\, demonstrations\, face painting\, food\, activities\, and more. The Live Butterfly Experience with FlutterBy Ranch will take place from 1-4 p.m. \nThe Victor Valley Museum is at 11873 Apple Valley Rd\, Apple Valley. Regular museum admission applies. Parking is free. The museum is accessible to persons with disabilities.
URL:https://bosd1.sbcounty.gov/event/arthropolooza-the-ultimate-bugfest/
LOCATION:Victor Valley Museum\, 11873 Apple Valley Road\, Apple Valley\, CA\, 92308\, United States
CATEGORIES:Community Events
ATTACH;FMTTYPE=image/jpeg:https://bosd1.sbcounty.gov/wp-content/uploads/sites/103/2024/03/County-Blog-Photos-50.jpg
ORGANIZER;CN="San Bernardino County Museum":MAILTO:museum@sbcounty.gov
END:VEVENT
BEGIN:VEVENT
DTSTART;TZID=America/Los_Angeles:20240330T110000
DTEND;TZID=America/Los_Angeles:20240330T160000
DTSTAMP:20260423T031357
CREATED:20240312T185940Z
LAST-MODIFIED:20240312T185940Z
UID:10008335-1711796400-1711814400@bosd1.sbcounty.gov
SUMMARY:Lone Wolf Colony’s 4th Annual Easter Celebration
DESCRIPTION:Lone Wolf Colony will hold its 4th Annual Easter Celebration from 11 a.m. to 4 p.m. on Saturday\, March 30. Guests will enjoy Games\, Prizes\, Food\, Music\, Free Admission\, Vendors\, Bounce Houses\, Easter Bunny\, and an Egg Hunt. All proceeds go to our local High School Scholarship Funds. Call (760) 247-7878 for details.
URL:https://bosd1.sbcounty.gov/event/lone-wolf-colonys-4th-annual-easter-celebration/
LOCATION:Lone Wolf Colony\, 23200 Bear Valley Rd.\, Apple Valley\, CA\, 92308\, United States
CATEGORIES:Community Events
ATTACH;FMTTYPE=image/jpeg:https://bosd1.sbcounty.gov/wp-content/uploads/sites/103/2024/03/County-Blog-Photos-57.jpg
ORGANIZER;CN="Lone Wolf Colony":MAILTO:lonewolfcolony@verizon.net
END:VEVENT
END:VCALENDAR