BEGIN:VCALENDAR
VERSION:2.0
PRODID:-//Col. Paul Cook (Ret.) First District Supervisor - ECPv6.15.14//NONSGML v1.0//EN
CALSCALE:GREGORIAN
METHOD:PUBLISH
X-ORIGINAL-URL:https://bosd1.sbcounty.gov
X-WR-CALDESC:Events for Col. Paul Cook (Ret.) First District Supervisor
REFRESH-INTERVAL;VALUE=DURATION:PT1H
X-Robots-Tag:noindex
X-PUBLISHED-TTL:PT1H
BEGIN:VTIMEZONE
TZID:America/Los_Angeles
BEGIN:DAYLIGHT
TZOFFSETFROM:-0800
TZOFFSETTO:-0700
TZNAME:PDT
DTSTART:20230312T100000
END:DAYLIGHT
BEGIN:STANDARD
TZOFFSETFROM:-0700
TZOFFSETTO:-0800
TZNAME:PST
DTSTART:20231105T090000
END:STANDARD
BEGIN:DAYLIGHT
TZOFFSETFROM:-0800
TZOFFSETTO:-0700
TZNAME:PDT
DTSTART:20240310T100000
END:DAYLIGHT
BEGIN:STANDARD
TZOFFSETFROM:-0700
TZOFFSETTO:-0800
TZNAME:PST
DTSTART:20241103T090000
END:STANDARD
BEGIN:DAYLIGHT
TZOFFSETFROM:-0800
TZOFFSETTO:-0700
TZNAME:PDT
DTSTART:20250309T100000
END:DAYLIGHT
BEGIN:STANDARD
TZOFFSETFROM:-0700
TZOFFSETTO:-0800
TZNAME:PST
DTSTART:20251102T090000
END:STANDARD
END:VTIMEZONE
BEGIN:VEVENT
DTSTART;TZID=America/Los_Angeles:20240327T100000
DTEND;TZID=America/Los_Angeles:20240327T120000
DTSTAMP:20260423T031353
CREATED:20240312T181317Z
LAST-MODIFIED:20240312T181802Z
UID:10008140-1711533600-1711540800@bosd1.sbcounty.gov
SUMMARY:Age Well\, Drive Smart Class
DESCRIPTION:Apple Valley Police Station is resuming its “Age Well\, Drive Smart” senior driving courses. The class aims to reduce motor vehicle collision and pedestrian deaths and injuries experienced by older Californians. It also explores seniors’ alternate transportation options when driving is no longer an feasible. \n\nThis is a great opportunity to brush up on a variety of skills\, including navigation of hazardous road conditions and how visual/hearing impairment can impact your driving. RSVP to 760-240-7428 or email phoffman@sbcsd.org.
URL:https://bosd1.sbcounty.gov/event/age-well-drive-smart-class/
LOCATION:Apple Valley Conference Center\, 14975 Dale Evans Pkwy\, Apple Valley\, CA\, 92307\, United States
CATEGORIES:Trainings
ATTACH;FMTTYPE=image/jpeg:https://bosd1.sbcounty.gov/wp-content/uploads/sites/103/2023/09/Drive-well-age-well.jpg
END:VEVENT
BEGIN:VEVENT
DTSTART;TZID=America/Los_Angeles:20240327T140000
DTEND;TZID=America/Los_Angeles:20240327T180000
DTSTAMP:20260423T031353
CREATED:20231115T173135Z
LAST-MODIFIED:20231115T175802Z
UID:10006959-1711548000-1711562400@bosd1.sbcounty.gov
SUMMARY:Helendale Farmers Market
DESCRIPTION:Helendale Farmers Market\n\nApril – October\nTime: Wednesday 3:00 PM – 7:00 PM \nNovember – March\nTime: Wednesday 2:00 PM – 6:00 PM \n\n\n\nAddress:\n26540 Vista Rd\nHelendale\, CA 92342\n\n\n\nPhone:\n760.475.3291
URL:https://bosd1.sbcounty.gov/event/helendale-farmers-market/2024-03-27/
LOCATION:Helendale Community Services District\, 26540 Vista Rd.\, Helendale\, CA\, 92342\, United States
CATEGORIES:Farmers Markets
ATTACH;FMTTYPE=image/jpeg:https://bosd1.sbcounty.gov/wp-content/uploads/sites/103/2023/11/County-Blog-Photos-14.jpg
END:VEVENT
BEGIN:VEVENT
DTSTART;TZID=America/Los_Angeles:20240327T190000
DTEND;TZID=America/Los_Angeles:20240327T210000
DTSTAMP:20260423T031353
CREATED:20231109T184327Z
LAST-MODIFIED:20240123T221403Z
UID:10005816-1711566000-1711573200@bosd1.sbcounty.gov
SUMMARY:Adelanto City Council Meeting
DESCRIPTION:The Adelanto City Council meets at 7 p.m. on the second and fourth Wednesday of every month. Dates and times are subject to change. For the latest information\, view the city council agendas.
URL:https://bosd1.sbcounty.gov/event/adelanto-city-council-meeting/2024-03-27/
LOCATION:Adelanto City Hall\, 11600 Air Expressway\, Adelanto\, CA\, 92301\, United States
CATEGORIES:Meetings
ATTACH;FMTTYPE=image/jpeg:https://bosd1.sbcounty.gov/wp-content/uploads/sites/103/2023/11/City-of-Adelanto.jpg
END:VEVENT
END:VCALENDAR