BEGIN:VCALENDAR
VERSION:2.0
PRODID:-//Col. Paul Cook (Ret.) First District Supervisor - ECPv6.15.14//NONSGML v1.0//EN
CALSCALE:GREGORIAN
METHOD:PUBLISH
X-ORIGINAL-URL:https://bosd1.sbcounty.gov
X-WR-CALDESC:Events for Col. Paul Cook (Ret.) First District Supervisor
REFRESH-INTERVAL;VALUE=DURATION:PT1H
X-Robots-Tag:noindex
X-PUBLISHED-TTL:PT1H
BEGIN:VTIMEZONE
TZID:America/Los_Angeles
BEGIN:DAYLIGHT
TZOFFSETFROM:-0800
TZOFFSETTO:-0700
TZNAME:PDT
DTSTART:20230312T100000
END:DAYLIGHT
BEGIN:STANDARD
TZOFFSETFROM:-0700
TZOFFSETTO:-0800
TZNAME:PST
DTSTART:20231105T090000
END:STANDARD
BEGIN:DAYLIGHT
TZOFFSETFROM:-0800
TZOFFSETTO:-0700
TZNAME:PDT
DTSTART:20240310T100000
END:DAYLIGHT
BEGIN:STANDARD
TZOFFSETFROM:-0700
TZOFFSETTO:-0800
TZNAME:PST
DTSTART:20241103T090000
END:STANDARD
BEGIN:DAYLIGHT
TZOFFSETFROM:-0800
TZOFFSETTO:-0700
TZNAME:PDT
DTSTART:20250309T100000
END:DAYLIGHT
BEGIN:STANDARD
TZOFFSETFROM:-0700
TZOFFSETTO:-0800
TZNAME:PST
DTSTART:20251102T090000
END:STANDARD
END:VTIMEZONE
BEGIN:VEVENT
DTSTART;TZID=America/Los_Angeles:20240321T080000
DTEND;TZID=America/Los_Angeles:20240321T170000
DTSTAMP:20260422T153702
CREATED:20240327T172343Z
LAST-MODIFIED:20240321T192716Z
UID:10008353-1711008000-1711040400@bosd1.sbcounty.gov
SUMMARY:Hop on Over to These Egg-Cellent High Desert Easter Celebrations
DESCRIPTION:Easter is hopping its way to the First District\, and with it comes a season of renewal\, joy\, and of course\, everyone’s favorite – Easter egg hunts! As your County Supervisor\, I want to encourage all our residents\, young and old\, to get out there and participate in the many egg-cellent events happening across the High Desert. \nThese egg hunts are more than just a chance to score some candy-filled prizes. They’re a chance to connect with our communities\, celebrate the beauty of spring\, and create lasting memories for our families. \nEgg-straordinary Fun for All Ages \nThe High Desert boasts a vibrant network of community centers\, parks\, and organizations that host fantastic Easter egg hunts. Whether you live in Victorville\, Hesperia\, Apple Valley\, or Wrightwood there’s an egg-citing event waiting for you. \nBuilding Community Spirit \nEgg hunts are a fantastic way to foster a sense of community spirit. You’ll see families coming together\, children making new friends\, and neighbors catching up while cheering on their little ones. It’s a heart-warming reminder of the strong bonds that tie us together. \nSupporting Local Businesses \nMany Easter egg hunts are hosted by local businesses and organizations. Participating in these events shows your support for them and helps keep our local economy thriving. \nHopping into Spring with Gratitude \nAs we celebrate Easter\, let’s remember the spirit of this holiday: hope\, renewal\, and the joy of new beginnings. Let’s take this opportunity to appreciate the beauty of the High Desert in spring\, the resilience of our communities\, and the blessings we share. So\, dust off your Easter baskets\, gather your family and friends\, and get ready for some egg-cellent fun! \nWishing you and your loved ones a joyous and blessed Easter! \nEaster Events & Egg Hunts\nApple Valley \n\nThe Town of Apple Valley’s annual Sharon Frazier Easter Egg Hunt and Eggstravaganza will take place from 9:30 a.m. to noon on Saturday\, March 30. The free event\, held in partnership with the Apple Valley Optimist Club\, will be held at the James Woody Community Center Park. Kids can enjoy egg hunts\, games\, entertainment\, and a visit from the Easter Bunny.\nLone Wolf Colony’s 4th Annual Easter Celebration will take place from 11 a.m. to 4 p.m. Saturday\, March 30. Enjoy games\, prizes\, food\, music\, vendors\, bounce houses\, visits with the Easter Bunny and an Egg Hunt!  All proceeds go to local high school scholarship funds. The colony is located at 23200 Bear Valley Rd. in Apple Valley. For more information\, please call (760) 247-7878.\n\nHelendale/Silver Lakes \n\nThe annual Silver Lakes Easter Egg Hunt will take place at 9 a.m. Saturday\, March 30\, at Parmelee Fields in Helendale. Photos with the Easter Bunny begin at 9 a.m. The bunny will stop taking pictures at 10:50 a.m. so children can enjoy the egg hunt (children must bring their own baskets). There will also be a life-size Candy Land Game. There will be three winning eggs with “golden tickets” in each age group. Golden ticket finders will receive a special Easter basket. Register here. For more information\, please call 760-952-3107 or email slarecreationdept@gmail.com.\n\nPhelan \n\nThe Phelan Chamber of Commerce is hosting its annual Easter Egg Hunt beginning at 9 a.m. Saturday\, March 30 at the Serrano High School football field. Kids should bring their own baskets to enjoy games\, prizes and much more. The hunt begins at 10 a.m. A raffle will be held following the hunt.\n\nVictorville \n\nCity of Victorville’s Spring Festival is planned from 10 a.m. to 2 p.m. March 30 at Hook Park. The event will include vendors\, a Kids Zone\, food stands and prizes. Age-divided egg hunts are $5 each. Pre-registration for the egg hunts is required. For more information\, go to VictorvilleCA.gov/Recreation or call (760) 245-5551.\n\nWrightwood \n\nThe Timberline Lion’s Club of Wrightwood is hosting an Easter Pancake Breakfast from 8 a.m. to 1 p.m. March 31 in the Community Building. Tickets are $30 for a family of four; $10 a person\, or $7 for children. There will be opportunity baskets\, bare root roses for spring\, and a Golden Egg that contains a family surprise. For more information\, please call (909) 708-7703 or email jillcarltonpayne@gmail.com\n\nYermo \nCalico Ghost Town’s annual Easter celebration will take place from 9 a.m. to 5 p.m. Sunday\, March 31. Enjoy fun games\, live performances\, egg hunts\, photos with the Easter Bunny\, and lots of old-fashioned fun. Calico Ghost Town is located at 36600 Ghost Town Road in Yermo. View the event schedule at parks.sbcounty.gov.
URL:https://bosd1.sbcounty.gov/event/hop-on-over-to-these-egg-cellent-high-desert-easter-celebrations/
CATEGORIES:Community Events
ATTACH;FMTTYPE=image/png:https://bosd1.sbcounty.gov/wp-content/uploads/sites/103/2024/03/eggs.png
END:VEVENT
BEGIN:VEVENT
DTSTART;TZID=America/Los_Angeles:20240321T090000
DTEND;TZID=America/Los_Angeles:20240321T100000
DTSTAMP:20260422T153702
CREATED:20231109T191327Z
LAST-MODIFIED:20231109T191327Z
UID:10006017-1711011600-1711015200@bosd1.sbcounty.gov
SUMMARY:Baker CSD Meeting
DESCRIPTION:The Baker Community Services District meets at 9 a.m. on the first and third Thursday of every month. For more information\, please please contact Diana Romo\, Board Secretary\, at (760) 733-4402. Dates and times subject to change. For the latest meeting information\, go to https://bakercsd.com/
URL:https://bosd1.sbcounty.gov/event/baker-csd-meeting/2024-03-21/
LOCATION:Baker CSD\, 72730 Baker Blvd\, Baker\, CA\, 92309\, United States
CATEGORIES:Meetings
ATTACH;FMTTYPE=image/png:https://bosd1.sbcounty.gov/wp-content/uploads/sites/103/2023/11/Baker.png
END:VEVENT
BEGIN:VEVENT
DTSTART;TZID=America/Los_Angeles:20240321T110000
DTEND;TZID=America/Los_Angeles:20240321T170000
DTSTAMP:20260422T153702
CREATED:20240312T175150Z
LAST-MODIFIED:20240312T175234Z
UID:10008122-1711018800-1711040400@bosd1.sbcounty.gov
SUMMARY:Red Cross Blood Drive
DESCRIPTION:Donate at the Red Cross Blood Drive on March 21 from 11 a.m. to 5 p.m. in the Community Room at the Hesperia Library. For more information and to schedule an appointment\, visit redcrossblood.org and enter hesperiacity.
URL:https://bosd1.sbcounty.gov/event/red-cross-blood-drive/
LOCATION:Hesperia Library\, 9650 Seventh Ave\, Hesperia\, CA\, 92345
CATEGORIES:Community Events
ATTACH;FMTTYPE=image/jpeg:https://bosd1.sbcounty.gov/wp-content/uploads/sites/103/2024/03/County-Blog-Photos-48.jpg
END:VEVENT
BEGIN:VEVENT
DTSTART;TZID=America/Los_Angeles:20240321T113000
DTEND;TZID=America/Los_Angeles:20240321T133000
DTSTAMP:20260422T153702
CREATED:20240109T192608Z
LAST-MODIFIED:20240202T163332Z
UID:10007337-1711020600-1711027800@bosd1.sbcounty.gov
SUMMARY:Victor Valley Community Services Council Senior Activity
DESCRIPTION:Victor Valley Community Services Council will host its next free Intergenerational Activity at 11:30 a.m. Thursday. Seniors are invited to bring their friends\, neighbors\, children & grandchildren for a catered lunch. Free transportation may be provided. Reservations are required by calling 760-243-9646. \nThis event is subject to change. Please call to confirm.
URL:https://bosd1.sbcounty.gov/event/victor-valley-community-services-council-senior-activity-2/2024-03-21/
LOCATION:Victor Valley Community Services Council\, 16692 Mojave Drive\, Victorville\, CA\, 92395\, United States
CATEGORIES:Community Events
ATTACH;FMTTYPE=image/jpeg:https://bosd1.sbcounty.gov/wp-content/uploads/sites/103/2024/01/County-Blog-Photos-13.jpg
ORGANIZER;CN="Victor Valley Community Services Council":MAILTO:vvcsc@vvcsc.com
END:VEVENT
BEGIN:VEVENT
DTSTART;TZID=America/Los_Angeles:20240321T180000
DTEND;TZID=America/Los_Angeles:20240321T190000
DTSTAMP:20260422T153702
CREATED:20240123T185404Z
LAST-MODIFIED:20240123T185433Z
UID:10008015-1711044000-1711047600@bosd1.sbcounty.gov
SUMMARY:'From Seed to Salad' Online Class
DESCRIPTION:Mojave Water Agency’s the online “From Seeds to Salad” course begins Jan. 25 and runs weekly until May 2. This is one of many online public education workshops offered in partnership with the Mojave Desert Resource Conservation District (MDRCD). Learn to grow vegetables in the desert with minimal water usage during this FREE\, on-line\, 3-month class sponsored by the Mojave Water Agency. It runs from 6-7 p.m. \nRegistration Link: https://www.surveymonkey.com/r/2024Seed2Salad \nVirtual Meeting Link: https://www.surveymonkey.com/r/2024Seed2Salad
URL:https://bosd1.sbcounty.gov/event/from-seed-to-salad-online-class/2024-03-21/
LOCATION:Online\, CA\, United States
CATEGORIES:Trainings
ATTACH;FMTTYPE=image/jpeg:https://bosd1.sbcounty.gov/wp-content/uploads/sites/103/2024/01/County-Blog-Photos-16.jpg
ORGANIZER;CN="Mojave Water Agency":MAILTO:ksousa@mojavewater.org
END:VEVENT
END:VCALENDAR