BEGIN:VCALENDAR
VERSION:2.0
PRODID:-//Col. Paul Cook (Ret.) First District Supervisor - ECPv6.15.14//NONSGML v1.0//EN
CALSCALE:GREGORIAN
METHOD:PUBLISH
X-ORIGINAL-URL:https://bosd1.sbcounty.gov
X-WR-CALDESC:Events for Col. Paul Cook (Ret.) First District Supervisor
REFRESH-INTERVAL;VALUE=DURATION:PT1H
X-Robots-Tag:noindex
X-PUBLISHED-TTL:PT1H
BEGIN:VTIMEZONE
TZID:America/Los_Angeles
BEGIN:DAYLIGHT
TZOFFSETFROM:-0800
TZOFFSETTO:-0700
TZNAME:PDT
DTSTART:20230312T100000
END:DAYLIGHT
BEGIN:STANDARD
TZOFFSETFROM:-0700
TZOFFSETTO:-0800
TZNAME:PST
DTSTART:20231105T090000
END:STANDARD
BEGIN:DAYLIGHT
TZOFFSETFROM:-0800
TZOFFSETTO:-0700
TZNAME:PDT
DTSTART:20240310T100000
END:DAYLIGHT
BEGIN:STANDARD
TZOFFSETFROM:-0700
TZOFFSETTO:-0800
TZNAME:PST
DTSTART:20241103T090000
END:STANDARD
BEGIN:DAYLIGHT
TZOFFSETFROM:-0800
TZOFFSETTO:-0700
TZNAME:PDT
DTSTART:20250309T100000
END:DAYLIGHT
BEGIN:STANDARD
TZOFFSETFROM:-0700
TZOFFSETTO:-0800
TZNAME:PST
DTSTART:20251102T090000
END:STANDARD
END:VTIMEZONE
BEGIN:VEVENT
DTSTART;VALUE=DATE:20240312
DTEND;VALUE=DATE:20240320
DTSTAMP:20260423T031355
CREATED:20240312T184831Z
LAST-MODIFIED:20240312T184952Z
UID:10008326-1710201600-1710892799@bosd1.sbcounty.gov
SUMMARY:St. Patrick's Week Pet Adoption Event
DESCRIPTION:March into happiness at the Devore and Big Bear Animal Shelters during our Lucky Pet\, Lucky You pet adoption event running from March 12 – 19! Find your furry companion and make this March the luckiest one yet. \nAll pets come spayed/neutered\, microchipped\, and receive most vaccines. Click here to view available animals. \nCats are $10 and dogs are $20.  All pets come spayed or neutered\, microchipped\, and receive most vaccines. \nBig Bear Animal Shelter \n42080 North Shore Dr.\, Big Bear Lake \nDevore Animal Shelter \n19777 Shelter Way\, San Bernardino
URL:https://bosd1.sbcounty.gov/event/st-patricks-week-pet-adoption-event/
CATEGORIES:Community Events
ATTACH;FMTTYPE=image/jpeg:https://bosd1.sbcounty.gov/wp-content/uploads/sites/103/2024/03/County-Blog-Photos-54.jpg
END:VEVENT
BEGIN:VEVENT
DTSTART;TZID=America/Los_Angeles:20240319T100000
DTEND;TZID=America/Los_Angeles:20240319T110000
DTSTAMP:20260423T031355
CREATED:20240125T203123Z
LAST-MODIFIED:20240125T203123Z
UID:10008093-1710842400-1710846000@bosd1.sbcounty.gov
SUMMARY:Helendale Tai Chi Classes
DESCRIPTION:The County of San Bernardino Public Health is offering a free 10-week Tai Chi class for Helendale residents beginning on Tuesday\, Jan. 30. Classes will be held from 10:15 – 11:15 a.m. at the Community Center\, located at 26540 Vista Rd. Suite C.\, Helendale.
URL:https://bosd1.sbcounty.gov/event/helendale-tai-chi-classes/2024-03-19/
LOCATION:Helendale Community Services District\, 26540 Vista Rd.\, Helendale\, CA\, 92342\, United States
CATEGORIES:Community Events
ATTACH;FMTTYPE=image/jpeg:https://bosd1.sbcounty.gov/wp-content/uploads/sites/103/2024/01/Tai-Chi.jpg
END:VEVENT
BEGIN:VEVENT
DTSTART;TZID=America/Los_Angeles:20240319T180000
DTEND;TZID=America/Los_Angeles:20240319T190000
DTSTAMP:20260423T031355
CREATED:20231115T180758Z
LAST-MODIFIED:20231115T180758Z
UID:10007040-1710871200-1710874800@bosd1.sbcounty.gov
SUMMARY:Wrightwood Fire Safe Council Meeting
DESCRIPTION:The Wrightwood Fire Safe Council meets on the 3rd Tuesday of each month\, 6 pm at the Wrightwood Community Building.
URL:https://bosd1.sbcounty.gov/event/wrightwood-fire-safe-council-meeting/2024-03-19/
LOCATION:Wrightwood Community Center\, 1275 CA-2\, Wrightwood\, CA\, 92397\, United States
CATEGORIES:Meetings
ATTACH;FMTTYPE=image/png:https://bosd1.sbcounty.gov/wp-content/uploads/sites/103/2023/11/Fire-safe-council.png
END:VEVENT
BEGIN:VEVENT
DTSTART;TZID=America/Los_Angeles:20240319T180000
DTEND;TZID=America/Los_Angeles:20240319T200000
DTSTAMP:20260423T031355
CREATED:20231109T180839Z
LAST-MODIFIED:20231109T182639Z
UID:10004661-1710871200-1710878400@bosd1.sbcounty.gov
SUMMARY:Victorville City Council Meeting
DESCRIPTION:Victorville City Council Meetings are held the 1st and 3rd Tuesday of each month at 6:00 p.m. in Council Chambers located at City Hall 14343 Civic Drive. The City Council agenda is posted prior to the Council meeting on the City’s website. Meeting Agendas \n\nDates are subject to change\, especially during the holidays.
URL:https://bosd1.sbcounty.gov/event/victorville-city-council-meeting/2024-03-19/
LOCATION:Victorville City Hall\, 14343 Civic Drive\, Victorville\, CA\, 92395\, United States
CATEGORIES:Meetings
ATTACH;FMTTYPE=image/jpeg:https://bosd1.sbcounty.gov/wp-content/uploads/sites/103/2023/11/City-of-Victorville.jpg
END:VEVENT
BEGIN:VEVENT
DTSTART;TZID=America/Los_Angeles:20240319T183000
DTEND;TZID=America/Los_Angeles:20240319T203000
DTSTAMP:20260423T031355
CREATED:20231109T182235Z
LAST-MODIFIED:20231109T182612Z
UID:10005237-1710873000-1710880200@bosd1.sbcounty.gov
SUMMARY:Hesperia City Council Meeting
DESCRIPTION:The Hesperia City Council meets on the first and third Tuesday of every month. Dates are subject to change\, especially during the holidays. For the latest information\, go to https://www.cityofhesperia.us/135/Agendas-Minutes
URL:https://bosd1.sbcounty.gov/event/hesperia-city-council-meeting/2024-03-19/
LOCATION:Hesperia City Hall\, 9700 Seventh Ave.\, Hesperia\, CA\, 92345\, United States
CATEGORIES:Meetings
ATTACH;FMTTYPE=image/jpeg:https://bosd1.sbcounty.gov/wp-content/uploads/sites/103/2023/11/Hesperia-city-Hall.jpg
END:VEVENT
END:VCALENDAR