BEGIN:VCALENDAR
VERSION:2.0
PRODID:-//Col. Paul Cook (Ret.) First District Supervisor - ECPv6.15.14//NONSGML v1.0//EN
CALSCALE:GREGORIAN
METHOD:PUBLISH
X-ORIGINAL-URL:https://bosd1.sbcounty.gov
X-WR-CALDESC:Events for Col. Paul Cook (Ret.) First District Supervisor
REFRESH-INTERVAL;VALUE=DURATION:PT1H
X-Robots-Tag:noindex
X-PUBLISHED-TTL:PT1H
BEGIN:VTIMEZONE
TZID:America/Los_Angeles
BEGIN:DAYLIGHT
TZOFFSETFROM:-0800
TZOFFSETTO:-0700
TZNAME:PDT
DTSTART:20230312T100000
END:DAYLIGHT
BEGIN:STANDARD
TZOFFSETFROM:-0700
TZOFFSETTO:-0800
TZNAME:PST
DTSTART:20231105T090000
END:STANDARD
BEGIN:DAYLIGHT
TZOFFSETFROM:-0800
TZOFFSETTO:-0700
TZNAME:PDT
DTSTART:20240310T100000
END:DAYLIGHT
BEGIN:STANDARD
TZOFFSETFROM:-0700
TZOFFSETTO:-0800
TZNAME:PST
DTSTART:20241103T090000
END:STANDARD
BEGIN:DAYLIGHT
TZOFFSETFROM:-0800
TZOFFSETTO:-0700
TZNAME:PDT
DTSTART:20250309T100000
END:DAYLIGHT
BEGIN:STANDARD
TZOFFSETFROM:-0700
TZOFFSETTO:-0800
TZNAME:PST
DTSTART:20251102T090000
END:STANDARD
END:VTIMEZONE
BEGIN:VEVENT
DTSTART;VALUE=DATE:20240312
DTEND;VALUE=DATE:20240320
DTSTAMP:20260422T235542
CREATED:20240312T184831Z
LAST-MODIFIED:20240312T184952Z
UID:10008326-1710201600-1710892799@bosd1.sbcounty.gov
SUMMARY:St. Patrick's Week Pet Adoption Event
DESCRIPTION:March into happiness at the Devore and Big Bear Animal Shelters during our Lucky Pet\, Lucky You pet adoption event running from March 12 – 19! Find your furry companion and make this March the luckiest one yet. \nAll pets come spayed/neutered\, microchipped\, and receive most vaccines. Click here to view available animals. \nCats are $10 and dogs are $20.  All pets come spayed or neutered\, microchipped\, and receive most vaccines. \nBig Bear Animal Shelter \n42080 North Shore Dr.\, Big Bear Lake \nDevore Animal Shelter \n19777 Shelter Way\, San Bernardino
URL:https://bosd1.sbcounty.gov/event/st-patricks-week-pet-adoption-event/
CATEGORIES:Community Events
ATTACH;FMTTYPE=image/jpeg:https://bosd1.sbcounty.gov/wp-content/uploads/sites/103/2024/03/County-Blog-Photos-54.jpg
END:VEVENT
BEGIN:VEVENT
DTSTART;TZID=America/Los_Angeles:20240315T150000
DTEND;TZID=America/Los_Angeles:20240315T173000
DTSTAMP:20260422T235542
CREATED:20231115T175508Z
LAST-MODIFIED:20231115T175508Z
UID:10007271-1710514800-1710523800@bosd1.sbcounty.gov
SUMMARY:Wrightwood Certified Farmers Market
DESCRIPTION:Between Park & Pine at the Wrightwood Community Center \nMay-October\nTime: Friday\, 4:00 PM – 7:00 PM \nNovember-April\nTime: Friday\, 3:00 PM – 5:30 PM \n\n\n\nAddress:\n1275 Hwy 2\nWrightwood\, CA 92397\n\n\nPhone:\n661.330.9009
URL:https://bosd1.sbcounty.gov/event/wrightwood-certified-farmers-market/2024-03-15/
LOCATION:Wrightwood Community Center\, 1275 CA-2\, Wrightwood\, CA\, 92397\, United States
CATEGORIES:Farmers Markets
ATTACH;FMTTYPE=image/jpeg:https://bosd1.sbcounty.gov/wp-content/uploads/sites/103/2023/11/Wrightwood-Farmers-Market.jpg
END:VEVENT
BEGIN:VEVENT
DTSTART;TZID=America/Los_Angeles:20240315T190000
DTEND;TZID=America/Los_Angeles:20240315T210000
DTSTAMP:20260422T235542
CREATED:20240312T180721Z
LAST-MODIFIED:20240312T180721Z
UID:10008137-1710529200-1710536400@bosd1.sbcounty.gov
SUMMARY:Public Observation Night
DESCRIPTION:The High Desert Astronomical Society is hosting a public observation night.\n\nResidents are invited to look through the telescopes housed inside of the LUZ Observatory. All are welcome to attend. This event is free and for all ages.\n\nThis event is dependent upon the weather and could be canceled due to rain\, wind\, or clouds. Please check the HiDAS Facebook page for updates on this event.
URL:https://bosd1.sbcounty.gov/event/public-observation-night/
LOCATION:Luz Observatory\, 20602-20612 Thunderbird Rd.\, Apple Valley\, CA\, 92307\, United States
CATEGORIES:Community Events
ATTACH;FMTTYPE=image/jpeg:https://bosd1.sbcounty.gov/wp-content/uploads/sites/103/2024/03/County-Blog-Photos-51.jpg
ORGANIZER;CN="High Desert Astronomical Society":MAILTO:hidas760adrian@gmail.com
END:VEVENT
END:VCALENDAR