BEGIN:VCALENDAR
VERSION:2.0
PRODID:-//Col. Paul Cook (Ret.) First District Supervisor - ECPv6.15.14//NONSGML v1.0//EN
CALSCALE:GREGORIAN
METHOD:PUBLISH
X-ORIGINAL-URL:https://bosd1.sbcounty.gov
X-WR-CALDESC:Events for Col. Paul Cook (Ret.) First District Supervisor
REFRESH-INTERVAL;VALUE=DURATION:PT1H
X-Robots-Tag:noindex
X-PUBLISHED-TTL:PT1H
BEGIN:VTIMEZONE
TZID:America/Los_Angeles
BEGIN:DAYLIGHT
TZOFFSETFROM:-0800
TZOFFSETTO:-0700
TZNAME:PDT
DTSTART:20230312T100000
END:DAYLIGHT
BEGIN:STANDARD
TZOFFSETFROM:-0700
TZOFFSETTO:-0800
TZNAME:PST
DTSTART:20231105T090000
END:STANDARD
BEGIN:DAYLIGHT
TZOFFSETFROM:-0800
TZOFFSETTO:-0700
TZNAME:PDT
DTSTART:20240310T100000
END:DAYLIGHT
BEGIN:STANDARD
TZOFFSETFROM:-0700
TZOFFSETTO:-0800
TZNAME:PST
DTSTART:20241103T090000
END:STANDARD
BEGIN:DAYLIGHT
TZOFFSETFROM:-0800
TZOFFSETTO:-0700
TZNAME:PDT
DTSTART:20250309T100000
END:DAYLIGHT
BEGIN:STANDARD
TZOFFSETFROM:-0700
TZOFFSETTO:-0800
TZNAME:PST
DTSTART:20251102T090000
END:STANDARD
END:VTIMEZONE
BEGIN:VEVENT
DTSTART;VALUE=DATE:20240312
DTEND;VALUE=DATE:20240320
DTSTAMP:20260422T235543
CREATED:20240312T184831Z
LAST-MODIFIED:20240312T184952Z
UID:10008326-1710201600-1710892799@bosd1.sbcounty.gov
SUMMARY:St. Patrick's Week Pet Adoption Event
DESCRIPTION:March into happiness at the Devore and Big Bear Animal Shelters during our Lucky Pet\, Lucky You pet adoption event running from March 12 – 19! Find your furry companion and make this March the luckiest one yet. \nAll pets come spayed/neutered\, microchipped\, and receive most vaccines. Click here to view available animals. \nCats are $10 and dogs are $20.  All pets come spayed or neutered\, microchipped\, and receive most vaccines. \nBig Bear Animal Shelter \n42080 North Shore Dr.\, Big Bear Lake \nDevore Animal Shelter \n19777 Shelter Way\, San Bernardino
URL:https://bosd1.sbcounty.gov/event/st-patricks-week-pet-adoption-event/
CATEGORIES:Community Events
ATTACH;FMTTYPE=image/jpeg:https://bosd1.sbcounty.gov/wp-content/uploads/sites/103/2024/03/County-Blog-Photos-54.jpg
END:VEVENT
BEGIN:VEVENT
DTSTART;TZID=America/Los_Angeles:20240312T100000
DTEND;TZID=America/Los_Angeles:20240312T110000
DTSTAMP:20260422T235543
CREATED:20240125T203123Z
LAST-MODIFIED:20240125T203123Z
UID:10008090-1710237600-1710241200@bosd1.sbcounty.gov
SUMMARY:Helendale Tai Chi Classes
DESCRIPTION:The County of San Bernardino Public Health is offering a free 10-week Tai Chi class for Helendale residents beginning on Tuesday\, Jan. 30. Classes will be held from 10:15 – 11:15 a.m. at the Community Center\, located at 26540 Vista Rd. Suite C.\, Helendale.
URL:https://bosd1.sbcounty.gov/event/helendale-tai-chi-classes/2024-03-12/
LOCATION:Helendale Community Services District\, 26540 Vista Rd.\, Helendale\, CA\, 92342\, United States
CATEGORIES:Community Events
ATTACH;FMTTYPE=image/jpeg:https://bosd1.sbcounty.gov/wp-content/uploads/sites/103/2024/01/Tai-Chi.jpg
END:VEVENT
BEGIN:VEVENT
DTSTART;TZID=America/Los_Angeles:20240312T180000
DTEND;TZID=America/Los_Angeles:20240312T200000
DTSTAMP:20260422T235543
CREATED:20240123T200236Z
LAST-MODIFIED:20240123T200236Z
UID:10008054-1710266400-1710273600@bosd1.sbcounty.gov
SUMMARY:Native Plant Gardening Class
DESCRIPTION:-Learn how to use native plants to reduce (or eliminate) the need for irrigation\, also known as xeriscaping\n-Explore why native plants rarely need pesticides or soil amendments (saving you time and money)\n-Recognize the benefits of native plants for the desert local eco system\n-Understand why native plants struggle with transplanting after they’ve become established\n-Discover the #1 way to kill native plants
URL:https://bosd1.sbcounty.gov/event/native-plant-gardening-class/
LOCATION:Online\, CA\, United States
CATEGORIES:Trainings
ATTACH;FMTTYPE=image/jpeg:https://bosd1.sbcounty.gov/wp-content/uploads/sites/103/2024/01/County-Blog-Photos-28.jpg
ORGANIZER;CN="Mojave Water Agency":MAILTO:ksousa@mojavewater.org
END:VEVENT
END:VCALENDAR