BEGIN:VCALENDAR
VERSION:2.0
PRODID:-//Col. Paul Cook (Ret.) First District Supervisor - ECPv6.15.14//NONSGML v1.0//EN
CALSCALE:GREGORIAN
METHOD:PUBLISH
X-ORIGINAL-URL:https://bosd1.sbcounty.gov
X-WR-CALDESC:Events for Col. Paul Cook (Ret.) First District Supervisor
REFRESH-INTERVAL;VALUE=DURATION:PT1H
X-Robots-Tag:noindex
X-PUBLISHED-TTL:PT1H
BEGIN:VTIMEZONE
TZID:America/Los_Angeles
BEGIN:DAYLIGHT
TZOFFSETFROM:-0800
TZOFFSETTO:-0700
TZNAME:PDT
DTSTART:20230312T100000
END:DAYLIGHT
BEGIN:STANDARD
TZOFFSETFROM:-0700
TZOFFSETTO:-0800
TZNAME:PST
DTSTART:20231105T090000
END:STANDARD
BEGIN:DAYLIGHT
TZOFFSETFROM:-0800
TZOFFSETTO:-0700
TZNAME:PDT
DTSTART:20240310T100000
END:DAYLIGHT
BEGIN:STANDARD
TZOFFSETFROM:-0700
TZOFFSETTO:-0800
TZNAME:PST
DTSTART:20241103T090000
END:STANDARD
BEGIN:DAYLIGHT
TZOFFSETFROM:-0800
TZOFFSETTO:-0700
TZNAME:PDT
DTSTART:20250309T100000
END:DAYLIGHT
BEGIN:STANDARD
TZOFFSETFROM:-0700
TZOFFSETTO:-0800
TZNAME:PST
DTSTART:20251102T090000
END:STANDARD
END:VTIMEZONE
BEGIN:VEVENT
DTSTART;TZID=America/Los_Angeles:20240308T100000
DTEND;TZID=America/Los_Angeles:20240308T130000
DTSTAMP:20260423T075710
CREATED:20240227T194954Z
LAST-MODIFIED:20240227T194954Z
UID:10008102-1709892000-1709902800@bosd1.sbcounty.gov
SUMMARY:'I Am Woman' Self-Care Workshop
DESCRIPTION:Anaya Women’s OB/Gyn Group\, Love Your Best Life LLC and IEHP are collaborating to present the first annual “I Am Woman” self-care workshop in honor of International Women’s Day. This free event will take place from 10 a.m. to 1 p.m. at the IEHP Community Resource Center in Victorville\, highlighting the importance of women’s health and self care. Food and refreshments will be provided. To attend\, participants must preregister here.
URL:https://bosd1.sbcounty.gov/event/i-am-woman-self-care-workshop/
LOCATION:IEHP Community Resource Center\, 12353 Mariposa Rd\, Victorville\, CA\, 92395\, United States
CATEGORIES:Community Events
ATTACH;FMTTYPE=image/jpeg:https://bosd1.sbcounty.gov/wp-content/uploads/sites/103/2024/02/County-Blog-Photos-37.jpg
END:VEVENT
BEGIN:VEVENT
DTSTART;TZID=America/Los_Angeles:20240308T150000
DTEND;TZID=America/Los_Angeles:20240308T173000
DTSTAMP:20260423T075710
CREATED:20231115T175508Z
LAST-MODIFIED:20231115T175508Z
UID:10007268-1709910000-1709919000@bosd1.sbcounty.gov
SUMMARY:Wrightwood Certified Farmers Market
DESCRIPTION:Between Park & Pine at the Wrightwood Community Center \nMay-October\nTime: Friday\, 4:00 PM – 7:00 PM \nNovember-April\nTime: Friday\, 3:00 PM – 5:30 PM \n\n\n\nAddress:\n1275 Hwy 2\nWrightwood\, CA 92397\n\n\nPhone:\n661.330.9009
URL:https://bosd1.sbcounty.gov/event/wrightwood-certified-farmers-market/2024-03-08/
LOCATION:Wrightwood Community Center\, 1275 CA-2\, Wrightwood\, CA\, 92397\, United States
CATEGORIES:Farmers Markets
ATTACH;FMTTYPE=image/jpeg:https://bosd1.sbcounty.gov/wp-content/uploads/sites/103/2023/11/Wrightwood-Farmers-Market.jpg
END:VEVENT
END:VCALENDAR