BEGIN:VCALENDAR
VERSION:2.0
PRODID:-//Col. Paul Cook (Ret.) First District Supervisor - ECPv6.15.14//NONSGML v1.0//EN
CALSCALE:GREGORIAN
METHOD:PUBLISH
X-ORIGINAL-URL:https://bosd1.sbcounty.gov
X-WR-CALDESC:Events for Col. Paul Cook (Ret.) First District Supervisor
REFRESH-INTERVAL;VALUE=DURATION:PT1H
X-Robots-Tag:noindex
X-PUBLISHED-TTL:PT1H
BEGIN:VTIMEZONE
TZID:America/Los_Angeles
BEGIN:DAYLIGHT
TZOFFSETFROM:-0800
TZOFFSETTO:-0700
TZNAME:PDT
DTSTART:20230312T100000
END:DAYLIGHT
BEGIN:STANDARD
TZOFFSETFROM:-0700
TZOFFSETTO:-0800
TZNAME:PST
DTSTART:20231105T090000
END:STANDARD
BEGIN:DAYLIGHT
TZOFFSETFROM:-0800
TZOFFSETTO:-0700
TZNAME:PDT
DTSTART:20240310T100000
END:DAYLIGHT
BEGIN:STANDARD
TZOFFSETFROM:-0700
TZOFFSETTO:-0800
TZNAME:PST
DTSTART:20241103T090000
END:STANDARD
BEGIN:DAYLIGHT
TZOFFSETFROM:-0800
TZOFFSETTO:-0700
TZNAME:PDT
DTSTART:20250309T100000
END:DAYLIGHT
BEGIN:STANDARD
TZOFFSETFROM:-0700
TZOFFSETTO:-0800
TZNAME:PST
DTSTART:20251102T090000
END:STANDARD
END:VTIMEZONE
BEGIN:VEVENT
DTSTART;TZID=America/Los_Angeles:20240201T090000
DTEND;TZID=America/Los_Angeles:20240201T100000
DTSTAMP:20260422T011049
CREATED:20240309T152254Z
LAST-MODIFIED:20240309T152254Z
UID:10006203-1706778000-1706781600@bosd1.sbcounty.gov
SUMMARY:Baker CSD Meeting
DESCRIPTION:The Baker Community Services District meets at 9 a.m. on the first and third Thursday of every month. For more information\, please please contact Diana Romo\, Board Secretary\, at (760) 733-4402. Dates and times subject to change. For the latest meeting information\, go to https://bakercsd.com/
URL:https://bosd1.sbcounty.gov/event/baker-csd-meeting/2024-02-01/
LOCATION:Baker CSD\, 72730 Baker Blvd\, Baker\, CA\, 92309\, United States
CATEGORIES:Meetings
ATTACH;FMTTYPE=image/png:https://bosd1.sbcounty.gov/wp-content/uploads/sites/103/2023/11/Baker.png
END:VEVENT
BEGIN:VEVENT
DTSTART;TZID=America/Los_Angeles:20240201T113000
DTEND;TZID=America/Los_Angeles:20240201T133000
DTSTAMP:20260422T011049
CREATED:20240109T192608Z
LAST-MODIFIED:20240202T163332Z
UID:10007316-1706787000-1706794200@bosd1.sbcounty.gov
SUMMARY:Victor Valley Community Services Council Senior Activity
DESCRIPTION:Victor Valley Community Services Council will host its next free Intergenerational Activity at 11:30 a.m. Thursday. Seniors are invited to bring their friends\, neighbors\, children & grandchildren for a catered lunch. Free transportation may be provided. Reservations are required by calling 760-243-9646. \nThis event is subject to change. Please call to confirm.
URL:https://bosd1.sbcounty.gov/event/victor-valley-community-services-council-senior-activity-2/2024-02-01/
LOCATION:Victor Valley Community Services Council\, 16692 Mojave Drive\, Victorville\, CA\, 92395\, United States
CATEGORIES:Community Events
ATTACH;FMTTYPE=image/jpeg:https://bosd1.sbcounty.gov/wp-content/uploads/sites/103/2024/01/County-Blog-Photos-13.jpg
ORGANIZER;CN="Victor Valley Community Services Council":MAILTO:vvcsc@vvcsc.com
END:VEVENT
BEGIN:VEVENT
DTSTART;TZID=America/Los_Angeles:20240201T160000
DTEND;TZID=America/Los_Angeles:20240201T173000
DTSTAMP:20260422T011049
CREATED:20240125T200648Z
LAST-MODIFIED:20240125T200832Z
UID:10008063-1706803200-1706808600@bosd1.sbcounty.gov
SUMMARY:Apple Valley Airport Community Workshop
DESCRIPTION:Join the Department of Airports for a public information workshop on Thursday\, Feb. 1\, 2024\, from 4-5:30 p.m. at the Apple Valley Airport Terminal Building\, located at 21600 Corwin Road in Apple Valley to discuss future growth of the airport. Everyone is welcome! \nThe Apple Valley Airport (APV) Master Plan Study is being undertaken to evaluate the airport’s capabilities and role\, to forecast future aviation demand\, and to plan for the timely development of new or expanded facilities that may be required to meet that demand. The goal of the Master Plan is to provide systematic guidelines for the Airport’s overall maintenance\, development\, and operation. \nThe Master Plan is a proactive document which identifies and plans for future facility needs well in advance of the actual need for the facilities. This is done to ensure that Airport management can coordinate project approvals\, design\, financing\, and construction to avoid experiencing detrimental effects due to inadequate facilities. \nFollowing Federal Aviation Administration (FAA) guidelines for a qualifications-based consultant selection process\, Coffman Associates\, Inc.\, was selected to undertake the Master Plan. Coffman Associates is a national aviation consulting firm specializing in airport planning studies. The study process is anticipated to take approximately 16 months to complete\, followed by agency reviews and approvals. The structure of the Master Plan follows FAA guidelines and FAA will review and approve the aviation forecasts and the airport layout plan (technical drawings of the current and planned airport layout). \nDraft chapters of the Master Plan will be presented to and reviewed by a Planning Advisory Committee (PAC) that is comprised of various airport stakeholders\, including representatives from the Town of Apple Valley\, San Bernardino County\, airport businesses\, tenants\, area economic development interests\, airport administration\, and FAA. Three public information workshops are planned at strategic points in the process to encourage citizens to learn more about the plans for the Airport. \nPublic Comments \nAny interested citizen is encouraged to provide comments and suggestions to the project team. Comment sheets are provided to the PAC and at the public information workshops. Citizens can also utilize the “Comment” feature on the website. Direct communication with the project managers via phone or email is also acceptable. The project managers for the airport master plan are listed in the Apple Valley Airport Master Plan Public Information Workshop “Contacts” section of the website at applevalley.airportstudy.net. \nFor more information about the Department of Airports\, visit airports.sbcounty.gov.
URL:https://bosd1.sbcounty.gov/event/apple-valley-airport-community-workshop/
LOCATION:Apple Valley Airport\, 21600 Corwin Road\, Apple Valley\, CA\, 92307\, United States
CATEGORIES:Meetings
ATTACH;FMTTYPE=image/png:https://bosd1.sbcounty.gov/wp-content/uploads/sites/103/2024/01/Airport.png
END:VEVENT
BEGIN:VEVENT
DTSTART;TZID=America/Los_Angeles:20240201T180000
DTEND;TZID=America/Los_Angeles:20240201T190000
DTSTAMP:20260422T011049
CREATED:20240123T183847Z
LAST-MODIFIED:20240123T183847Z
UID:10007985-1706810400-1706814000@bosd1.sbcounty.gov
SUMMARY:Helendale Public Notice
DESCRIPTION:The San Bernardino County Fire Chief will present information regarding Service Zone FP-5 and proposed Measure W. After the presentation\, the Fire Chief and his staff will be available to answer questions from the public. Further information regarding the FP-5 Service Zone and proposed Measure W is available at sbcfire.org/fp5
URL:https://bosd1.sbcounty.gov/event/helendale-public-notice/
LOCATION:Helendale Community Services District\, 26540 Vista Rd.\, Helendale\, CA\, 92342\, United States
CATEGORIES:Meetings
ATTACH;FMTTYPE=image/jpeg:https://bosd1.sbcounty.gov/wp-content/uploads/sites/103/2024/01/County-Blog-Photos-15.jpg
END:VEVENT
BEGIN:VEVENT
DTSTART;TZID=America/Los_Angeles:20240201T180000
DTEND;TZID=America/Los_Angeles:20240201T190000
DTSTAMP:20260422T011049
CREATED:20240123T185404Z
LAST-MODIFIED:20240123T185433Z
UID:10007994-1706810400-1706814000@bosd1.sbcounty.gov
SUMMARY:'From Seed to Salad' Online Class
DESCRIPTION:Mojave Water Agency’s the online “From Seeds to Salad” course begins Jan. 25 and runs weekly until May 2. This is one of many online public education workshops offered in partnership with the Mojave Desert Resource Conservation District (MDRCD). Learn to grow vegetables in the desert with minimal water usage during this FREE\, on-line\, 3-month class sponsored by the Mojave Water Agency. It runs from 6-7 p.m. \nRegistration Link: https://www.surveymonkey.com/r/2024Seed2Salad \nVirtual Meeting Link: https://www.surveymonkey.com/r/2024Seed2Salad
URL:https://bosd1.sbcounty.gov/event/from-seed-to-salad-online-class/2024-02-01/
LOCATION:Online\, CA\, United States
CATEGORIES:Trainings
ATTACH;FMTTYPE=image/jpeg:https://bosd1.sbcounty.gov/wp-content/uploads/sites/103/2024/01/County-Blog-Photos-16.jpg
ORGANIZER;CN="Mojave Water Agency":MAILTO:ksousa@mojavewater.org
END:VEVENT
END:VCALENDAR