BEGIN:VCALENDAR
VERSION:2.0
PRODID:-//Col. Paul Cook (Ret.) First District Supervisor - ECPv6.15.14//NONSGML v1.0//EN
CALSCALE:GREGORIAN
METHOD:PUBLISH
X-ORIGINAL-URL:https://bosd1.sbcounty.gov
X-WR-CALDESC:Events for Col. Paul Cook (Ret.) First District Supervisor
REFRESH-INTERVAL;VALUE=DURATION:PT1H
X-Robots-Tag:noindex
X-PUBLISHED-TTL:PT1H
BEGIN:VTIMEZONE
TZID:America/Los_Angeles
BEGIN:DAYLIGHT
TZOFFSETFROM:-0800
TZOFFSETTO:-0700
TZNAME:PDT
DTSTART:20230312T100000
END:DAYLIGHT
BEGIN:STANDARD
TZOFFSETFROM:-0700
TZOFFSETTO:-0800
TZNAME:PST
DTSTART:20231105T090000
END:STANDARD
BEGIN:DAYLIGHT
TZOFFSETFROM:-0800
TZOFFSETTO:-0700
TZNAME:PDT
DTSTART:20240310T100000
END:DAYLIGHT
BEGIN:STANDARD
TZOFFSETFROM:-0700
TZOFFSETTO:-0800
TZNAME:PST
DTSTART:20241103T090000
END:STANDARD
BEGIN:DAYLIGHT
TZOFFSETFROM:-0800
TZOFFSETTO:-0700
TZNAME:PDT
DTSTART:20250309T100000
END:DAYLIGHT
BEGIN:STANDARD
TZOFFSETFROM:-0700
TZOFFSETTO:-0800
TZNAME:PST
DTSTART:20251102T090000
END:STANDARD
END:VTIMEZONE
BEGIN:VEVENT
DTSTART;TZID=America/Los_Angeles:20240125T080000
DTEND;TZID=America/Los_Angeles:20240125T170000
DTSTAMP:20260422T011050
CREATED:20240109T185213Z
LAST-MODIFIED:20240109T185213Z
UID:10007025-1706169600-1706202000@bosd1.sbcounty.gov
SUMMARY:2024 Point in Time Count
DESCRIPTION:The 2024 Point in Time Count is planned on Jan. 25 throughout San Bernardino County. The PITC is a critical survey to secure grant funding\, as well as other resources for local communities to assist individuals who are homeless or at risk of becoming homeless. Volunteers will attend a virtual training and then join teams to survey individuals and hand out backpacks filled with essential items. To volunteer\, please visit sbchp.sbcounty.gov \nFor more information\, call the Office of Homeless Services at (909) 501-0610 or email HomelessRFP@hss.sbcounty.gov
URL:https://bosd1.sbcounty.gov/event/2024-point-in-time-count/
CATEGORIES:Community Events
ATTACH;FMTTYPE=image/jpeg:https://bosd1.sbcounty.gov/wp-content/uploads/sites/103/2024/01/County-Blog-Photos-7.jpg
END:VEVENT
BEGIN:VEVENT
DTSTART;TZID=America/Los_Angeles:20240125T100000
DTEND;TZID=America/Los_Angeles:20240125T130000
DTSTAMP:20260422T011050
CREATED:20240109T185344Z
LAST-MODIFIED:20240109T185344Z
UID:10007022-1706176800-1706187600@bosd1.sbcounty.gov
SUMMARY:High Desert Hiring Event
DESCRIPTION:High Desert America’s Job Center’s next hiring event will take place from 10 a.m. to 1 p.m. on Jan. 25 at the Apple Valley Town Center. Meet with local businesses in a variety of industries including healthcare\, retail\, warehousing and more. \nCome dressed to impress with plenty of resumes. Auxiliary aids and services are available upon request to individuals with disabilities. Requests for services\, aids\, and/or alternate formats need to be made prior to the event by calling (800) 735-2922. TTY users may call the California Relay Service 711. \nApple Valley Town Center is at 14955 Dale Evans Pkwy\, Apple Valley. For more information\, please call (800) 451-5627.
URL:https://bosd1.sbcounty.gov/event/high-desert-hiring-event/
LOCATION:Apple Valley Conference Center\, 14975 Dale Evans Pkwy\, Apple Valley\, CA\, 92307\, United States
CATEGORIES:Job Fair
ATTACH;FMTTYPE=image/jpeg:https://bosd1.sbcounty.gov/wp-content/uploads/sites/103/2023/05/jobs_crop.jpg
ORGANIZER;CN="High Desert America's Job Center of California":MAILTO:HDreferral@wdd.sbcounty.gov
END:VEVENT
BEGIN:VEVENT
DTSTART;TZID=America/Los_Angeles:20240125T113000
DTEND;TZID=America/Los_Angeles:20240125T133000
DTSTAMP:20260422T011050
CREATED:20240109T192608Z
LAST-MODIFIED:20240202T163332Z
UID:10007313-1706182200-1706189400@bosd1.sbcounty.gov
SUMMARY:Victor Valley Community Services Council Senior Activity
DESCRIPTION:Victor Valley Community Services Council will host its next free Intergenerational Activity at 11:30 a.m. Thursday. Seniors are invited to bring their friends\, neighbors\, children & grandchildren for a catered lunch. Free transportation may be provided. Reservations are required by calling 760-243-9646. \nThis event is subject to change. Please call to confirm.
URL:https://bosd1.sbcounty.gov/event/victor-valley-community-services-council-senior-activity-2/2024-01-25/
LOCATION:Victor Valley Community Services Council\, 16692 Mojave Drive\, Victorville\, CA\, 92395\, United States
CATEGORIES:Community Events
ATTACH;FMTTYPE=image/jpeg:https://bosd1.sbcounty.gov/wp-content/uploads/sites/103/2024/01/County-Blog-Photos-13.jpg
ORGANIZER;CN="Victor Valley Community Services Council":MAILTO:vvcsc@vvcsc.com
END:VEVENT
BEGIN:VEVENT
DTSTART;TZID=America/Los_Angeles:20240125T180000
DTEND;TZID=America/Los_Angeles:20240125T190000
DTSTAMP:20260422T011050
CREATED:20240123T185404Z
LAST-MODIFIED:20240123T185433Z
UID:10007991-1706205600-1706209200@bosd1.sbcounty.gov
SUMMARY:'From Seed to Salad' Online Class
DESCRIPTION:Mojave Water Agency’s the online “From Seeds to Salad” course begins Jan. 25 and runs weekly until May 2. This is one of many online public education workshops offered in partnership with the Mojave Desert Resource Conservation District (MDRCD). Learn to grow vegetables in the desert with minimal water usage during this FREE\, on-line\, 3-month class sponsored by the Mojave Water Agency. It runs from 6-7 p.m. \nRegistration Link: https://www.surveymonkey.com/r/2024Seed2Salad \nVirtual Meeting Link: https://www.surveymonkey.com/r/2024Seed2Salad
URL:https://bosd1.sbcounty.gov/event/from-seed-to-salad-online-class/2024-01-25/
LOCATION:Online\, CA\, United States
CATEGORIES:Trainings
ATTACH;FMTTYPE=image/jpeg:https://bosd1.sbcounty.gov/wp-content/uploads/sites/103/2024/01/County-Blog-Photos-16.jpg
ORGANIZER;CN="Mojave Water Agency":MAILTO:ksousa@mojavewater.org
END:VEVENT
END:VCALENDAR