BEGIN:VCALENDAR
VERSION:2.0
PRODID:-//Col. Paul Cook (Ret.) First District Supervisor - ECPv6.15.14//NONSGML v1.0//EN
CALSCALE:GREGORIAN
METHOD:PUBLISH
X-ORIGINAL-URL:https://bosd1.sbcounty.gov
X-WR-CALDESC:Events for Col. Paul Cook (Ret.) First District Supervisor
REFRESH-INTERVAL;VALUE=DURATION:PT1H
X-Robots-Tag:noindex
X-PUBLISHED-TTL:PT1H
BEGIN:VTIMEZONE
TZID:America/Los_Angeles
BEGIN:DAYLIGHT
TZOFFSETFROM:-0800
TZOFFSETTO:-0700
TZNAME:PDT
DTSTART:20230312T100000
END:DAYLIGHT
BEGIN:STANDARD
TZOFFSETFROM:-0700
TZOFFSETTO:-0800
TZNAME:PST
DTSTART:20231105T090000
END:STANDARD
BEGIN:DAYLIGHT
TZOFFSETFROM:-0800
TZOFFSETTO:-0700
TZNAME:PDT
DTSTART:20240310T100000
END:DAYLIGHT
BEGIN:STANDARD
TZOFFSETFROM:-0700
TZOFFSETTO:-0800
TZNAME:PST
DTSTART:20241103T090000
END:STANDARD
BEGIN:DAYLIGHT
TZOFFSETFROM:-0800
TZOFFSETTO:-0700
TZNAME:PDT
DTSTART:20250309T100000
END:DAYLIGHT
BEGIN:STANDARD
TZOFFSETFROM:-0700
TZOFFSETTO:-0800
TZNAME:PST
DTSTART:20251102T090000
END:STANDARD
END:VTIMEZONE
BEGIN:VEVENT
DTSTART;TZID=America/Los_Angeles:20240121T120000
DTEND;TZID=America/Los_Angeles:20240121T140000
DTSTAMP:20260422T011049
CREATED:20240118T192122Z
LAST-MODIFIED:20240118T192854Z
UID:10007979-1705838400-1705845600@bosd1.sbcounty.gov
SUMMARY:Mojave Narrows Snowflake Craft Event
DESCRIPTION:Mojave Narrows will host a Snowflake Craft event from noon until 2 p.m. on Sunday\, Jan. 21. \nMojave Narrows is located at 18000 Yates Road\, Victorville. Cost is $10 per vehicle\, or free if camping. For more information\, please call 909-387-2757.
URL:https://bosd1.sbcounty.gov/event/mojave-narrows-snowflake-craft-event/
LOCATION:Mojave Narrows Regional Park\, 18000 Yates Rd\, Victorville\, CA\, 92392\, United States
CATEGORIES:Community Events
ATTACH;FMTTYPE=image/jpeg:https://bosd1.sbcounty.gov/wp-content/uploads/sites/103/2024/01/snowflake.jpg
ORGANIZER;CN="San Bernardino County Regional Parks":MAILTO:parks@parks.sbcounty.gov
END:VEVENT
END:VCALENDAR