BEGIN:VCALENDAR
VERSION:2.0
PRODID:-//Col. Paul Cook (Ret.) First District Supervisor - ECPv6.15.14//NONSGML v1.0//EN
CALSCALE:GREGORIAN
METHOD:PUBLISH
X-ORIGINAL-URL:https://bosd1.sbcounty.gov
X-WR-CALDESC:Events for Col. Paul Cook (Ret.) First District Supervisor
REFRESH-INTERVAL;VALUE=DURATION:PT1H
X-Robots-Tag:noindex
X-PUBLISHED-TTL:PT1H
BEGIN:VTIMEZONE
TZID:America/Los_Angeles
BEGIN:DAYLIGHT
TZOFFSETFROM:-0800
TZOFFSETTO:-0700
TZNAME:PDT
DTSTART:20230312T100000
END:DAYLIGHT
BEGIN:STANDARD
TZOFFSETFROM:-0700
TZOFFSETTO:-0800
TZNAME:PST
DTSTART:20231105T090000
END:STANDARD
BEGIN:DAYLIGHT
TZOFFSETFROM:-0800
TZOFFSETTO:-0700
TZNAME:PDT
DTSTART:20240310T100000
END:DAYLIGHT
BEGIN:STANDARD
TZOFFSETFROM:-0700
TZOFFSETTO:-0800
TZNAME:PST
DTSTART:20241103T090000
END:STANDARD
BEGIN:DAYLIGHT
TZOFFSETFROM:-0800
TZOFFSETTO:-0700
TZNAME:PDT
DTSTART:20250309T100000
END:DAYLIGHT
BEGIN:STANDARD
TZOFFSETFROM:-0700
TZOFFSETTO:-0800
TZNAME:PST
DTSTART:20251102T090000
END:STANDARD
END:VTIMEZONE
BEGIN:VEVENT
DTSTART;TZID=America/Los_Angeles:20240118T090000
DTEND;TZID=America/Los_Angeles:20240118T100000
DTSTAMP:20260422T011051
CREATED:20231109T191327Z
LAST-MODIFIED:20231109T191327Z
UID:10006011-1705568400-1705572000@bosd1.sbcounty.gov
SUMMARY:Baker CSD Meeting
DESCRIPTION:The Baker Community Services District meets at 9 a.m. on the first and third Thursday of every month. For more information\, please please contact Diana Romo\, Board Secretary\, at (760) 733-4402. Dates and times subject to change. For the latest meeting information\, go to https://bakercsd.com/
URL:https://bosd1.sbcounty.gov/event/baker-csd-meeting/2024-01-18/
LOCATION:Baker CSD\, 72730 Baker Blvd\, Baker\, CA\, 92309\, United States
CATEGORIES:Meetings
ATTACH;FMTTYPE=image/png:https://bosd1.sbcounty.gov/wp-content/uploads/sites/103/2023/11/Baker.png
END:VEVENT
BEGIN:VEVENT
DTSTART;TZID=America/Los_Angeles:20240118T110000
DTEND;TZID=America/Los_Angeles:20240118T140000
DTSTAMP:20260422T011051
CREATED:20240109T184853Z
LAST-MODIFIED:20240109T184853Z
UID:10004547-1705575600-1705586400@bosd1.sbcounty.gov
SUMMARY:Child Car Seat Safety Class
DESCRIPTION:High Desert Second Chance is partnering with Community Health Action Network and California Highway Patrol to provide a Child Car Seat Safety Class on Thursday\, Jan. 18. All participants will receive a new car seat for their child. \nThe child seat safety class is for qualifying children\, 12 months old or older\, for front-facing car seats. Only one child per parental household. Parent(s) must complete the workshop\, and demonstration with a certified onsite CHP technician and the child must be present to complete the demonstration. The event runs from 11 a.m. until 1 p.m. Doors close immediately at 11:05 a.m. \nRegister here.
URL:https://bosd1.sbcounty.gov/event/child-car-seat-safety-class/
LOCATION:High Desert Second Chance\, 16666 Smoke Tree Street\, Hesperia\, CA\, 92345\, United States
CATEGORIES:Trainings
ATTACH;FMTTYPE=image/jpeg:https://bosd1.sbcounty.gov/wp-content/uploads/sites/103/2024/01/County-Blog-Photos-6.jpg
ORGANIZER;CN="High Desert Second Chance":MAILTO:highdesertsecondchance92345@gmail.com
END:VEVENT
BEGIN:VEVENT
DTSTART;TZID=America/Los_Angeles:20240118T113000
DTEND;TZID=America/Los_Angeles:20240118T133000
DTSTAMP:20260422T011051
CREATED:20240109T192608Z
LAST-MODIFIED:20240202T163332Z
UID:10007310-1705577400-1705584600@bosd1.sbcounty.gov
SUMMARY:Victor Valley Community Services Council Senior Activity
DESCRIPTION:Victor Valley Community Services Council will host its next free Intergenerational Activity at 11:30 a.m. Thursday. Seniors are invited to bring their friends\, neighbors\, children & grandchildren for a catered lunch. Free transportation may be provided. Reservations are required by calling 760-243-9646. \nThis event is subject to change. Please call to confirm.
URL:https://bosd1.sbcounty.gov/event/victor-valley-community-services-council-senior-activity-2/2024-01-18/
LOCATION:Victor Valley Community Services Council\, 16692 Mojave Drive\, Victorville\, CA\, 92395\, United States
CATEGORIES:Community Events
ATTACH;FMTTYPE=image/jpeg:https://bosd1.sbcounty.gov/wp-content/uploads/sites/103/2024/01/County-Blog-Photos-13.jpg
ORGANIZER;CN="Victor Valley Community Services Council":MAILTO:vvcsc@vvcsc.com
END:VEVENT
END:VCALENDAR