BEGIN:VCALENDAR
VERSION:2.0
PRODID:-//Col. Paul Cook (Ret.) First District Supervisor - ECPv6.15.14//NONSGML v1.0//EN
CALSCALE:GREGORIAN
METHOD:PUBLISH
X-ORIGINAL-URL:https://bosd1.sbcounty.gov
X-WR-CALDESC:Events for Col. Paul Cook (Ret.) First District Supervisor
REFRESH-INTERVAL;VALUE=DURATION:PT1H
X-Robots-Tag:noindex
X-PUBLISHED-TTL:PT1H
BEGIN:VTIMEZONE
TZID:America/Los_Angeles
BEGIN:DAYLIGHT
TZOFFSETFROM:-0800
TZOFFSETTO:-0700
TZNAME:PDT
DTSTART:20230312T100000
END:DAYLIGHT
BEGIN:STANDARD
TZOFFSETFROM:-0700
TZOFFSETTO:-0800
TZNAME:PST
DTSTART:20231105T090000
END:STANDARD
BEGIN:DAYLIGHT
TZOFFSETFROM:-0800
TZOFFSETTO:-0700
TZNAME:PDT
DTSTART:20240310T100000
END:DAYLIGHT
BEGIN:STANDARD
TZOFFSETFROM:-0700
TZOFFSETTO:-0800
TZNAME:PST
DTSTART:20241103T090000
END:STANDARD
BEGIN:DAYLIGHT
TZOFFSETFROM:-0800
TZOFFSETTO:-0700
TZNAME:PDT
DTSTART:20250309T100000
END:DAYLIGHT
BEGIN:STANDARD
TZOFFSETFROM:-0700
TZOFFSETTO:-0800
TZNAME:PST
DTSTART:20251102T090000
END:STANDARD
END:VTIMEZONE
BEGIN:VEVENT
DTSTART;TZID=America/Los_Angeles:20240115T100000
DTEND;TZID=America/Los_Angeles:20240115T120000
DTSTAMP:20260422T011050
CREATED:20240109T184531Z
LAST-MODIFIED:20240125T230808Z
UID:10004544-1705312800-1705320000@bosd1.sbcounty.gov
SUMMARY:Martin Luther King Jr. Day Commemorative Peace March
DESCRIPTION:Delta Sigma Theta Sorority\, Inc. will celebrate Martin Luther King Jr. Day with a Commemorative Peace March Program on Jan. 15 at Victorville City Hall. The event will also feature a plaque unveiling ceremony to recognize the student winner of the City’s annual Civil Rights Memorial Essay Contest. The unveiling ceremony will take place at 10 a.m. with the student reading their winning essay memorializing a civil rights leader. \nFor additional information\, call (760) 955-3306 or visit the website.
URL:https://bosd1.sbcounty.gov/event/martin-luther-king-jr-day-commemorative-peace-march/
LOCATION:Victorville City Hall\, 14343 Civic Drive\, Victorville\, CA\, 92395\, United States
CATEGORIES:Community Events
ATTACH;FMTTYPE=image/jpeg:https://bosd1.sbcounty.gov/wp-content/uploads/sites/103/2024/01/County-Blog-Photos-5.jpg
END:VEVENT
BEGIN:VEVENT
DTSTART;TZID=America/Los_Angeles:20240115T140000
DTEND;TZID=America/Los_Angeles:20240115T170000
DTSTAMP:20260422T011050
CREATED:20231115T174059Z
LAST-MODIFIED:20231115T174059Z
UID:10006989-1705327200-1705338000@bosd1.sbcounty.gov
SUMMARY:Phelan Farmers Market
DESCRIPTION:Phelan Community Center\nCorner Of Warbler Rd/Sheepcreek \nOpen: April – November\nTime: Monday\, 2:00 PM – 6:00 PM \nOpen: November – March\nTime: Monday\, 2:00 PM – 5:00 PM \n\n\n\nAddress:\n4128 Warbler Rd\nPhelan\, CA 92371\n\n\nPhone:\n760.412.9746
URL:https://bosd1.sbcounty.gov/event/phelan-farmers-market/2024-01-15/
LOCATION:Phelan Community Center\, 4128 Warbler Road\, Phelan\, CA\, United States
CATEGORIES:Farmers Markets
ATTACH;FMTTYPE=image/jpeg:https://bosd1.sbcounty.gov/wp-content/uploads/sites/103/2023/11/Phelan-Farmers-Market.jpg
END:VEVENT
END:VCALENDAR