BEGIN:VCALENDAR
VERSION:2.0
PRODID:-//Col. Paul Cook (Ret.) First District Supervisor - ECPv6.15.14//NONSGML v1.0//EN
CALSCALE:GREGORIAN
METHOD:PUBLISH
X-ORIGINAL-URL:https://bosd1.sbcounty.gov
X-WR-CALDESC:Events for Col. Paul Cook (Ret.) First District Supervisor
REFRESH-INTERVAL;VALUE=DURATION:PT1H
X-Robots-Tag:noindex
X-PUBLISHED-TTL:PT1H
BEGIN:VTIMEZONE
TZID:America/Los_Angeles
BEGIN:DAYLIGHT
TZOFFSETFROM:-0800
TZOFFSETTO:-0700
TZNAME:PDT
DTSTART:20230312T100000
END:DAYLIGHT
BEGIN:STANDARD
TZOFFSETFROM:-0700
TZOFFSETTO:-0800
TZNAME:PST
DTSTART:20231105T090000
END:STANDARD
BEGIN:DAYLIGHT
TZOFFSETFROM:-0800
TZOFFSETTO:-0700
TZNAME:PDT
DTSTART:20240310T100000
END:DAYLIGHT
BEGIN:STANDARD
TZOFFSETFROM:-0700
TZOFFSETTO:-0800
TZNAME:PST
DTSTART:20241103T090000
END:STANDARD
BEGIN:DAYLIGHT
TZOFFSETFROM:-0800
TZOFFSETTO:-0700
TZNAME:PDT
DTSTART:20250309T100000
END:DAYLIGHT
BEGIN:STANDARD
TZOFFSETFROM:-0700
TZOFFSETTO:-0800
TZNAME:PST
DTSTART:20251102T090000
END:STANDARD
END:VTIMEZONE
BEGIN:VEVENT
DTSTART;TZID=America/Los_Angeles:20240113T080000
DTEND;TZID=America/Los_Angeles:20240113T120000
DTSTAMP:20260422T011050
CREATED:20240109T185747Z
LAST-MODIFIED:20240109T185747Z
UID:10006962-1705132800-1705147200@bosd1.sbcounty.gov
SUMMARY:Corrections Officer Applicant Workshops
DESCRIPTION:San Bernardino County Probation is hosting two Corrections Officer Applicant Workshops on Saturday\, Jan. 13 at the San Bernardino County Probation Department Training Center\, located at 9478 Etiwanda Avenue\, Rancho Cucamonga \nApplicants will be able to meet with a recruiter\, learn about the hiring process\, and practice the physical agility test. \nThe first workshop is from 8-10 a.m. Register here: https://eventbrite.com/e/789315853967%20\nThe second workshop takes place from 10 a.m. until noon. Register here: https://eventbrite.com/e/789369123297
URL:https://bosd1.sbcounty.gov/event/corrections-officer-applicant-workshops/
CATEGORIES:Job Fair
ATTACH;FMTTYPE=image/jpeg:https://bosd1.sbcounty.gov/wp-content/uploads/sites/103/2024/01/County-Blog-Photos-8.jpg
END:VEVENT
BEGIN:VEVENT
DTSTART;TZID=America/Los_Angeles:20240113T080000
DTEND;TZID=America/Los_Angeles:20240113T140000
DTSTAMP:20260422T011050
CREATED:20240109T190044Z
LAST-MODIFIED:20240109T190044Z
UID:10007295-1705132800-1705154400@bosd1.sbcounty.gov
SUMMARY:Apple Valley Neighborhood Cleanup
DESCRIPTION:On Saturday\, Jan. 13\, join the Town of Apple Valley for their Neighborhood Cleanup. Discard your yard waste\, furniture\, mattresses\, small appliances\, metal and household trash between 8 a.m. and 2 p.m. at Lion’s Park free of charge. For more information on Community Enhancement Programs\, please contact Code Enforcement at (760) 240-7560 or code@applevalley.org
URL:https://bosd1.sbcounty.gov/event/apple-valley-neighborhood-cleanup-2/
LOCATION:Lions Park\, 20789 CA-18\, Apple Valley\, CA\, 92307\, United States
CATEGORIES:Community Cleanups
ATTACH;FMTTYPE=image/jpeg:https://bosd1.sbcounty.gov/wp-content/uploads/sites/103/2023/04/cleanup_original.jpg
ORGANIZER;CN="Town of Apple Valley":MAILTO:info@AppleValley.org
END:VEVENT
BEGIN:VEVENT
DTSTART;TZID=America/Los_Angeles:20240113T100000
DTEND;TZID=America/Los_Angeles:20240113T150000
DTSTAMP:20260422T011050
CREATED:20231115T173436Z
LAST-MODIFIED:20240202T163113Z
UID:10006437-1705140000-1705158000@bosd1.sbcounty.gov
SUMMARY:Hesperia Community Farmer’s Market
DESCRIPTION:The Hesperia Farmer’s Community Market is every Saturday from 10:00 a.m. to  3:00 p.m. (weather permitting). \nHesperia Civic Plaza Park\, 15833 Smoke Tree Street \nPick up fresh veggies\, fruits\, unique foods\, arts and crafts\, and special deals.  Free Admission! \nEBT now accepted! \nFor more information\, call 760.713.3860 or email operations.tfsoakhills@gmail.com.
URL:https://bosd1.sbcounty.gov/event/hesperia-community-farmers-market/2024-01-13/
LOCATION:Hesperia Civic Plaza Park\, 15833 Smoke Tree Street\, Hesperia\, CA\, 92345\, United States
CATEGORIES:Farmers Markets
ATTACH;FMTTYPE=image/jpeg:https://bosd1.sbcounty.gov/wp-content/uploads/sites/103/2023/11/Hesperia-Farmers-Market.jpg
END:VEVENT
BEGIN:VEVENT
DTSTART;TZID=America/Los_Angeles:20240113T170000
DTEND;TZID=America/Los_Angeles:20240113T200000
DTSTAMP:20260422T011050
CREATED:20240109T191601Z
LAST-MODIFIED:20240109T191601Z
UID:10007301-1705165200-1705176000@bosd1.sbcounty.gov
SUMMARY:High Desert Astronomical Society Star Party
DESCRIPTION:The High Desert Astronomical Society (HiDAS) is hosting a public Star Party at 5 p.m. Saturday\, Jan. 13. \nHiDAS is a nonprofit corporation that was formed in 1986 to provide trained\, volunteer astronomers to operate and maintain the Lewis Center’s astronomical equipment. A second mandate is to foster and support the members’ and general public’s interest in the science of astronomy. \nEvents are subject to change and may be canceled due to poor weather or other factors. Parking is available in the Phoenix Academy parking lot or in front of AVCI off of Thunderbird Road. \nFor more information\, please call (760) 486-1598 or email hidas760adrian@gmail.com
URL:https://bosd1.sbcounty.gov/event/high-desert-astronomical-society-star-party/
LOCATION:Luz Observatory\, 20602-20612 Thunderbird Rd.\, Apple Valley\, CA\, 92307\, United States
CATEGORIES:Community Events
ATTACH;FMTTYPE=image/jpeg:https://bosd1.sbcounty.gov/wp-content/uploads/sites/103/2024/01/County-Blog-Photos-11.jpg
ORGANIZER;CN="High Desert Astronomical Society":MAILTO:hidas760adrian@gmail.com
END:VEVENT
END:VCALENDAR