BEGIN:VCALENDAR
VERSION:2.0
PRODID:-//Col. Paul Cook (Ret.) First District Supervisor - ECPv6.15.14//NONSGML v1.0//EN
CALSCALE:GREGORIAN
METHOD:PUBLISH
X-ORIGINAL-URL:https://bosd1.sbcounty.gov
X-WR-CALDESC:Events for Col. Paul Cook (Ret.) First District Supervisor
REFRESH-INTERVAL;VALUE=DURATION:PT1H
X-Robots-Tag:noindex
X-PUBLISHED-TTL:PT1H
BEGIN:VTIMEZONE
TZID:America/Los_Angeles
BEGIN:DAYLIGHT
TZOFFSETFROM:-0800
TZOFFSETTO:-0700
TZNAME:PDT
DTSTART:20230312T100000
END:DAYLIGHT
BEGIN:STANDARD
TZOFFSETFROM:-0700
TZOFFSETTO:-0800
TZNAME:PST
DTSTART:20231105T090000
END:STANDARD
BEGIN:DAYLIGHT
TZOFFSETFROM:-0800
TZOFFSETTO:-0700
TZNAME:PDT
DTSTART:20240310T100000
END:DAYLIGHT
BEGIN:STANDARD
TZOFFSETFROM:-0700
TZOFFSETTO:-0800
TZNAME:PST
DTSTART:20241103T090000
END:STANDARD
BEGIN:DAYLIGHT
TZOFFSETFROM:-0800
TZOFFSETTO:-0700
TZNAME:PDT
DTSTART:20250309T100000
END:DAYLIGHT
BEGIN:STANDARD
TZOFFSETFROM:-0700
TZOFFSETTO:-0800
TZNAME:PST
DTSTART:20251102T090000
END:STANDARD
END:VTIMEZONE
BEGIN:VEVENT
DTSTART;TZID=America/Los_Angeles:20240110T090000
DTEND;TZID=America/Los_Angeles:20240110T110000
DTSTAMP:20260422T011050
CREATED:20230912T181752Z
LAST-MODIFIED:20230912T181752Z
UID:10004238-1704877200-1704884400@bosd1.sbcounty.gov
SUMMARY:Senior Mobile Pantry Program
DESCRIPTION:Seniors who reside in San Bernardino County and need supplemental food assistance may be eligible to participate in food distributions through the Senior Mobile Pantry program\, which is held the second Wednesday of every month. \nFood kits vary and may provide a selection of fruit\, juice\, vegetables\, milk\, cheese\, grains and protein. Participants should bring a grocery push cart for quick loading. \nIf you would like a free ride to the next monthly Senior Food Pantry Distribution\, call Victor Valley Community Services Council at 760-243-9646.
URL:https://bosd1.sbcounty.gov/event/senior-mobile-pantry-program/2024-01-10/
LOCATION:High Desert Second Chance\, 16666 Smoke Tree Street\, Hesperia\, CA\, 92345\, United States
CATEGORIES:Community Events
ATTACH;FMTTYPE=image/jpeg:https://bosd1.sbcounty.gov/wp-content/uploads/sites/103/2023/09/Food-Bank.jpg
END:VEVENT
BEGIN:VEVENT
DTSTART;TZID=America/Los_Angeles:20240110T093000
DTEND;TZID=America/Los_Angeles:20240110T163000
DTSTAMP:20260422T011050
CREATED:20240109T194536Z
LAST-MODIFIED:20240109T194536Z
UID:10007778-1704879000-1704904200@bosd1.sbcounty.gov
SUMMARY:Free CPR Class
DESCRIPTION:Want to learn CPR? Need to renew your CPR card? If so\, the IEHP Community Resource Center can help with that! Join them on the second Wednesday of every month for free CPR Classes. English classes are taught from 9:30-12:30 p.m.\, and Spanish classes are from 1:30 p.m.-4:30 p.m. \nCPR Classes are:\n– FREE to EVERYONE\n– Registration begins 1 hour before each class\n– Filled on a First come\, First Served Basis\n– 30 spots available for each class
URL:https://bosd1.sbcounty.gov/event/free-cpr-class-2/2024-01-10/
LOCATION:IEHP Community Resource Center\, 12353 Mariposa Rd\, Victorville\, CA\, 92395\, United States
CATEGORIES:Trainings
ATTACH;FMTTYPE=image/jpeg:https://bosd1.sbcounty.gov/wp-content/uploads/sites/103/2023/10/CPR.jpg
END:VEVENT
BEGIN:VEVENT
DTSTART;TZID=America/Los_Angeles:20240110T140000
DTEND;TZID=America/Los_Angeles:20240110T180000
DTSTAMP:20260422T011050
CREATED:20231115T173135Z
LAST-MODIFIED:20231115T175802Z
UID:10006926-1704895200-1704909600@bosd1.sbcounty.gov
SUMMARY:Helendale Farmers Market
DESCRIPTION:Helendale Farmers Market\n\nApril – October\nTime: Wednesday 3:00 PM – 7:00 PM \nNovember – March\nTime: Wednesday 2:00 PM – 6:00 PM \n\n\n\nAddress:\n26540 Vista Rd\nHelendale\, CA 92342\n\n\n\nPhone:\n760.475.3291
URL:https://bosd1.sbcounty.gov/event/helendale-farmers-market/2024-01-10/
LOCATION:Helendale Community Services District\, 26540 Vista Rd.\, Helendale\, CA\, 92342\, United States
CATEGORIES:Farmers Markets
ATTACH;FMTTYPE=image/jpeg:https://bosd1.sbcounty.gov/wp-content/uploads/sites/103/2023/11/County-Blog-Photos-14.jpg
END:VEVENT
BEGIN:VEVENT
DTSTART;TZID=America/Los_Angeles:20240110T170000
DTEND;TZID=America/Los_Angeles:20240110T190000
DTSTAMP:20260422T011050
CREATED:20231109T191902Z
LAST-MODIFIED:20231109T191902Z
UID:10006395-1704906000-1704913200@bosd1.sbcounty.gov
SUMMARY:Phelan Pinon Hills CSD Meeting
DESCRIPTION:The Phelan Pinon Hills CSD meets at 5 p.m. on the second and fourth Wednesday of each month. Dates and times are subject to change\, especially during the holidays. For the latest information\, visit https://www.pphcsd.org/meetings
URL:https://bosd1.sbcounty.gov/event/phelan-pinon-hills-csd-meeting/2024-01-10/
LOCATION:Phelan Community Center\, 4128 Warbler Road\, Phelan\, CA\, United States
CATEGORIES:Meetings
ATTACH;FMTTYPE=image/png:https://bosd1.sbcounty.gov/wp-content/uploads/sites/103/2023/11/Phelan.png
END:VEVENT
BEGIN:VEVENT
DTSTART;TZID=America/Los_Angeles:20240110T190000
DTEND;TZID=America/Los_Angeles:20240110T210000
DTSTAMP:20260422T011050
CREATED:20240309T152254Z
LAST-MODIFIED:20240309T152254Z
UID:10005999-1704913200-1704920400@bosd1.sbcounty.gov
SUMMARY:Adelanto City Council Meeting
DESCRIPTION:The Adelanto City Council meets at 7 p.m. on the second and fourth Wednesday of every month. Dates and times are subject to change. For the latest information\, view the city council agendas.
URL:https://bosd1.sbcounty.gov/event/adelanto-city-council-meeting/2024-01-10/
LOCATION:Adelanto City Hall\, 11600 Air Expressway\, Adelanto\, CA\, 92301\, United States
CATEGORIES:Meetings
ATTACH;FMTTYPE=image/jpeg:https://bosd1.sbcounty.gov/wp-content/uploads/sites/103/2023/11/City-of-Adelanto.jpg
END:VEVENT
END:VCALENDAR