BEGIN:VCALENDAR
VERSION:2.0
PRODID:-//Col. Paul Cook (Ret.) First District Supervisor - ECPv6.15.14//NONSGML v1.0//EN
CALSCALE:GREGORIAN
METHOD:PUBLISH
X-ORIGINAL-URL:https://bosd1.sbcounty.gov
X-WR-CALDESC:Events for Col. Paul Cook (Ret.) First District Supervisor
REFRESH-INTERVAL;VALUE=DURATION:PT1H
X-Robots-Tag:noindex
X-PUBLISHED-TTL:PT1H
BEGIN:VTIMEZONE
TZID:America/Los_Angeles
BEGIN:DAYLIGHT
TZOFFSETFROM:-0800
TZOFFSETTO:-0700
TZNAME:PDT
DTSTART:20220313T100000
END:DAYLIGHT
BEGIN:STANDARD
TZOFFSETFROM:-0700
TZOFFSETTO:-0800
TZNAME:PST
DTSTART:20221106T090000
END:STANDARD
BEGIN:DAYLIGHT
TZOFFSETFROM:-0800
TZOFFSETTO:-0700
TZNAME:PDT
DTSTART:20230312T100000
END:DAYLIGHT
BEGIN:STANDARD
TZOFFSETFROM:-0700
TZOFFSETTO:-0800
TZNAME:PST
DTSTART:20231105T090000
END:STANDARD
BEGIN:DAYLIGHT
TZOFFSETFROM:-0800
TZOFFSETTO:-0700
TZNAME:PDT
DTSTART:20240310T100000
END:DAYLIGHT
BEGIN:STANDARD
TZOFFSETFROM:-0700
TZOFFSETTO:-0800
TZNAME:PST
DTSTART:20241103T090000
END:STANDARD
END:VTIMEZONE
BEGIN:VEVENT
DTSTART;VALUE=DATE:20231028
DTEND;VALUE=DATE:20231029
DTSTAMP:20260420T141759
CREATED:20231024T174854Z
LAST-MODIFIED:20231024T174854Z
UID:10004628-1698451200-1698537599@bosd1.sbcounty.gov
SUMMARY:Helendale Fall Cleanup Day
DESCRIPTION:The Helendale Community Services District is hosting its annual Fall Cleanup Day this Saturday\, October. 28. Accepted items include general trash\, large items\, green waste\, tires with no rims (no commercial tires)\, electronics\, and more.  Household hazardous waste collection will be held on site. \nResidents may drop off antifreeze\, batteries\, oil and filters\, paint\, pesticides and fertilizers\, fluorescent light bulbs and tubes\, home generated needles\, medicine (except controlled substances). Please transport no more than 15 gallons or 125 pounds in containers no larger than 5 gallons. Containers must be sound and not leaking. \nCompost will be also available at the cleanup. Residents must bring their own shovels and bags/containers for compost.  Pick up compost on the south end of the Community Center parking lot near the Thrift Store. The cleanup event will take place at 26540 Vista Rd.\, Helendale.
URL:https://bosd1.sbcounty.gov/event/helendale-fall-cleanup-day/
LOCATION:Helendale Community Services District\, 26540 Vista Rd.\, Helendale\, CA\, 92342\, United States
CATEGORIES:Community Cleanups
ATTACH;FMTTYPE=image/jpeg:https://bosd1.sbcounty.gov/wp-content/uploads/sites/103/2023/10/Fall-Cleanup.jpg
ORGANIZER;CN="Helendale Community Services District":MAILTO:mail@helendalecsd.org
END:VEVENT
BEGIN:VEVENT
DTSTART;TZID=America/Los_Angeles:20231028T080000
DTEND;TZID=America/Los_Angeles:20231028T170000
DTSTAMP:20260420T141759
CREATED:20230919T180625Z
LAST-MODIFIED:20231024T174425Z
UID:10004415-1698480000-1698512400@bosd1.sbcounty.gov
SUMMARY:Lady Be Aware Self Defense Training
DESCRIPTION:The Sheriff’s Department is offering Lady Be Aware training for women who want to develop the attitude\, skills and knowledge that will help prevent them from becoming victims. The is a fantastic course that covers all types of safety\, including cyber safety\, home safety\, situational awareness\, and physical safety. All participants also get hands-on self-defense training\, including how to shoot three different types of firearms. Must provide a driver license to enroll. Once registered\, payment is due to hold seat. Cost is $75 for the full-day class. Email ladybeaware@sbcsd.org
URL:https://bosd1.sbcounty.gov/event/lady-be-aware-self-defense-training/2023-10-28/
LOCATION:Sheriff’s Department Training Center\, 18901 Institution Road\, Devore\, CA\, 92407\, United States
CATEGORIES:Trainings
ATTACH;FMTTYPE=image/jpeg:https://bosd1.sbcounty.gov/wp-content/uploads/sites/103/2023/09/Lady-Be-Aware.jpg
ORGANIZER;CN="San Bernardino County Sheriff's Department":MAILTO:paffairs@sbcsd.org
END:VEVENT
BEGIN:VEVENT
DTSTART;TZID=America/Los_Angeles:20231028T100000
DTEND;TZID=America/Los_Angeles:20231028T140000
DTSTAMP:20260420T141759
CREATED:20231011T174020Z
LAST-MODIFIED:20231011T174020Z
UID:10004622-1698487200-1698501600@bosd1.sbcounty.gov
SUMMARY:Child Support Services Trunk or Treat
DESCRIPTION:Join San Bernardino County Department of Child Support Services for their 2nd annual Trunk or Treat from 10 a.m. to 2 p.m. Saturday\, Oct. 28. \n\nRepresentatives from Child Support Services and other community agencies will be on site to hand out special treats to children of all ages (parent must be present) and provide information about their services for the adults.\n\n\nDon’t forget to dress up in your favorite costume.\n\nThe Center is located at 15400 Civic Drive\, Victorville\, Ca 92392. \nhttps://childsupport.sbcounty.gov (866) 901-3212
URL:https://bosd1.sbcounty.gov/event/child-support-services-trunk-or-treat/
LOCATION:San Bernardino County Department of Child Support Services\, 15400 Civic Drive\, Victorville\, CA\, 92392\, United States
CATEGORIES:Community Events
ATTACH;FMTTYPE=image/jpeg:https://bosd1.sbcounty.gov/wp-content/uploads/sites/103/2023/10/SBCDCSS.jpg
END:VEVENT
BEGIN:VEVENT
DTSTART;TZID=America/Los_Angeles:20231028T110000
DTEND;TZID=America/Los_Angeles:20231028T130000
DTSTAMP:20260420T141759
CREATED:20230919T190748Z
LAST-MODIFIED:20230919T190748Z
UID:10004460-1698490800-1698498000@bosd1.sbcounty.gov
SUMMARY:High Desert Second Chance Trunk or Treat
DESCRIPTION:Get ready for a spine-tingling evening of family-friendly fun at High Desert Second Chance’s annual Trunk or Treat extravaganza! It’s that time of year again when the leaves turn golden\, and the air carries a hint of magic. \nEvent Highlights: \nTrunk-or-Treating Delight: Our parking lot will transform into a candy wonderland! Decorated car trunks will be lined up\, brimming with treats and surprises. Little ghosts and goblins can go from car to car\, collecting candies\, stickers\, and small prizes. \nEerie Entertainment: Prepare for a bewitching experience with live DJ\, dance performances\, and thrilling games. Our DJ will keep the energy high with spooktacular tunes that will have everyone dancing the night away. \nCostume Parade: Show off your creativity! Dress to impress in your most imaginative costumes. Our costume parade will showcase some of the most imaginative and elaborate outfits. Who will take home the title of the Best Costume?
URL:https://bosd1.sbcounty.gov/event/high-desert-second-chance-trunk-or-treat/
LOCATION:High Desert Second Chance\, 16666 Smoke Tree Street\, Hesperia\, CA\, 92345\, United States
CATEGORIES:Community Events
ATTACH;FMTTYPE=image/jpeg:https://bosd1.sbcounty.gov/wp-content/uploads/sites/103/2023/09/Trunk-or-Treat.jpg
ORGANIZER;CN="High Desert Second Chance":MAILTO:highdesertsecondchance92345@gmail.com
END:VEVENT
BEGIN:VEVENT
DTSTART;TZID=America/Los_Angeles:20231028T110000
DTEND;TZID=America/Los_Angeles:20231028T150000
DTSTAMP:20260420T141759
CREATED:20231003T172650Z
LAST-MODIFIED:20231003T173411Z
UID:10004586-1698490800-1698505200@bosd1.sbcounty.gov
SUMMARY:Trowel or Treat: The Science of Breaking Ground
DESCRIPTION:Come learn about the sciences that literally work in dirt\, archaeology and paleontology\, to increase science literacy and promote the scientific understanding of how and why they “break” ground plus come in costume to receive special treats too!\nMuseum will be open\, regular admission applies. General admission is $10 (adult)\, $8 (military or senior)\, $7 (student)\, and $5 (child ages 6 to 12). Children five and under and museum members are free. Parking is free. The museum is accessible to persons with disabilities
URL:https://bosd1.sbcounty.gov/event/trowel-or-treat-the-science-of-breaking-ground/
LOCATION:Victor Valley Museum\, 11873 Apple Valley Road\, Apple Valley\, CA\, 92308\, United States
CATEGORIES:Community Events
ATTACH;FMTTYPE=image/jpeg:https://bosd1.sbcounty.gov/wp-content/uploads/sites/103/2023/10/Trowel-or-Treat.jpg
ORGANIZER;CN="San Bernardino County Museum":MAILTO:museum@sbcounty.gov
END:VEVENT
BEGIN:VEVENT
DTSTART;TZID=America/Los_Angeles:20231028T160000
DTEND;TZID=America/Los_Angeles:20231028T200000
DTSTAMP:20260420T141759
CREATED:20231003T180418Z
LAST-MODIFIED:20231003T180418Z
UID:10004589-1698508800-1698523200@bosd1.sbcounty.gov
SUMMARY:A Very Wild Halloween
DESCRIPTION:Come on down this all hallows eve to celebrate a spooky night with us and all our critters! We will have trick or treat stations\, music\, feeding opportunities at night\, and see our nocturnal animals awake! You may come in costume as long as they are family and animal friendly!
URL:https://bosd1.sbcounty.gov/event/a-very-wild-halloween/
LOCATION:Forever Wild Exotic Animal Sanctuary\, 8545 Buttemere Road\, Phelan\, CA\, 92371\, United States
CATEGORIES:Fundraisers
ATTACH;FMTTYPE=image/jpeg:https://bosd1.sbcounty.gov/wp-content/uploads/sites/103/2023/10/Forever-Wild.jpg
END:VEVENT
BEGIN:VEVENT
DTSTART;TZID=America/Los_Angeles:20231028T170000
DTEND;TZID=America/Los_Angeles:20231028T200000
DTSTAMP:20260420T141759
CREATED:20230915T184809Z
LAST-MODIFIED:20240125T232044Z
UID:10004367-1698512400-1698523200@bosd1.sbcounty.gov
SUMMARY:Apple Valley Halloween Spooktacular and Howl-o-ween Dog Run
DESCRIPTION:Start your day with the Howl-o-ween Dog Run from 8 a.m. to 10 am. Runners and walkers\, bring your 4-legged family members out to this event to embark on a 1K or a 5K with you. Sign up at avrecreation.org. \nLater in the afternoon\, join the Halloween Spooktacular from 5 pm to 8pm at Civic Center Park! This event is free for all ages\, so come on out for an evening of fun\, candy\, and spooky trunks.
URL:https://bosd1.sbcounty.gov/event/apple-valley-halloween-spooktacular/
LOCATION:Apple Valley Civic Center Park and Aquatic Center\, 14955 Dale Evans Parkway\, Apple Valley\, CA\, 92307\, United States
CATEGORIES:Community Events
ATTACH;FMTTYPE=image/jpeg:https://bosd1.sbcounty.gov/wp-content/uploads/sites/103/2023/09/AV-Halloween.jpg
ORGANIZER;CN="Apple Valley Parks &amp%3B Recreation":MAILTO:recreation@applevalley.org
END:VEVENT
BEGIN:VEVENT
DTSTART;TZID=America/Los_Angeles:20231028T180000
DTEND;TZID=America/Los_Angeles:20231028T200000
DTSTAMP:20260420T141759
CREATED:20230921T214902Z
LAST-MODIFIED:20230921T214902Z
UID:10004517-1698516000-1698523200@bosd1.sbcounty.gov
SUMMARY:Trona Trunk or Treat 2023
DESCRIPTION:The Trona Firefighters Association and Trona CERT will present their annual Trunk or Treat from 6-8 p.m. Oct. 28 at Trona High School. Residents are invited to come in their best costumes for candy\, food\, raffles and fun. Trona High School is located at 83600 Trona Road in Trona. For more information\, please call 760.372.5988.
URL:https://bosd1.sbcounty.gov/event/trona-trunk-or-treat-2023/
LOCATION:Trona High School\, 83600 Trona Road\, Trona\, CA\, 93562\, United States
CATEGORIES:Community Events
ATTACH;FMTTYPE=image/jpeg:https://bosd1.sbcounty.gov/wp-content/uploads/sites/103/2023/09/Trona-Trunk-or-Treat-scaled.jpg
ORGANIZER;CN="Trona Firefighters Association":MAILTO:tronafireassociation@gmail.com
END:VEVENT
BEGIN:VEVENT
DTSTART;TZID=America/Los_Angeles:20231028T200000
DTEND;TZID=America/Los_Angeles:20231029T000000
DTSTAMP:20260420T141759
CREATED:20231005T165439Z
LAST-MODIFIED:20231005T165439Z
UID:10004598-1698523200-1698537600@bosd1.sbcounty.gov
SUMMARY:VVC's Haunted Theatre
DESCRIPTION:Victor Valley College is getting ready for the spooky season with a Haunted Theatre on Oct. 28 & 29. The evening events are for ages 16 and up. A special FREE children’s event is planned from 11 a.m. to 3 p.m. on Oct. 29. All minors must have a parent/guardian present to attend.
URL:https://bosd1.sbcounty.gov/event/vvcs-haunted-theatre/2023-10-28/
LOCATION:Victor Valley College\, 18422 Bear Valley Rd.\, Victorville\, CA\, 92395\, United States
CATEGORIES:Community Events
ATTACH;FMTTYPE=image/jpeg:https://bosd1.sbcounty.gov/wp-content/uploads/sites/103/2023/10/Haunted-Theater.jpg
END:VEVENT
END:VCALENDAR