BEGIN:VCALENDAR
VERSION:2.0
PRODID:-//Col. Paul Cook (Ret.) First District Supervisor - ECPv6.15.14//NONSGML v1.0//EN
CALSCALE:GREGORIAN
METHOD:PUBLISH
X-WR-CALNAME:Col. Paul Cook (Ret.) First District Supervisor
X-ORIGINAL-URL:https://bosd1.sbcounty.gov
X-WR-CALDESC:Events for Col. Paul Cook (Ret.) First District Supervisor
REFRESH-INTERVAL;VALUE=DURATION:PT1H
X-Robots-Tag:noindex
X-PUBLISHED-TTL:PT1H
BEGIN:VTIMEZONE
TZID:America/Los_Angeles
BEGIN:DAYLIGHT
TZOFFSETFROM:-0800
TZOFFSETTO:-0700
TZNAME:PDT
DTSTART:20220313T100000
END:DAYLIGHT
BEGIN:STANDARD
TZOFFSETFROM:-0700
TZOFFSETTO:-0800
TZNAME:PST
DTSTART:20221106T090000
END:STANDARD
BEGIN:DAYLIGHT
TZOFFSETFROM:-0800
TZOFFSETTO:-0700
TZNAME:PDT
DTSTART:20230312T100000
END:DAYLIGHT
BEGIN:STANDARD
TZOFFSETFROM:-0700
TZOFFSETTO:-0800
TZNAME:PST
DTSTART:20231105T090000
END:STANDARD
BEGIN:DAYLIGHT
TZOFFSETFROM:-0800
TZOFFSETTO:-0700
TZNAME:PDT
DTSTART:20240310T100000
END:DAYLIGHT
BEGIN:STANDARD
TZOFFSETFROM:-0700
TZOFFSETTO:-0800
TZNAME:PST
DTSTART:20241103T090000
END:STANDARD
END:VTIMEZONE
BEGIN:VEVENT
DTSTART;TZID=America/Los_Angeles:20231025T090000
DTEND;TZID=America/Los_Angeles:20231025T140000
DTSTAMP:20260420T174152
CREATED:20230926T180822Z
LAST-MODIFIED:20230926T180822Z
UID:10004562-1698224400-1698242400@bosd1.sbcounty.gov
SUMMARY:VVC Fall Plant Sale
DESCRIPTION:Victor Valley College’s Agriculture & Natural Resource Department is hosting its Fall Plant Sale on Oct. 25 and 26. \nStock up on vegetables\, landscape plants\, house plants\, succulents and wildflower seeds. There will also be several community information booths. \nHours are 9 a.m. to 2 p.m. Wednesday\, Oct. 25 and 9 a.m. to noon on Thursday\, Oct. 26. Only cash and check will be accepted. The event will take place in the Lower Campus Parking Lot W\, 18422 Bear Valley Rd.\, Victorville.
URL:https://bosd1.sbcounty.gov/event/vvc-fall-plant-sale/2023-10-25/
LOCATION:Victor Valley College\, 18422 Bear Valley Rd.\, Victorville\, CA\, 92395\, United States
CATEGORIES:Community Events
ATTACH;FMTTYPE=image/jpeg:https://bosd1.sbcounty.gov/wp-content/uploads/sites/103/2023/09/VVC-Fall-Plant-Sale.jpg
END:VEVENT
END:VCALENDAR