BEGIN:VCALENDAR
VERSION:2.0
PRODID:-//Col. Paul Cook (Ret.) First District Supervisor - ECPv6.15.14//NONSGML v1.0//EN
CALSCALE:GREGORIAN
METHOD:PUBLISH
X-WR-CALNAME:Col. Paul Cook (Ret.) First District Supervisor
X-ORIGINAL-URL:https://bosd1.sbcounty.gov
X-WR-CALDESC:Events for Col. Paul Cook (Ret.) First District Supervisor
REFRESH-INTERVAL;VALUE=DURATION:PT1H
X-Robots-Tag:noindex
X-PUBLISHED-TTL:PT1H
BEGIN:VTIMEZONE
TZID:America/Los_Angeles
BEGIN:DAYLIGHT
TZOFFSETFROM:-0800
TZOFFSETTO:-0700
TZNAME:PDT
DTSTART:20220313T100000
END:DAYLIGHT
BEGIN:STANDARD
TZOFFSETFROM:-0700
TZOFFSETTO:-0800
TZNAME:PST
DTSTART:20221106T090000
END:STANDARD
BEGIN:DAYLIGHT
TZOFFSETFROM:-0800
TZOFFSETTO:-0700
TZNAME:PDT
DTSTART:20230312T100000
END:DAYLIGHT
BEGIN:STANDARD
TZOFFSETFROM:-0700
TZOFFSETTO:-0800
TZNAME:PST
DTSTART:20231105T090000
END:STANDARD
BEGIN:DAYLIGHT
TZOFFSETFROM:-0800
TZOFFSETTO:-0700
TZNAME:PDT
DTSTART:20240310T100000
END:DAYLIGHT
BEGIN:STANDARD
TZOFFSETFROM:-0700
TZOFFSETTO:-0800
TZNAME:PST
DTSTART:20241103T090000
END:STANDARD
END:VTIMEZONE
BEGIN:VEVENT
DTSTART;TZID=America/Los_Angeles:20231021T080000
DTEND;TZID=America/Los_Angeles:20231021T113000
DTSTAMP:20260420T001153
CREATED:20230919T173309Z
LAST-MODIFIED:20230919T174135Z
UID:10004391-1697875200-1697887800@bosd1.sbcounty.gov
SUMMARY:City of Victorville Fall Community Cleanup
DESCRIPTION:The City of Victorville holds two city-wide Community Cleanup Days will hold its next event on Oct. 21. The Victorville Community Cleanup Day is a fun way for families\, friends\, and coworkers to join together to take care of our desert environment\, show community support\, and keep Victorville a clean and beautiful place to live and work. The registration deadline is Oct. 6 at VictorvilleCA.gov/CCU. For sponsorship information\, call 760.955.3306 \nCommunity Cleanup Days are outdoor events and depend on volunteers to be successful. All volunteers must register\, which includes an event liability waiver. Minors can participate\, but must have parent/guardian permission and provide parent/guardian contact information. Volunteers aged 14 and younger must have a parent/guardian accompany them on the service project. High School volunteers (aged 15 through 17) may participate without a parent/guardian present\, but must be part of a school/civic group with adult supervision. Young children are not recommended at this event. \nVolunteers work in teams at multiple locations throughout the City from 8:00 a.m. to 11:30 a.m. to pick up litter from roadsides. Volunteers receive a free event t-shirt (while supplies last) and coupons for a discounted lunch at participating local restaurants. The City also provides volunteers with bottled water\, gloves\, trash bags\, and litter sticks. The City disposes of all the trash/litter collected.
URL:https://bosd1.sbcounty.gov/event/city-of-victorville-fall-community-cleanup/
LOCATION:Victorville City Hall\, 14343 Civic Drive\, Victorville\, CA\, 92395\, United States
CATEGORIES:Community Cleanups
ATTACH;FMTTYPE=image/jpeg:https://bosd1.sbcounty.gov/wp-content/uploads/sites/103/2023/09/Victorville-Community-Cleanup.jpg
END:VEVENT
BEGIN:VEVENT
DTSTART;TZID=America/Los_Angeles:20231021T080000
DTEND;TZID=America/Los_Angeles:20231021T130000
DTSTAMP:20260420T001153
CREATED:20230919T182242Z
LAST-MODIFIED:20230919T182242Z
UID:10004442-1697875200-1697893200@bosd1.sbcounty.gov
SUMMARY:Teen Human Trafficking Awareness Talk
DESCRIPTION:The San Bernardino County Sheriff’s Department is spreading the word about the dangers of human trafficking in our region with a Teen Human Trafficking Awareness Talk for parents and their children on Saturday\, Oct. 14 and 21. \nThe event will feature the Sheriff Department’s Human Trafficking Task Force\, parent advocate and mother Sylvia Lacy Miller\, and human trafficking expert and author Opal Singleton. \nThe goal is to provide middle and high school teens\, and their parents\, with tools necessary to maintain a healthy balance between real life and online life. Real examples of everyday teens who have fallen victim to sextortion\, exploitation\, online grooming\, and other internet related crimes will also be discussed. \nThe event will take place from 8 a.m. to 1 p.m. on Saturday Oct. 14 and Oct. 21 at Sheriff’s Headquarters\, 655 East Third Street\, San Bernardino.\nRegistration will be on a first-come first-serve basis. To register\, contact Erlinda Rogers at 840-587-4022 or erogers@sbcsd.org
URL:https://bosd1.sbcounty.gov/event/teen-human-trafficking-awareness-talk/2023-10-21/
LOCATION:Sheriff’s Headquarters\, 655 East Third Street\, San Bernardino\, CA\, 92415\, United States
CATEGORIES:Trainings
ATTACH;FMTTYPE=image/jpeg:https://bosd1.sbcounty.gov/wp-content/uploads/sites/103/2023/09/Human-Trafficking-Awareness-Talk.jpg
ORGANIZER;CN="San Bernardino County Sheriff's Department":MAILTO:paffairs@sbcsd.org
END:VEVENT
BEGIN:VEVENT
DTSTART;TZID=America/Los_Angeles:20231021T080000
DTEND;TZID=America/Los_Angeles:20231021T140000
DTSTAMP:20260420T001153
CREATED:20230921T172639Z
LAST-MODIFIED:20230921T172639Z
UID:10004505-1697875200-1697896800@bosd1.sbcounty.gov
SUMMARY:American Red Cross Fire Safety Event
DESCRIPTION:The American Red Cross is teaming up with volunteers and partners to sound the alarm with home fire safety and smoke alarm installation events. Volunteers are installing free smoke alarms in at-risk communities through the country. Join Red Cross\, Victorville Fire Department and community partners to educate residents and install alarms in Victorville. The event takes place from 8 a.m. to 2 p.m. Saturday\, Oct. 21. Victorville First Church of the Nazarene\, 13801 Rodeo Drive\, Victorville\, CA 92395.
URL:https://bosd1.sbcounty.gov/event/american-red-cross-fire-safety-event/
LOCATION:Victorville First Church of the Nazarene\, 13801 Rodeo Drive\,\, Victorville\, CA\, 92395\, United States
CATEGORIES:Trainings
ATTACH;FMTTYPE=image/jpeg:https://bosd1.sbcounty.gov/wp-content/uploads/sites/103/2023/09/Fire-Alarm-safety-class.jpg
ORGANIZER;CN="American Red Cross":MAILTO:socalregionrfl@redcross.org
END:VEVENT
BEGIN:VEVENT
DTSTART;TZID=America/Los_Angeles:20231021T100000
DTEND;TZID=America/Los_Angeles:20231021T150000
DTSTAMP:20260420T001153
CREATED:20231003T181234Z
LAST-MODIFIED:20231003T181306Z
UID:10004592-1697882400-1697900400@bosd1.sbcounty.gov
SUMMARY:16th Annual Paws n’ Claws Pet Fair
DESCRIPTION:Celebrate all things furry\, scaly and finned at the Annual Paws n’ Claws Pet Fair presented by the Town of Apple Valley Animal Services Department from 10 a.m. to 3 p.m. \nThis event gets bigger and better every year. Join other pet enthusiasts for demonstrations\, retail vendors\, snake avoidance training\, pet vaccines\, animal licensing\, microchip services\, contests\, prizes and more. \n 
URL:https://bosd1.sbcounty.gov/event/16th-annual-paws-n-claws-pet-fair/
LOCATION:Apple Valley Civic Center Park and Aquatic Center\, 14955 Dale Evans Parkway\, Apple Valley\, CA\, 92307\, United States
CATEGORIES:Community Events
ATTACH;FMTTYPE=image/jpeg:https://bosd1.sbcounty.gov/wp-content/uploads/sites/103/2023/10/Paws-n-Claws-Pet-Fair.jpg
ORGANIZER;CN="Apple Valley Parks &amp%3B Recreation":MAILTO:recreation@applevalley.org
END:VEVENT
BEGIN:VEVENT
DTSTART;TZID=America/Los_Angeles:20231021T100000
DTEND;TZID=America/Los_Angeles:20231021T190000
DTSTAMP:20260420T001153
CREATED:20230912T192151Z
LAST-MODIFIED:20230912T192830Z
UID:10004331-1697882400-1697914800@bosd1.sbcounty.gov
SUMMARY:2023 Oktoberfest at Mountain High
DESCRIPTION:Mountain High will host three weekends of Oktoberfest beginning Oct. 7 at its historic North Lodge. The free event draws thousands of visitors to Wrightwood each year\, with dozens of activities\, live music and authentic German food and beer. Among the activities are a kids cider relay\, pumpkin toss\, yodeling contest\, limbo contest\, keg roll\, stein holding contest and costume contest. For the kids\, there is also a bounce house\, hay bale maze\, rock climbing wall\, pumpkin patch and arts & crafts. The event runs from 10 a.m. to 7 p.m. Saturdays and Sundays through Oct 22. Due to overwhelming popularity and limited parking\, guests are encouraged to carpool with a designated driver. Parking is free.
URL:https://bosd1.sbcounty.gov/event/2023-oktoberfest-at-mountain-high/2023-10-21/
LOCATION:Mountain High Ski Resort North Lodge\, 24510 State Highway 2\, Wrightwood\, CA\, 92397\, United States
CATEGORIES:Community Events
ATTACH;FMTTYPE=image/jpeg:https://bosd1.sbcounty.gov/wp-content/uploads/sites/103/2023/09/Oktoberfest.jpg
END:VEVENT
BEGIN:VEVENT
DTSTART;TZID=America/Los_Angeles:20231021T120000
DTEND;TZID=America/Los_Angeles:20231021T190000
DTSTAMP:20260420T001153
CREATED:20230926T180252Z
LAST-MODIFIED:20230926T180252Z
UID:10004556-1697889600-1697914800@bosd1.sbcounty.gov
SUMMARY:Lone Wolf Colony's 3rd Annual Fall Festival
DESCRIPTION:Lone Wolf Colony’s 3rd annual Fall Festival is planned for the weekend of Oct. 21 and 22. This family-friendly event will include music\, games\, a haunted house\, food vendors\, shopping vendors\, bounce houses\, a beer garden and more. For more information\, please call 760-247-7878 or go to lonewolfcolony.org.
URL:https://bosd1.sbcounty.gov/event/lone-wolf-colonys-3rd-annual-fall-festival/2023-10-21/
LOCATION:Lone Wolf Colony\, 23200 Bear Valley Rd.\, Apple Valley\, CA\, 92308\, United States
CATEGORIES:Community Events
ATTACH;FMTTYPE=image/jpeg:https://bosd1.sbcounty.gov/wp-content/uploads/sites/103/2023/09/Lone-Wolf-Colony-Fall-Festival.jpg
ORGANIZER;CN="Lone Wolf Colony":MAILTO:lonewolfcolony@verizon.net
END:VEVENT
END:VCALENDAR