BEGIN:VCALENDAR
VERSION:2.0
PRODID:-//Col. Paul Cook (Ret.) First District Supervisor - ECPv6.15.14//NONSGML v1.0//EN
CALSCALE:GREGORIAN
METHOD:PUBLISH
X-ORIGINAL-URL:https://bosd1.sbcounty.gov
X-WR-CALDESC:Events for Col. Paul Cook (Ret.) First District Supervisor
REFRESH-INTERVAL;VALUE=DURATION:PT1H
X-Robots-Tag:noindex
X-PUBLISHED-TTL:PT1H
BEGIN:VTIMEZONE
TZID:America/Los_Angeles
BEGIN:DAYLIGHT
TZOFFSETFROM:-0800
TZOFFSETTO:-0700
TZNAME:PDT
DTSTART:20220313T100000
END:DAYLIGHT
BEGIN:STANDARD
TZOFFSETFROM:-0700
TZOFFSETTO:-0800
TZNAME:PST
DTSTART:20221106T090000
END:STANDARD
BEGIN:DAYLIGHT
TZOFFSETFROM:-0800
TZOFFSETTO:-0700
TZNAME:PDT
DTSTART:20230312T100000
END:DAYLIGHT
BEGIN:STANDARD
TZOFFSETFROM:-0700
TZOFFSETTO:-0800
TZNAME:PST
DTSTART:20231105T090000
END:STANDARD
BEGIN:DAYLIGHT
TZOFFSETFROM:-0800
TZOFFSETTO:-0700
TZNAME:PDT
DTSTART:20240310T100000
END:DAYLIGHT
BEGIN:STANDARD
TZOFFSETFROM:-0700
TZOFFSETTO:-0800
TZNAME:PST
DTSTART:20241103T090000
END:STANDARD
END:VTIMEZONE
BEGIN:VEVENT
DTSTART;TZID=America/Los_Angeles:20231020T073000
DTEND;TZID=America/Los_Angeles:20231020T130000
DTSTAMP:20260420T034000
CREATED:20230915T192742Z
LAST-MODIFIED:20230915T192742Z
UID:10004382-1697787000-1697806800@bosd1.sbcounty.gov
SUMMARY:High Desert Education Summit
DESCRIPTION:The High Desert Education Summit fosters collaboration and innovation among community leaders\, industry experts\, and educators to improve educational outcomes in the High Desert region. This event will include several breakouts\, including: \nState Of The College Presentation\nJoin us for an exclusive State of The College Presentation from College leadership. \nRegional Updates\nCity leaders share more on upcoming projects\, collaborations\, and efforts. \nNetworking Opportunities\nThe Greater High Desert Chamber of Commerce hosts the Exhibit Hall at Victor Valley College this year. A perfect chance to network alongside community businesses and organizations. \nKeynote Speaker\nGet empowered by listening to an inspiring speaker. Previous speakers have included Magic Johnson\, Barbara Cocoran\, J.R. Martinez\, and Melissa Stockwell.
URL:https://bosd1.sbcounty.gov/event/high-desert-education-summit/
LOCATION:Victor Valley College\, 18422 Bear Valley Rd.\, Victorville\, CA\, 92395\, United States
CATEGORIES:Community Events
ATTACH;FMTTYPE=image/jpeg:https://bosd1.sbcounty.gov/wp-content/uploads/sites/103/2023/09/networking.jpg
END:VEVENT
BEGIN:VEVENT
DTSTART;TZID=America/Los_Angeles:20231020T100000
DTEND;TZID=America/Los_Angeles:20231020T120000
DTSTAMP:20260420T034000
CREATED:20230919T175544Z
LAST-MODIFIED:20230919T175544Z
UID:10004406-1697796000-1697803200@bosd1.sbcounty.gov
SUMMARY:Victor Valley Transit Authority's 30th Anniversary
DESCRIPTION:Save the date for Victor Valley Transit Authority’s 30th anniversary on Friday\, Oct. 20. The event will take place from 10 a.m. until noon at the Hesperia location at 17150 Smoke Tree Street. Enjoy presentations\, proclamations\, refreshments and facility tours! For more information\, call Chris Ackerman at 760-559-5185 or email cackerman@vvta.org.
URL:https://bosd1.sbcounty.gov/event/victor-valley-transit-authoritys-30th-anniversary/
LOCATION:Victor Valley Transit Authority\, 17150 Smoke Tree Street\, Hesperia\, CA\, United States
CATEGORIES:Community Events
ATTACH;FMTTYPE=image/jpeg:https://bosd1.sbcounty.gov/wp-content/uploads/sites/103/2023/09/VVTA-30th-Anniversary.jpg
END:VEVENT
END:VCALENDAR