BEGIN:VCALENDAR
VERSION:2.0
PRODID:-//Col. Paul Cook (Ret.) First District Supervisor - ECPv6.15.14//NONSGML v1.0//EN
CALSCALE:GREGORIAN
METHOD:PUBLISH
X-ORIGINAL-URL:https://bosd1.sbcounty.gov
X-WR-CALDESC:Events for Col. Paul Cook (Ret.) First District Supervisor
REFRESH-INTERVAL;VALUE=DURATION:PT1H
X-Robots-Tag:noindex
X-PUBLISHED-TTL:PT1H
BEGIN:VTIMEZONE
TZID:UTC
BEGIN:STANDARD
TZOFFSETFROM:+0000
TZOFFSETTO:+0000
TZNAME:UTC
DTSTART:20220101T000000
END:STANDARD
END:VTIMEZONE
BEGIN:VTIMEZONE
TZID:America/Los_Angeles
BEGIN:DAYLIGHT
TZOFFSETFROM:-0800
TZOFFSETTO:-0700
TZNAME:PDT
DTSTART:20220313T100000
END:DAYLIGHT
BEGIN:STANDARD
TZOFFSETFROM:-0700
TZOFFSETTO:-0800
TZNAME:PST
DTSTART:20221106T090000
END:STANDARD
BEGIN:DAYLIGHT
TZOFFSETFROM:-0800
TZOFFSETTO:-0700
TZNAME:PDT
DTSTART:20230312T100000
END:DAYLIGHT
BEGIN:STANDARD
TZOFFSETFROM:-0700
TZOFFSETTO:-0800
TZNAME:PST
DTSTART:20231105T090000
END:STANDARD
BEGIN:DAYLIGHT
TZOFFSETFROM:-0800
TZOFFSETTO:-0700
TZNAME:PDT
DTSTART:20240310T100000
END:DAYLIGHT
BEGIN:STANDARD
TZOFFSETFROM:-0700
TZOFFSETTO:-0800
TZNAME:PST
DTSTART:20241103T090000
END:STANDARD
END:VTIMEZONE
BEGIN:VEVENT
DTSTART;TZID=UTC:20231012T080000
DTEND;TZID=UTC:20231012T120000
DTSTAMP:20260420T160914
CREATED:20230516T031957Z
LAST-MODIFIED:20231115T175628Z
UID:10004127-1697097600-1697112000@bosd1.sbcounty.gov
SUMMARY:High Desert Farmers Market
DESCRIPTION:From our farmers’ gardens to you\, Since 1992. Every Thursday\, year-round\, rain or shine!
URL:https://bosd1.sbcounty.gov/event/high-desert-farmers-market/2023-10-12/
LOCATION:Victor Valley College\, 18422 Bear Valley Rd.\, Victorville\, CA\, 92395\, United States
CATEGORIES:Farmers Markets
ATTACH;FMTTYPE=image/jpeg:https://bosd1.sbcounty.gov/wp-content/uploads/sites/103/2023/05/FarmersMarket1.jpg
END:VEVENT
BEGIN:VEVENT
DTSTART;TZID=America/Los_Angeles:20231012T120000
DTEND;TZID=America/Los_Angeles:20231012T140000
DTSTAMP:20260420T160914
CREATED:20231005T181553Z
LAST-MODIFIED:20231005T181553Z
UID:10004610-1697112000-1697119200@bosd1.sbcounty.gov
SUMMARY:Senior Intergenerational Activity & Luncheon
DESCRIPTION:The Victor Valley Community Services Council will host its next free Intergenerational Activity & Luncheon at noon on Thursday\, Oct. 12. Doors open at 11:30 a.m. \nJoin the Council for a delicious catered lunch followed by Bingo with great prizes. The Intergenerational Activities are open to all ages. Seniors may bring along friends\, neighbors\, children\, grandchildren and great grandchildren! Space is limited\, reservations are required. Call 760-243-9646 to reserve your spot. Free transportation is also provided.
URL:https://bosd1.sbcounty.gov/event/senior-intergenerational-activity-luncheon/
LOCATION:Victor Valley Community Services Council\, 16692 Mojave Drive\, Victorville\, CA\, 92395\, United States
CATEGORIES:Community Events
ATTACH;FMTTYPE=image/jpeg:https://bosd1.sbcounty.gov/wp-content/uploads/sites/103/2023/10/Intergenerational-Activity.jpg
ORGANIZER;CN="Victor Valley Community Services Council":MAILTO:vvcsc@vvcsc.com
END:VEVENT
END:VCALENDAR