BEGIN:VCALENDAR
VERSION:2.0
PRODID:-//Col. Paul Cook (Ret.) First District Supervisor - ECPv6.15.14//NONSGML v1.0//EN
CALSCALE:GREGORIAN
METHOD:PUBLISH
X-ORIGINAL-URL:https://bosd1.sbcounty.gov
X-WR-CALDESC:Events for Col. Paul Cook (Ret.) First District Supervisor
REFRESH-INTERVAL;VALUE=DURATION:PT1H
X-Robots-Tag:noindex
X-PUBLISHED-TTL:PT1H
BEGIN:VTIMEZONE
TZID:America/Los_Angeles
BEGIN:DAYLIGHT
TZOFFSETFROM:-0800
TZOFFSETTO:-0700
TZNAME:PDT
DTSTART:20220313T100000
END:DAYLIGHT
BEGIN:STANDARD
TZOFFSETFROM:-0700
TZOFFSETTO:-0800
TZNAME:PST
DTSTART:20221106T090000
END:STANDARD
BEGIN:DAYLIGHT
TZOFFSETFROM:-0800
TZOFFSETTO:-0700
TZNAME:PDT
DTSTART:20230312T100000
END:DAYLIGHT
BEGIN:STANDARD
TZOFFSETFROM:-0700
TZOFFSETTO:-0800
TZNAME:PST
DTSTART:20231105T090000
END:STANDARD
BEGIN:DAYLIGHT
TZOFFSETFROM:-0800
TZOFFSETTO:-0700
TZNAME:PDT
DTSTART:20240310T100000
END:DAYLIGHT
BEGIN:STANDARD
TZOFFSETFROM:-0700
TZOFFSETTO:-0800
TZNAME:PST
DTSTART:20241103T090000
END:STANDARD
END:VTIMEZONE
BEGIN:VEVENT
DTSTART;TZID=America/Los_Angeles:20231011T080000
DTEND;TZID=America/Los_Angeles:20231011T123000
DTSTAMP:20260420T160913
CREATED:20230919T185544Z
LAST-MODIFIED:20230919T185544Z
UID:10004454-1697011200-1697027400@bosd1.sbcounty.gov
SUMMARY:Mojave Water Agency Mini Tour
DESCRIPTION:Mojave Water Agency’s Second Mini Tour is taking place on Wednesday\, October 11! Join the agency for a fun-filled and educational day departing from the Deep Creek Operations Center in Apple Valley on a short tour to the Antelope Siphon Facility in Hesperia. This FREE educational event will include agency speakers and the opportunity to network with other community members. Lunch will also be provided. The Operations Center is located at 7620 Deep Creek Road in Apple Valley.
URL:https://bosd1.sbcounty.gov/event/mojave-water-agency-mini-tour/
LOCATION:Mojave Water Operations Center\, 7620 Deep Creek Road\, Apple Valley\, CA\, United States
CATEGORIES:Community Events
ATTACH;FMTTYPE=image/jpeg:https://bosd1.sbcounty.gov/wp-content/uploads/sites/103/2023/09/Mojave-Water-Agency-Tour.jpg
ORGANIZER;CN="Mojave Water Agency":MAILTO:ksousa@mojavewater.org
END:VEVENT
BEGIN:VEVENT
DTSTART;TZID=America/Los_Angeles:20231011T090000
DTEND;TZID=America/Los_Angeles:20231011T110000
DTSTAMP:20260420T160913
CREATED:20230912T181752Z
LAST-MODIFIED:20230912T181752Z
UID:10004229-1697014800-1697022000@bosd1.sbcounty.gov
SUMMARY:Senior Mobile Pantry Program
DESCRIPTION:Seniors who reside in San Bernardino County and need supplemental food assistance may be eligible to participate in food distributions through the Senior Mobile Pantry program\, which is held the second Wednesday of every month. \nFood kits vary and may provide a selection of fruit\, juice\, vegetables\, milk\, cheese\, grains and protein. Participants should bring a grocery push cart for quick loading. \nIf you would like a free ride to the next monthly Senior Food Pantry Distribution\, call Victor Valley Community Services Council at 760-243-9646.
URL:https://bosd1.sbcounty.gov/event/senior-mobile-pantry-program/2023-10-11/
LOCATION:High Desert Second Chance\, 16666 Smoke Tree Street\, Hesperia\, CA\, 92345\, United States
CATEGORIES:Community Events
ATTACH;FMTTYPE=image/jpeg:https://bosd1.sbcounty.gov/wp-content/uploads/sites/103/2023/09/Food-Bank.jpg
END:VEVENT
BEGIN:VEVENT
DTSTART;TZID=America/Los_Angeles:20231011T093000
DTEND;TZID=America/Los_Angeles:20231011T123000
DTSTAMP:20260420T160913
CREATED:20231005T185708Z
LAST-MODIFIED:20231005T185708Z
UID:10004616-1697016600-1697027400@bosd1.sbcounty.gov
SUMMARY:Free CPR Class
DESCRIPTION:Save the date for October 11\, when the IEHP Community Resource Center-Victorville hosts its free monthly CPR class. The training includes adult\, child and infant CPR; First Aid\, AED\, 2-Year AHA Certification; Same Day Certification. The class is open to ages 15 and up. \nThere are only 30 spots available for each class. Registration begins 1 hour before each class\, filled on a first-come\, first-served basis. \nA Spanish class follows at 1:30 p.m. the same day.
URL:https://bosd1.sbcounty.gov/event/free-cpr-class/
LOCATION:IEHP Community Resource Center\, 12353 Mariposa Rd\, Victorville\, CA\, 92395\, United States
CATEGORIES:Trainings
ATTACH;FMTTYPE=image/jpeg:https://bosd1.sbcounty.gov/wp-content/uploads/sites/103/2023/10/CPR.jpg
END:VEVENT
BEGIN:VEVENT
DTSTART;TZID=America/Los_Angeles:20231011T110000
DTEND;TZID=America/Los_Angeles:20231011T150000
DTSTAMP:20260420T160913
CREATED:20230919T174948Z
LAST-MODIFIED:20231109T182502Z
UID:10004394-1697022000-1697036400@bosd1.sbcounty.gov
SUMMARY:Second Saturdays at Victor Valley Museum
DESCRIPTION:Victor Valley Museum invites the community to participate in its Second Saturdays events. Second Saturdays is a day that offers hands-on art workshops for the entire family. The themes change monthly\, so visit the website at https://museum.sbcounty.gov for details. The program runs from 11 a.m. to 3 p.m.
URL:https://bosd1.sbcounty.gov/event/second-saturdays-at-victor-valley-museum/2023-10-11/
LOCATION:Victor Valley Museum\, 11873 Apple Valley Road\, Apple Valley\, CA\, 92308\, United States
CATEGORIES:Community Events
ATTACH;FMTTYPE=image/jpeg:https://bosd1.sbcounty.gov/wp-content/uploads/sites/103/2023/09/Second-Saturdays.jpg
END:VEVENT
END:VCALENDAR