BEGIN:VCALENDAR
VERSION:2.0
PRODID:-//Col. Paul Cook (Ret.) First District Supervisor - ECPv6.15.14//NONSGML v1.0//EN
CALSCALE:GREGORIAN
METHOD:PUBLISH
X-WR-CALNAME:Col. Paul Cook (Ret.) First District Supervisor
X-ORIGINAL-URL:https://bosd1.sbcounty.gov
X-WR-CALDESC:Events for Col. Paul Cook (Ret.) First District Supervisor
REFRESH-INTERVAL;VALUE=DURATION:PT1H
X-Robots-Tag:noindex
X-PUBLISHED-TTL:PT1H
BEGIN:VTIMEZONE
TZID:America/Los_Angeles
BEGIN:DAYLIGHT
TZOFFSETFROM:-0800
TZOFFSETTO:-0700
TZNAME:PDT
DTSTART:20220313T100000
END:DAYLIGHT
BEGIN:STANDARD
TZOFFSETFROM:-0700
TZOFFSETTO:-0800
TZNAME:PST
DTSTART:20221106T090000
END:STANDARD
BEGIN:DAYLIGHT
TZOFFSETFROM:-0800
TZOFFSETTO:-0700
TZNAME:PDT
DTSTART:20230312T100000
END:DAYLIGHT
BEGIN:STANDARD
TZOFFSETFROM:-0700
TZOFFSETTO:-0800
TZNAME:PST
DTSTART:20231105T090000
END:STANDARD
BEGIN:DAYLIGHT
TZOFFSETFROM:-0800
TZOFFSETTO:-0700
TZNAME:PDT
DTSTART:20240310T100000
END:DAYLIGHT
BEGIN:STANDARD
TZOFFSETFROM:-0700
TZOFFSETTO:-0800
TZNAME:PST
DTSTART:20241103T090000
END:STANDARD
END:VTIMEZONE
BEGIN:VEVENT
DTSTART;TZID=America/Los_Angeles:20231111T083000
DTEND;TZID=America/Los_Angeles:20231111T110000
DTSTAMP:20260419T125451
CREATED:20230919T172233Z
LAST-MODIFIED:20230919T172233Z
UID:21921-1699691400-1699700400@bosd1.sbcounty.gov
SUMMARY:Victorville's 27th Annual Veterans Day Celebration
DESCRIPTION:The City of Victorville is preparing for its 27th Annual Veterans Day Celebration on Nov. 11\, and they want to honor all Victorville Veterans! Please let them know about a Veteran you know and love so they can honor them during the ceremony.  Veteran Information Forms and Parade Entry Applications are due by Oct. 6. Submit your information and learn more at VictorvilleCA.gov/VeteransDay. \nThe celebration will take place in Old Town Victorville and can be viewed from 7th Street and Forrest Avenue. The event begins with a Freedom Mile Run at 8:45 a.m. This fun run is free\, and participants will receive a commemorative t-shirt while supplies last. \nThe Veterans Day Parade will begin at the corner of 7th Street and Tracy Street at 9 a.m. and proceed to the corner of 7th Street and Forrest Avenue where the ceremony will take place immediately following the conclusion of the parade.
URL:https://bosd1.sbcounty.gov/event/victorvilles-27th-annual-veterans-day-celebration/
LOCATION:Old Town Victorville\, 15451 7th St.\, Victorville\, CA\, 92395\, United States
CATEGORIES:Community Events
ATTACH;FMTTYPE=image/jpeg:https://bosd1.sbcounty.gov/wp-content/uploads/sites/103/2023/09/Victorville-Veterans-Day.jpg
END:VEVENT
END:VCALENDAR