BEGIN:VCALENDAR
VERSION:2.0
PRODID:-//Col. Paul Cook (Ret.) First District Supervisor - ECPv6.15.14//NONSGML v1.0//EN
CALSCALE:GREGORIAN
METHOD:PUBLISH
X-WR-CALNAME:Col. Paul Cook (Ret.) First District Supervisor
X-ORIGINAL-URL:https://bosd1.sbcounty.gov
X-WR-CALDESC:Events for Col. Paul Cook (Ret.) First District Supervisor
REFRESH-INTERVAL;VALUE=DURATION:PT1H
X-Robots-Tag:noindex
X-PUBLISHED-TTL:PT1H
BEGIN:VTIMEZONE
TZID:America/Los_Angeles
BEGIN:DAYLIGHT
TZOFFSETFROM:-0800
TZOFFSETTO:-0700
TZNAME:PDT
DTSTART:20230312T100000
END:DAYLIGHT
BEGIN:STANDARD
TZOFFSETFROM:-0700
TZOFFSETTO:-0800
TZNAME:PST
DTSTART:20231105T090000
END:STANDARD
BEGIN:DAYLIGHT
TZOFFSETFROM:-0800
TZOFFSETTO:-0700
TZNAME:PDT
DTSTART:20240310T100000
END:DAYLIGHT
BEGIN:STANDARD
TZOFFSETFROM:-0700
TZOFFSETTO:-0800
TZNAME:PST
DTSTART:20241103T090000
END:STANDARD
BEGIN:DAYLIGHT
TZOFFSETFROM:-0800
TZOFFSETTO:-0700
TZNAME:PDT
DTSTART:20250309T100000
END:DAYLIGHT
BEGIN:STANDARD
TZOFFSETFROM:-0700
TZOFFSETTO:-0800
TZNAME:PST
DTSTART:20251102T090000
END:STANDARD
END:VTIMEZONE
BEGIN:VEVENT
DTSTART;TZID=America/Los_Angeles:20241106T150000
DTEND;TZID=America/Los_Angeles:20241106T170000
DTSTAMP:20260419T072300
CREATED:20241105T191227Z
LAST-MODIFIED:20241105T191227Z
UID:29260-1730905200-1730912400@bosd1.sbcounty.gov
SUMMARY:Survivors Speak: Prevention Works
DESCRIPTION:A compelling art exhibition from Partners Against Violence\, “Survivors Speak: Prevention Works\,” will be on display at the Victor Valley Museum from Nov. 6-Dec. 29. \nThis powerful exhibit aims to raise awareness about sexual assault and promote prevention efforts. Through art\, the exhibition explores the experiences of survivors\, the impact of sexual violence\, and inspires conversations about healing and creating a safer future. \nA special opening night reception happens from 3-5 p.m. Nov. 6. The event includes a tour exhibit\, food & beverage reception\, and a survivor speech. \nThe 24/7 Crisis Hotline run by Partners Against Violence (909-885-8884) is available for anyone seeking support. Visit their website or social media for more information on their work to build healthy relationships and violence-free communities. \nGet tickets here.
URL:https://bosd1.sbcounty.gov/event/survivors-speak-prevention-works/
LOCATION:Victor Valley Museum\, 11873 Apple Valley Road\, Apple Valley\, CA\, 92308\, United States
CATEGORIES:Museums
ATTACH;FMTTYPE=image/jpeg:https://bosd1.sbcounty.gov/wp-content/uploads/sites/103/2024/11/survivors-speaks.jpg
END:VEVENT
END:VCALENDAR